{"text_format":"1","workbook":"xlsx","n_sheets":2,"sheets":["Simulador","Cronograma"],"not_rendered":{"charts":0,"images":4,"macros":1,"external_links":0,"defined_names":1,"comments":0,"pivot_tables":0},"unopened":[],"bounds":{"document_bytes":16777216,"sheet_cells":100000,"rows_first":2000,"rows_last":500,"rows_between":2000,"halvings":0,"cell_chars":16384,"cell_head_chars":4096},"cells_cut":0,"cells_raw":0,"read":"whole","date_system":"1900"}

{"sheet":"Simulador","index":0,"n_rows":65,"n_cols":23,"rows_kept":65,"cut":false,"hidden":false,"merged":[[64,1,64,9],[51,1,51,4],[49,1,49,4],[49,7,49,9],[47,1,47,4],[53,1,53,4],[55,1,55,4],[55,5,55,6],[51,5,51,6],[9,5,9,6],[27,5,27,6],[53,5,53,6],[49,5,49,6],[22,5,22,6],[47,5,47,6],[45,5,45,6],[43,5,43,6],[41,5,41,6],[16,5,16,6],[39,5,39,6],[18,5,18,6],[20,5,20,6],[9,1,9,4],[41,1,41,4],[43,1,43,4],[11,1,11,4],[45,1,45,4],[27,1,27,4],[16,1,16,4],[39,1,39,4],[18,1,18,4],[29,1,29,4],[20,1,20,4],[11,7,15,9],[37,1,37,4],[37,5,37,6],[11,5,11,6],[22,1,22,4],[13,1,13,4],[14,1,14,4],[13,5,13,6],[19,1,19,4],[19,5,19,6],[29,5,29,6],[34,1,34,4],[34,5,34,6]]}
[]
[null,null,null,null,null,null,null,null,null,null,{"$f":"7.5%*F12","v":0}]
[null,null,null,null,null,null,null,null,null,null,null,null,null,{"$f":"+IF(F23=\"Cuota fuera del rango\",\"Cuota fuera del rango\",IF(F12<F17+F38,\"Cuota fuera de rango\",F17))","v":{"$error":"#VALUE!"}}]
[]
[null,null,null,null,null,null,null,null,null,null,null,{"$f":"M11*F12","v":0}]
[]
[null,null,null,null,null,null,null,null,null,null,null,null,{"$f":"+IF(F23=\"Cuota fuera del rango\",\"Cuota fuera del rango\",IF(F12<F17+F38,\"Cuota fuera de rango\",F17))","v":{"$error":"#VALUE!"}}]
[]
[null,null,null,null,null,null,null,null,null,null,null,68800,244600,null,{"$f":"+F17+F38","v":{"$error":"#VALUE!"}}]
[null,"Moneda",null,null,null,"SOLES",null,null,null,null,{"$f":"IF(AND(($F$12>=68800),($F$12<=488800)),F12,\"Fuera de Rango\")","v":"Fuera de Rango"},244600,362100,null,{"$f":"+F12","v":0}]
[null,null,null,null,null,null,null,null,null,null,null,362100,488800]
[null,"Valor de Vivienda₁ (S/)"]
[null,null,null,null,null,null,null,null,null,null,null,null,null,null,null,{"$f":"+F17+F38","v":{"$error":"#VALUE!"}}]
[null,"¿Ha recibido anteriormente apoyo",null,null,null,"No",null,null,null,null,null,null,{"$f":"IF(AND(F14=\"Sí\",F17>=(0.1*F12)),\"ok\",\"ERROR\")","v":"ERROR"},null,null,{"$f":"+P13/F12","v":{"$error":"#VALUE!"}}]
[null,"habitacional?"]
[null,null,null,null,null,null,null,null,null,null,null,null,null,null,null,null,null,null,null,null,{"$f":"65200-25700","v":39500}]
[null,"Cuota Inicial₂ (S/)",null,null,null,null,null,null,null,null,null,null,7.4999999999999997E-2,0.1]
[null,null,null,null,null,null,null,null,null,null,null,null,0.3,1]
[null,"*Cuota hasta S/ 244600",null,null,null,{"$f":"IF(AND(($F$12>=L9),($F$12<=M9),($F$17>=(M17*$F$12)),L40=\"ok\",L29=\"ok\"),\"ok\",\"ERROR\")","v":{"$error":"#DIV/0!"}},null,null,null,null,null,{"$f":"+M18*F12","v":0},null,{"$f":"+L19-3200","v":-3200},null,{"$f":"+(F12*0.3)-3200","v":-3200}]
[null,"*Cuota hasta S/ 362100",null,null,null,{"$f":"IF(AND((F12>M9),(F12<=M10),(F17>=(M17*F12)),IF(F14=\"No\",F17<=M11*F12),L29=\"ok\"),\"ok\",IF(F14=\"Sí\",M14,\"ERROR\"))","v":{"$error":"#DIV/0!"}}]
[null,"*Cuota hasta S/ 488800",null,null,null,{"$f":"IF(AND((F12>L11),(F12<=M11),(F17>=(N17*F12)),IF(F14=\"No\",F17<=M11*F12),L29=\"ok\"),\"ok\",IF(F14=\"Sí\",M14,\"ERROR\"))","v":{"$error":"#DIV/0!"}}]
[]
[null,"% de cuota inicial",null,null,null,{"$f":"IF(F12=\"\",\"\",IF(F17=\"\",\"\",IF(F19=\"ok\",F17/F12,IF(F20=\"ok\",F17/F12,IF(F21=\"ok\",F17/F12,\"Cuota fuera del rango\")))))","v":""},null,null,null,null,null,null,98100,27400]
[null,null,null,null,null,null,null,null,null,null,null,null,146900,22800]
[null,null,null,null,null,null,null,null,null,null,null,{"$f":"IF((F23=\"Cuota fuera del rango\"),\"Cuota fuera de rango\",IF((F12<=(F17+F28)),\"Cuota fuera del rango\",F17))","v":{"$error":"#VALUE!"}},null,20900]
[null,null,null,null,null,null,null,null,null,null,null,null,null,7800]
[]
[null,"Bono del Buen Pagador (BBP)₃ (S/)",null,null,null,{"$f":"IF(F23=\"Cuota fuera del rango\",\"Cuota fuera del rango\",IF(F17=\"\",\"\",IF(F14=\"no\",IF(AND(F12>=L9,F12<=M23),N23,IF(AND(F12>M23,F12<=M24),N24,IF(AND(F12>M24,F12<=M9),N25,IF(AND(F12>L10,F12<=L11),N26,\"0\")))),\"0\")))","v":""}]
[null,null,null,null,null,null,null,null,null,null,null,{"$f":"IF(AND(F14=\"Sí\",(F17/F12)>=10%),\"ok\",IF(F14=\"No\",\"Ok\",\"ERROR\"))","v":{"$error":"#DIV/0!"}},null,null,null,null,null,null,null,null,null,null,{"$f":"+IF(F40<=485,\"mayor a 100%\")","v":false}]
[null,"¿La vivienda es sostenible?₄",null,null,null,"Sí",null,null,null,null,null,null,null,null,null,null,null,null," "]
[null,null,null,null,null,null,null,null,null,null,null,null,{"$f":"F17+F28>=(10%*F12)","v":{"$error":"#VALUE!"}},null,108000]
[]
[]
[null,null,null,null,null,null,null,null,null,{"$f":"IF(AND(J24>=57500,J24<=82200),\"S/.17,500\",IF(AND(J24>82200,J24<=123200),\"S/.14,400\",IF(AND(J24>123200,J24<=205300),\"S/.12,900\",IF(AND(J24>205300,J24<=304100),\"S/.6,200\",\"\"))))","v":""},null,null,null,{"$f":"IF(AND(N24>=57500,N24<=82200),\"S/.17,500\",IF(AND(N24>82200,N24<=123200),\"S/.14,400\",IF(AND(N24>123200,N24<=205300),\"S/.12,900\",IF(AND(N24>205300,N24<=304100),\"S/.6,200\",\"\"))))","v":""}]
[null,"¿Aplica al BBP Integrador?₅",null,null,null,"Sí",null,null,null,null,null,{"$f":"IF(F17+F28>(10%*F12),F40,\"Más Aporte\")","v":{"$error":"#VALUE!"}}]
[null,null,null,null,null,null,null,{"$f":"$F$12-$F$17-$F$28","v":{"$error":"#VALUE!"}},{"$f":"0.9*F12","v":0}]
[]
[null,"Total BBP ",null,null,null,{"$f":"IFERROR(IF(F28=\"0\",\"0\",IF(F23=\"Cuota fuera del rango\",\"Cuota fuera del rango\",IF(AND(F14=\"No\",F30=\"Sí\",F35=\"No\"),6300+F28,IF(AND(F14=\"No\",F30=\"Sí\",F35=\"Sí\"),6300+3600+F28,IF(AND(F14=\"No\",F30=\"No\",F35=\"Sí\"),3600+F28,F28))))),\"\")","v":""},{"$f":"IF(#REF!=\"No\",5000,0)","v":{"$error":"#REF!"}}]
[]
[null,"Monto a financiar (S/)",null,null,null,{"$f":"IFERROR(IF(L54=\"cuota fuera de rango\",\"cuota fuera de rango\",IF($F$12=\"\",\"\",IF($F$17=\"\",\"\",IF($F$23=\"Cuota fuera del rango\",\"Cuota fuera del rango\",IF($F$12<>\"\",IF(($F$12-$F$17),IF($F$38=\"\",\"\",($F$12-$F$17-$F$28)))))))),\"\")","v":""},null,null,null,null,null,{"$f":"IF((F12-F17)>0,\"ok\",\"error\")","v":"error"},{"$f":"IF((F12-F17)<0.3,\"ok\",\"error\")","v":"ok"}]
[]
[null,"Tasa Efectiva Anual₆",null,null,null,null,null,null,null,null,null,null,null,null,70000]
[null,null,null,null,null,null,null,null,null,null,null,{"$f":"F40","v":""},{"$f":"F12-F17-F38","v":{"$error":"#VALUE!"}},null,10800]
[null,"Tasa Efectiva Mensual",null,null,null,{"$f":"(1+F42)^(30/360)-1","v":0}]
[]
[null,"Seguro Degravamen Mensual₇",null,null,null,3.5E-4,null,null,null,null,null,null,null,null,15900]
[null,null,null,null,null,null,null,null,null,null,null,null,null,null,{"$f":"SUM(O42:O46)","v":96700},{"$f":"+O47/300000","v":0.32233333333333336}]
[null,"Seguro de Inmueble Anual₈",null,null,null,3.0000000000000001E-3,null,null,null,null,{"$f":"+IF(F23=\"Cuota fuera del rango\",\"Cuota fuera del rango\",IF(F12<F17+F38,\"Cuota fuera de rango\",F17))","v":{"$error":"#VALUE!"}},null,null,null,null,null,null,null,null,null,null,{"$f":"RATE($F$50,Cronograma!I10,-$F$40)","v":{"$error":"#VALUE!"}}]
[]
[null,"Plazo (en meses)₉",null,null,null,null,null,null,null,null,null,{"$f":"(F12-F17-F38)/F12","v":{"$error":"#VALUE!"}}]
[]
[null,"Tasa Costo Efectiva Mensual",null,null,null,{"$f":"IF(F12=\"\",\"\",IF(F23=\"Cuota fuera del rango\",\"Cuota fuera del rango\",IF($F$50<>\"\",RATE($F$50,Cronograma!I10,-$F$40),\"\")))","v":""}]
[]
[null,"Tasa Costo Efectiva Anual",null,null,null,{"$f":"IFERROR(IF(F12=\"\",\"\",IF(F23=\"Cuota fuera del rango\",\"Cuota fuera del rango\",IF($F$50<>\"\",((1+$F$52)^(360/30)-1),\"\"))),IF(W29=\"mayor a 100%\",\"mayor a 100%\"))","v":""},null,null,null,null,null,{"$f":"+IF(L50>0.9,\"cuota fuera de rango\")","v":{"$error":"#VALUE!"}}]
[null,null,null,null,null,null,null,null,{"$f":"IF(AND(I49>=57500,I49<=82200),\"S/.17,500\",IF(AND(I49>82200,I49<=123200),\"S/.14,400\",IF(AND(I49>123200,I49<=205300),\"S/.12,900\",IF(AND(I49>205300,I49<=304100),\"S/.6,200\",\"\"))))","v":""}]
[null,"Cuota Mensual (S/)",null,null,null,{"$f":"IFERROR(IF(F12=\"\",\"\",IF(F23=\"cuota fuera del rango\",\"cuota fuera del rango\",IF($F$12>0,Cronograma!I10,\"\"))),\"cuota fuera de rango\")","v":""},null,null,null,null,null,null,null,"cuota fuera de rango"]
[null,null,null,null,null,null,null,null,null,{"$f":"IF(AND(J51>=57500,J51<=82200),\"S/.17,500\",IF(AND(J51>82200,J51<=123200),\"S/.14,400\",IF(AND(J51>123200,J51<=205300),\"S/.12,900\",IF(AND(J51>205300,J51<=304100),\"S/.6,200\",\"\"))))","v":""},null,{"$f":"+IF(OR(M43<0,L54=\"cuota fuera de rango\"),\"cuota fuera de rango\")","v":{"$error":"#VALUE!"}}]
[]
[]
[]
[]
[]
[null,"*De cancelar antes del 5to año, se devolverá el BBP + los intereses legales generados"]
[null,"**Al segundo crédito no se aplica el BBP"]
[null,"***Para mayor información sobre productos en nuestra página web www.mivivienda.com.pe en el enlace \"personas en busca de vivienda\" o en nuestra vía telefónica gratuita : 0800-12200"]

{"sheet":"Cronograma","index":1,"n_rows":309,"n_cols":11,"rows_kept":309,"cut":false,"hidden":true,"merged":[[7,10,10,13],[0,1,0,6]]}
[null,"La tasa y monto brindado son referenciales, no aseguran la calificacion a un crédito hipotecario."]
[]
[]
[]
[]
[]
[]
[null,"Periodo","Saldo Inicial","Amortización","Intereses","Seguro Desgravamen","Seguro de Inmueble","Saldo Final","Cuota Mensual",null,{"$f":"IF(Simulador!F56<>\"\",\"Consulta aquí a qué entidades financeras podrás solicitar tu crédito\",\"\")","v":""}]
[null,0,{"$f":"IF(Simulador!F40=\"Cuota fuera del rango\",\"\",Simulador!F40)","v":""}]
[null,{"$f":"IF(B9<Simulador!$F$50,B9+1,\"\")","v":""},{"$f":"IF(B9<Simulador!$F$50,$C$9,\"\")","v":""},{"$f":"IF(Tabla1[[#This Row],[Periodo]]=\"\",\"\",IF(B10<=Simulador!$F$50,PPMT(Simulador!$F$44+Simulador!$F$46,Cronograma!B10,Simulador!$F$50,-Simulador!$F$40),\"\"))","v":""},{"$f":"IF(B9<Simulador!$F$50,(IPMT(Simulador!$F$44+Simulador!$F$46,Tabla1[[#This Row],[Periodo]],Simulador!$F$50,-Simulador!$F$40)-Tabla1[[#This Row],[Seguro Desgravamen]]),\"\")","v":""},{"$f":"IF(B9<Simulador!$F$50,C10*Simulador!$F$46,\"\")","v":""},{"$f":"IF(B9<Simulador!$F$50,Simulador!$F$48*Simulador!$F$12/12,\"\")","v":""},{"$f":"IF(B9<Simulador!$F$50,C10-D10,\"\")","v":""},{"$f":"IF(B9<Simulador!$F$50,PMT(Simulador!$F$44+Simulador!$F$46,Simulador!$F$50,-Simulador!$F$40)+G10,\"\")","v":""}]
[null,{"$f":"IF(B10<Simulador!$F$50,B10+1,\"\")","v":""},{"$f":"IF(B10<Simulador!$F$50,H10,\"\")","v":""},{"$f":"IF(Tabla1[[#This Row],[Periodo]]=\"\",\"\",IF(B11<=Simulador!$F$50,PPMT(Simulador!$F$44+Simulador!$F$46,Cronograma!B11,Simulador!$F$50,-Simulador!$F$40),\"\"))","v":""},{"$f":"IF(B10<Simulador!$F$50,(IPMT(Simulador!$F$44+Simulador!$F$46,Tabla1[[#This Row],[Periodo]],Simulador!$F$50,-Simulador!$F$40)-Tabla1[[#This Row],[Seguro Desgravamen]]),\"\")","v":""},{"$f":"IF(B10<Simulador!$F$50,C11*Simulador!$F$46,\"\")","v":""},{"$f":"IF(B10<Simulador!$F$50,Simulador!$F$48*Simulador!$F$12/12,\"\")","v":""},{"$f":"IF(B10<Simulador!$F$50,C11-D11,\"\")","v":""},{"$f":"IF(B10<Simulador!$F$50,PMT(Simulador!$F$44+Simulador!$F$46,Simulador!$F$50,-Simulador!$F$40)+G11,\"\")","v":""}]
[null,{"$f":"IF(B11<Simulador!$F$50,B11+1,\"\")","v":""},{"$f":"IF(B11<Simulador!$F$50,H11,\"\")","v":""},{"$f":"IF(Tabla1[[#This Row],[Periodo]]=\"\",\"\",IF(B12<=Simulador!$F$50,PPMT(Simulador!$F$44+Simulador!$F$46,Cronograma!B12,Simulador!$F$50,-Simulador!$F$40),\"\"))","v":""},{"$f":"IF(B11<Simulador!$F$50,(IPMT(Simulador!$F$44+Simulador!$F$46,Tabla1[[#This Row],[Periodo]],Simulador!$F$50,-Simulador!$F$40)-Tabla1[[#This Row],[Seguro Desgravamen]]),\"\")","v":""},{"$f":"IF(B11<Simulador!$F$50,C12*Simulador!$F$46,\"\")","v":""},{"$f":"IF(B11<Simulador!$F$50,Simulador!$F$48*Simulador!$F$12/12,\"\")","v":""},{"$f":"IF(B11<Simulador!$F$50,C12-D12,\"\")","v":""},{"$f":"IF(B11<Simulador!$F$50,PMT(Simulador!$F$44+Simulador!$F$46,Simulador!$F$50,-Simulador!$F$40)+G12,\"\")","v":""}]
[null,{"$f":"IF(B12<Simulador!$F$50,B12+1,\"\")","v":""},{"$f":"IF(B12<Simulador!$F$50,H12,\"\")","v":""},{"$f":"IF(Tabla1[[#This Row],[Periodo]]=\"\",\"\",IF(B13<=Simulador!$F$50,PPMT(Simulador!$F$44+Simulador!$F$46,Cronograma!B13,Simulador!$F$50,-Simulador!$F$40),\"\"))","v":""},{"$f":"IF(B12<Simulador!$F$50,(IPMT(Simulador!$F$44+Simulador!$F$46,Tabla1[[#This Row],[Periodo]],Simulador!$F$50,-Simulador!$F$40)-Tabla1[[#This Row],[Seguro Desgravamen]]),\"\")","v":""},{"$f":"IF(B12<Simulador!$F$50,C13*Simulador!$F$46,\"\")","v":""},{"$f":"IF(B12<Simulador!$F$50,Simulador!$F$48*Simulador!$F$12/12,\"\")","v":""},{"$f":"IF(B12<Simulador!$F$50,C13-D13,\"\")","v":""},{"$f":"IF(B12<Simulador!$F$50,PMT(Simulador!$F$44+Simulador!$F$46,Simulador!$F$50,-Simulador!$F$40)+G13,\"\")","v":""}]
[null,{"$f":"IF(B13<Simulador!$F$50,B13+1,\"\")","v":""},{"$f":"IF(B13<Simulador!$F$50,H13,\"\")","v":""},{"$f":"IF(Tabla1[[#This Row],[Periodo]]=\"\",\"\",IF(B14<=Simulador!$F$50,PPMT(Simulador!$F$44+Simulador!$F$46,Cronograma!B14,Simulador!$F$50,-Simulador!$F$40),\"\"))","v":""},{"$f":"IF(B13<Simulador!$F$50,(IPMT(Simulador!$F$44+Simulador!$F$46,Tabla1[[#This Row],[Periodo]],Simulador!$F$50,-Simulador!$F$40)-Tabla1[[#This Row],[Seguro Desgravamen]]),\"\")","v":""},{"$f":"IF(B13<Simulador!$F$50,C14*Simulador!$F$46,\"\")","v":""},{"$f":"IF(B13<Simulador!$F$50,Simulador!$F$48*Simulador!$F$12/12,\"\")","v":""},{"$f":"IF(B13<Simulador!$F$50,C14-D14,\"\")","v":""},{"$f":"IF(B13<Simulador!$F$50,PMT(Simulador!$F$44+Simulador!$F$46,Simulador!$F$50,-Simulador!$F$40)+G14,\"\")","v":""}]
[null,{"$f":"IF(B14<Simulador!$F$50,B14+1,\"\")","v":""},{"$f":"IF(B14<Simulador!$F$50,H14,\"\")","v":""},{"$f":"IF(Tabla1[[#This Row],[Periodo]]=\"\",\"\",IF(B15<=Simulador!$F$50,PPMT(Simulador!$F$44+Simulador!$F$46,Cronograma!B15,Simulador!$F$50,-Simulador!$F$40),\"\"))","v":""},{"$f":"IF(B14<Simulador!$F$50,(IPMT(Simulador!$F$44+Simulador!$F$46,Tabla1[[#This Row],[Periodo]],Simulador!$F$50,-Simulador!$F$40)-Tabla1[[#This Row],[Seguro Desgravamen]]),\"\")","v":""},{"$f":"IF(B14<Simulador!$F$50,C15*Simulador!$F$46,\"\")","v":""},{"$f":"IF(B14<Simulador!$F$50,Simulador!$F$48*Simulador!$F$12/12,\"\")","v":""},{"$f":"IF(B14<Simulador!$F$50,C15-D15,\"\")","v":""},{"$f":"IF(B14<Simulador!$F$50,PMT(Simulador!$F$44+Simulador!$F$46,Simulador!$F$50,-Simulador!$F$40)+G15,\"\")","v":""}]
[null,{"$f":"IF(B15<Simulador!$F$50,B15+1,\"\")","v":""},{"$f":"IF(B15<Simulador!$F$50,H15,\"\")","v":""},{"$f":"IF(Tabla1[[#This Row],[Periodo]]=\"\",\"\",IF(B16<=Simulador!$F$50,PPMT(Simulador!$F$44+Simulador!$F$46,Cronograma!B16,Simulador!$F$50,-Simulador!$F$40),\"\"))","v":""},{"$f":"IF(B15<Simulador!$F$50,(IPMT(Simulador!$F$44+Simulador!$F$46,Tabla1[[#This Row],[Periodo]],Simulador!$F$50,-Simulador!$F$40)-Tabla1[[#This Row],[Seguro Desgravamen]]),\"\")","v":""},{"$f":"IF(B15<Simulador!$F$50,C16*Simulador!$F$46,\"\")","v":""},{"$f":"IF(B15<Simulador!$F$50,Simulador!$F$48*Simulador!$F$12/12,\"\")","v":""},{"$f":"IF(B15<Simulador!$F$50,C16-D16,\"\")","v":""},{"$f":"IF(B15<Simulador!$F$50,PMT(Simulador!$F$44+Simulador!$F$46,Simulador!$F$50,-Simulador!$F$40)+G16,\"\")","v":""}]
[null,{"$f":"IF(B16<Simulador!$F$50,B16+1,\"\")","v":""},{"$f":"IF(B16<Simulador!$F$50,H16,\"\")","v":""},{"$f":"IF(Tabla1[[#This Row],[Periodo]]=\"\",\"\",IF(B17<=Simulador!$F$50,PPMT(Simulador!$F$44+Simulador!$F$46,Cronograma!B17,Simulador!$F$50,-Simulador!$F$40),\"\"))","v":""},{"$f":"IF(B16<Simulador!$F$50,(IPMT(Simulador!$F$44+Simulador!$F$46,Tabla1[[#This Row],[Periodo]],Simulador!$F$50,-Simulador!$F$40)-Tabla1[[#This Row],[Seguro Desgravamen]]),\"\")","v":""},{"$f":"IF(B16<Simulador!$F$50,C17*Simulador!$F$46,\"\")","v":""},{"$f":"IF(B16<Simulador!$F$50,Simulador!$F$48*Simulador!$F$12/12,\"\")","v":""},{"$f":"IF(B16<Simulador!$F$50,C17-D17,\"\")","v":""},{"$f":"IF(B16<Simulador!$F$50,PMT(Simulador!$F$44+Simulador!$F$46,Simulador!$F$50,-Simulador!$F$40)+G17,\"\")","v":""}]
[null,{"$f":"IF(B17<Simulador!$F$50,B17+1,\"\")","v":""},{"$f":"IF(B17<Simulador!$F$50,H17,\"\")","v":""},{"$f":"IF(Tabla1[[#This Row],[Periodo]]=\"\",\"\",IF(B18<=Simulador!$F$50,PPMT(Simulador!$F$44+Simulador!$F$46,Cronograma!B18,Simulador!$F$50,-Simulador!$F$40),\"\"))","v":""},{"$f":"IF(B17<Simulador!$F$50,(IPMT(Simulador!$F$44+Simulador!$F$46,Tabla1[[#This Row],[Periodo]],Simulador!$F$50,-Simulador!$F$40)-Tabla1[[#This Row],[Seguro Desgravamen]]),\"\")","v":""},{"$f":"IF(B17<Simulador!$F$50,C18*Simulador!$F$46,\"\")","v":""},{"$f":"IF(B17<Simulador!$F$50,Simulador!$F$48*Simulador!$F$12/12,\"\")","v":""},{"$f":"IF(B17<Simulador!$F$50,C18-D18,\"\")","v":""},{"$f":"IF(B17<Simulador!$F$50,PMT(Simulador!$F$44+Simulador!$F$46,Simulador!$F$50,-Simulador!$F$40)+G18,\"\")","v":""}]
[null,{"$f":"IF(B18<Simulador!$F$50,B18+1,\"\")","v":""},{"$f":"IF(B18<Simulador!$F$50,H18,\"\")","v":""},{"$f":"IF(Tabla1[[#This Row],[Periodo]]=\"\",\"\",IF(B19<=Simulador!$F$50,PPMT(Simulador!$F$44+Simulador!$F$46,Cronograma!B19,Simulador!$F$50,-Simulador!$F$40),\"\"))","v":""},{"$f":"IF(B18<Simulador!$F$50,(IPMT(Simulador!$F$44+Simulador!$F$46,Tabla1[[#This Row],[Periodo]],Simulador!$F$50,-Simulador!$F$40)-Tabla1[[#This Row],[Seguro Desgravamen]]),\"\")","v":""},{"$f":"IF(B18<Simulador!$F$50,C19*Simulador!$F$46,\"\")","v":""},{"$f":"IF(B18<Simulador!$F$50,Simulador!$F$48*Simulador!$F$12/12,\"\")","v":""},{"$f":"IF(B18<Simulador!$F$50,C19-D19,\"\")","v":""},{"$f":"IF(B18<Simulador!$F$50,PMT(Simulador!$F$44+Simulador!$F$46,Simulador!$F$50,-Simulador!$F$40)+G19,\"\")","v":""}]
[null,{"$f":"IF(B19<Simulador!$F$50,B19+1,\"\")","v":""},{"$f":"IF(B19<Simulador!$F$50,H19,\"\")","v":""},{"$f":"IF(Tabla1[[#This Row],[Periodo]]=\"\",\"\",IF(B20<=Simulador!$F$50,PPMT(Simulador!$F$44+Simulador!$F$46,Cronograma!B20,Simulador!$F$50,-Simulador!$F$40),\"\"))","v":""},{"$f":"IF(B19<Simulador!$F$50,(IPMT(Simulador!$F$44+Simulador!$F$46,Tabla1[[#This Row],[Periodo]],Simulador!$F$50,-Simulador!$F$40)-Tabla1[[#This Row],[Seguro Desgravamen]]),\"\")","v":""},{"$f":"IF(B19<Simulador!$F$50,C20*Simulador!$F$46,\"\")","v":""},{"$f":"IF(B19<Simulador!$F$50,Simulador!$F$48*Simulador!$F$12/12,\"\")","v":""},{"$f":"IF(B19<Simulador!$F$50,C20-D20,\"\")","v":""},{"$f":"IF(B19<Simulador!$F$50,PMT(Simulador!$F$44+Simulador!$F$46,Simulador!$F$50,-Simulador!$F$40)+G20,\"\")","v":""}]
[null,{"$f":"IF(B20<Simulador!$F$50,B20+1,\"\")","v":""},{"$f":"IF(B20<Simulador!$F$50,H20,\"\")","v":""},{"$f":"IF(Tabla1[[#This Row],[Periodo]]=\"\",\"\",IF(B21<=Simulador!$F$50,PPMT(Simulador!$F$44+Simulador!$F$46,Cronograma!B21,Simulador!$F$50,-Simulador!$F$40),\"\"))","v":""},{"$f":"IF(B20<Simulador!$F$50,(IPMT(Simulador!$F$44+Simulador!$F$46,Tabla1[[#This Row],[Periodo]],Simulador!$F$50,-Simulador!$F$40)-Tabla1[[#This Row],[Seguro Desgravamen]]),\"\")","v":""},{"$f":"IF(B20<Simulador!$F$50,C21*Simulador!$F$46,\"\")","v":""},{"$f":"IF(B20<Simulador!$F$50,Simulador!$F$48*Simulador!$F$12/12,\"\")","v":""},{"$f":"IF(B20<Simulador!$F$50,C21-D21,\"\")","v":""},{"$f":"IF(B20<Simulador!$F$50,PMT(Simulador!$F$44+Simulador!$F$46,Simulador!$F$50,-Simulador!$F$40)+G21,\"\")","v":""}]
[null,{"$f":"IF(B21<Simulador!$F$50,B21+1,\"\")","v":""},{"$f":"IF(B21<Simulador!$F$50,H21,\"\")","v":""},{"$f":"IF(Tabla1[[#This Row],[Periodo]]=\"\",\"\",IF(B22<=Simulador!$F$50,PPMT(Simulador!$F$44+Simulador!$F$46,Cronograma!B22,Simulador!$F$50,-Simulador!$F$40),\"\"))","v":""},{"$f":"IF(B21<Simulador!$F$50,(IPMT(Simulador!$F$44+Simulador!$F$46,Tabla1[[#This Row],[Periodo]],Simulador!$F$50,-Simulador!$F$40)-Tabla1[[#This Row],[Seguro Desgravamen]]),\"\")","v":""},{"$f":"IF(B21<Simulador!$F$50,C22*Simulador!$F$46,\"\")","v":""},{"$f":"IF(B21<Simulador!$F$50,Simulador!$F$48*Simulador!$F$12/12,\"\")","v":""},{"$f":"IF(B21<Simulador!$F$50,C22-D22,\"\")","v":""},{"$f":"IF(B21<Simulador!$F$50,PMT(Simulador!$F$44+Simulador!$F$46,Simulador!$F$50,-Simulador!$F$40)+G22,\"\")","v":""}]
[null,{"$f":"IF(B22<Simulador!$F$50,B22+1,\"\")","v":""},{"$f":"IF(B22<Simulador!$F$50,H22,\"\")","v":""},{"$f":"IF(Tabla1[[#This Row],[Periodo]]=\"\",\"\",IF(B23<=Simulador!$F$50,PPMT(Simulador!$F$44+Simulador!$F$46,Cronograma!B23,Simulador!$F$50,-Simulador!$F$40),\"\"))","v":""},{"$f":"IF(B22<Simulador!$F$50,(IPMT(Simulador!$F$44+Simulador!$F$46,Tabla1[[#This Row],[Periodo]],Simulador!$F$50,-Simulador!$F$40)-Tabla1[[#This Row],[Seguro Desgravamen]]),\"\")","v":""},{"$f":"IF(B22<Simulador!$F$50,C23*Simulador!$F$46,\"\")","v":""},{"$f":"IF(B22<Simulador!$F$50,Simulador!$F$48*Simulador!$F$12/12,\"\")","v":""},{"$f":"IF(B22<Simulador!$F$50,C23-D23,\"\")","v":""},{"$f":"IF(B22<Simulador!$F$50,PMT(Simulador!$F$44+Simulador!$F$46,Simulador!$F$50,-Simulador!$F$40)+G23,\"\")","v":""}]
[null,{"$f":"IF(B23<Simulador!$F$50,B23+1,\"\")","v":""},{"$f":"IF(B23<Simulador!$F$50,H23,\"\")","v":""},{"$f":"IF(Tabla1[[#This Row],[Periodo]]=\"\",\"\",IF(B24<=Simulador!$F$50,PPMT(Simulador!$F$44+Simulador!$F$46,Cronograma!B24,Simulador!$F$50,-Simulador!$F$40),\"\"))","v":""},{"$f":"IF(B23<Simulador!$F$50,(IPMT(Simulador!$F$44+Simulador!$F$46,Tabla1[[#This Row],[Periodo]],Simulador!$F$50,-Simulador!$F$40)-Tabla1[[#This Row],[Seguro Desgravamen]]),\"\")","v":""},{"$f":"IF(B23<Simulador!$F$50,C24*Simulador!$F$46,\"\")","v":""},{"$f":"IF(B23<Simulador!$F$50,Simulador!$F$48*Simulador!$F$12/12,\"\")","v":""},{"$f":"IF(B23<Simulador!$F$50,C24-D24,\"\")","v":""},{"$f":"IF(B23<Simulador!$F$50,PMT(Simulador!$F$44+Simulador!$F$46,Simulador!$F$50,-Simulador!$F$40)+G24,\"\")","v":""}]
[null,{"$f":"IF(B24<Simulador!$F$50,B24+1,\"\")","v":""},{"$f":"IF(B24<Simulador!$F$50,H24,\"\")","v":""},{"$f":"IF(Tabla1[[#This Row],[Periodo]]=\"\",\"\",IF(B25<=Simulador!$F$50,PPMT(Simulador!$F$44+Simulador!$F$46,Cronograma!B25,Simulador!$F$50,-Simulador!$F$40),\"\"))","v":""},{"$f":"IF(B24<Simulador!$F$50,(IPMT(Simulador!$F$44+Simulador!$F$46,Tabla1[[#This Row],[Periodo]],Simulador!$F$50,-Simulador!$F$40)-Tabla1[[#This Row],[Seguro Desgravamen]]),\"\")","v":""},{"$f":"IF(B24<Simulador!$F$50,C25*Simulador!$F$46,\"\")","v":""},{"$f":"IF(B24<Simulador!$F$50,Simulador!$F$48*Simulador!$F$12/12,\"\")","v":""},{"$f":"IF(B24<Simulador!$F$50,C25-D25,\"\")","v":""},{"$f":"IF(B24<Simulador!$F$50,PMT(Simulador!$F$44+Simulador!$F$46,Simulador!$F$50,-Simulador!$F$40)+G25,\"\")","v":""}]
[null,{"$f":"IF(B25<Simulador!$F$50,B25+1,\"\")","v":""},{"$f":"IF(B25<Simulador!$F$50,H25,\"\")","v":""},{"$f":"IF(Tabla1[[#This Row],[Periodo]]=\"\",\"\",IF(B26<=Simulador!$F$50,PPMT(Simulador!$F$44+Simulador!$F$46,Cronograma!B26,Simulador!$F$50,-Simulador!$F$40),\"\"))","v":""},{"$f":"IF(B25<Simulador!$F$50,(IPMT(Simulador!$F$44+Simulador!$F$46,Tabla1[[#This Row],[Periodo]],Simulador!$F$50,-Simulador!$F$40)-Tabla1[[#This Row],[Seguro Desgravamen]]),\"\")","v":""},{"$f":"IF(B25<Simulador!$F$50,C26*Simulador!$F$46,\"\")","v":""},{"$f":"IF(B25<Simulador!$F$50,Simulador!$F$48*Simulador!$F$12/12,\"\")","v":""},{"$f":"IF(B25<Simulador!$F$50,C26-D26,\"\")","v":""},{"$f":"IF(B25<Simulador!$F$50,PMT(Simulador!$F$44+Simulador!$F$46,Simulador!$F$50,-Simulador!$F$40)+G26,\"\")","v":""}]
[null,{"$f":"IF(B26<Simulador!$F$50,B26+1,\"\")","v":""},{"$f":"IF(B26<Simulador!$F$50,H26,\"\")","v":""},{"$f":"IF(Tabla1[[#This Row],[Periodo]]=\"\",\"\",IF(B27<=Simulador!$F$50,PPMT(Simulador!$F$44+Simulador!$F$46,Cronograma!B27,Simulador!$F$50,-Simulador!$F$40),\"\"))","v":""},{"$f":"IF(B26<Simulador!$F$50,(IPMT(Simulador!$F$44+Simulador!$F$46,Tabla1[[#This Row],[Periodo]],Simulador!$F$50,-Simulador!$F$40)-Tabla1[[#This Row],[Seguro Desgravamen]]),\"\")","v":""},{"$f":"IF(B26<Simulador!$F$50,C27*Simulador!$F$46,\"\")","v":""},{"$f":"IF(B26<Simulador!$F$50,Simulador!$F$48*Simulador!$F$12/12,\"\")","v":""},{"$f":"IF(B26<Simulador!$F$50,C27-D27,\"\")","v":""},{"$f":"IF(B26<Simulador!$F$50,PMT(Simulador!$F$44+Simulador!$F$46,Simulador!$F$50,-Simulador!$F$40)+G27,\"\")","v":""}]
[null,{"$f":"IF(B27<Simulador!$F$50,B27+1,\"\")","v":""},{"$f":"IF(B27<Simulador!$F$50,H27,\"\")","v":""},{"$f":"IF(Tabla1[[#This Row],[Periodo]]=\"\",\"\",IF(B28<=Simulador!$F$50,PPMT(Simulador!$F$44+Simulador!$F$46,Cronograma!B28,Simulador!$F$50,-Simulador!$F$40),\"\"))","v":""},{"$f":"IF(B27<Simulador!$F$50,(IPMT(Simulador!$F$44+Simulador!$F$46,Tabla1[[#This Row],[Periodo]],Simulador!$F$50,-Simulador!$F$40)-Tabla1[[#This Row],[Seguro Desgravamen]]),\"\")","v":""},{"$f":"IF(B27<Simulador!$F$50,C28*Simulador!$F$46,\"\")","v":""},{"$f":"IF(B27<Simulador!$F$50,Simulador!$F$48*Simulador!$F$12/12,\"\")","v":""},{"$f":"IF(B27<Simulador!$F$50,C28-D28,\"\")","v":""},{"$f":"IF(B27<Simulador!$F$50,PMT(Simulador!$F$44+Simulador!$F$46,Simulador!$F$50,-Simulador!$F$40)+G28,\"\")","v":""}]
[null,{"$f":"IF(B28<Simulador!$F$50,B28+1,\"\")","v":""},{"$f":"IF(B28<Simulador!$F$50,H28,\"\")","v":""},{"$f":"IF(Tabla1[[#This Row],[Periodo]]=\"\",\"\",IF(B29<=Simulador!$F$50,PPMT(Simulador!$F$44+Simulador!$F$46,Cronograma!B29,Simulador!$F$50,-Simulador!$F$40),\"\"))","v":""},{"$f":"IF(B28<Simulador!$F$50,(IPMT(Simulador!$F$44+Simulador!$F$46,Tabla1[[#This Row],[Periodo]],Simulador!$F$50,-Simulador!$F$40)-Tabla1[[#This Row],[Seguro Desgravamen]]),\"\")","v":""},{"$f":"IF(B28<Simulador!$F$50,C29*Simulador!$F$46,\"\")","v":""},{"$f":"IF(B28<Simulador!$F$50,Simulador!$F$48*Simulador!$F$12/12,\"\")","v":""},{"$f":"IF(B28<Simulador!$F$50,C29-D29,\"\")","v":""},{"$f":"IF(B28<Simulador!$F$50,PMT(Simulador!$F$44+Simulador!$F$46,Simulador!$F$50,-Simulador!$F$40)+G29,\"\")","v":""}]
[null,{"$f":"IF(B29<Simulador!$F$50,B29+1,\"\")","v":""},{"$f":"IF(B29<Simulador!$F$50,H29,\"\")","v":""},{"$f":"IF(Tabla1[[#This Row],[Periodo]]=\"\",\"\",IF(B30<=Simulador!$F$50,PPMT(Simulador!$F$44+Simulador!$F$46,Cronograma!B30,Simulador!$F$50,-Simulador!$F$40),\"\"))","v":""},{"$f":"IF(B29<Simulador!$F$50,(IPMT(Simulador!$F$44+Simulador!$F$46,Tabla1[[#This Row],[Periodo]],Simulador!$F$50,-Simulador!$F$40)-Tabla1[[#This Row],[Seguro Desgravamen]]),\"\")","v":""},{"$f":"IF(B29<Simulador!$F$50,C30*Simulador!$F$46,\"\")","v":""},{"$f":"IF(B29<Simulador!$F$50,Simulador!$F$48*Simulador!$F$12/12,\"\")","v":""},{"$f":"IF(B29<Simulador!$F$50,C30-D30,\"\")","v":""},{"$f":"IF(B29<Simulador!$F$50,PMT(Simulador!$F$44+Simulador!$F$46,Simulador!$F$50,-Simulador!$F$40)+G30,\"\")","v":""}]
[null,{"$f":"IF(B30<Simulador!$F$50,B30+1,\"\")","v":""},{"$f":"IF(B30<Simulador!$F$50,H30,\"\")","v":""},{"$f":"IF(Tabla1[[#This Row],[Periodo]]=\"\",\"\",IF(B31<=Simulador!$F$50,PPMT(Simulador!$F$44+Simulador!$F$46,Cronograma!B31,Simulador!$F$50,-Simulador!$F$40),\"\"))","v":""},{"$f":"IF(B30<Simulador!$F$50,(IPMT(Simulador!$F$44+Simulador!$F$46,Tabla1[[#This Row],[Periodo]],Simulador!$F$50,-Simulador!$F$40)-Tabla1[[#This Row],[Seguro Desgravamen]]),\"\")","v":""},{"$f":"IF(B30<Simulador!$F$50,C31*Simulador!$F$46,\"\")","v":""},{"$f":"IF(B30<Simulador!$F$50,Simulador!$F$48*Simulador!$F$12/12,\"\")","v":""},{"$f":"IF(B30<Simulador!$F$50,C31-D31,\"\")","v":""},{"$f":"IF(B30<Simulador!$F$50,PMT(Simulador!$F$44+Simulador!$F$46,Simulador!$F$50,-Simulador!$F$40)+G31,\"\")","v":""}]
[null,{"$f":"IF(B31<Simulador!$F$50,B31+1,\"\")","v":""},{"$f":"IF(B31<Simulador!$F$50,H31,\"\")","v":""},{"$f":"IF(Tabla1[[#This Row],[Periodo]]=\"\",\"\",IF(B32<=Simulador!$F$50,PPMT(Simulador!$F$44+Simulador!$F$46,Cronograma!B32,Simulador!$F$50,-Simulador!$F$40),\"\"))","v":""},{"$f":"IF(B31<Simulador!$F$50,(IPMT(Simulador!$F$44+Simulador!$F$46,Tabla1[[#This Row],[Periodo]],Simulador!$F$50,-Simulador!$F$40)-Tabla1[[#This Row],[Seguro Desgravamen]]),\"\")","v":""},{"$f":"IF(B31<Simulador!$F$50,C32*Simulador!$F$46,\"\")","v":""},{"$f":"IF(B31<Simulador!$F$50,Simulador!$F$48*Simulador!$F$12/12,\"\")","v":""},{"$f":"IF(B31<Simulador!$F$50,C32-D32,\"\")","v":""},{"$f":"IF(B31<Simulador!$F$50,PMT(Simulador!$F$44+Simulador!$F$46,Simulador!$F$50,-Simulador!$F$40)+G32,\"\")","v":""}]
[null,{"$f":"IF(B32<Simulador!$F$50,B32+1,\"\")","v":""},{"$f":"IF(B32<Simulador!$F$50,H32,\"\")","v":""},{"$f":"IF(Tabla1[[#This Row],[Periodo]]=\"\",\"\",IF(B33<=Simulador!$F$50,PPMT(Simulador!$F$44+Simulador!$F$46,Cronograma!B33,Simulador!$F$50,-Simulador!$F$40),\"\"))","v":""},{"$f":"IF(B32<Simulador!$F$50,(IPMT(Simulador!$F$44+Simulador!$F$46,Tabla1[[#This Row],[Periodo]],Simulador!$F$50,-Simulador!$F$40)-Tabla1[[#This Row],[Seguro Desgravamen]]),\"\")","v":""},{"$f":"IF(B32<Simulador!$F$50,C33*Simulador!$F$46,\"\")","v":""},{"$f":"IF(B32<Simulador!$F$50,Simulador!$F$48*Simulador!$F$12/12,\"\")","v":""},{"$f":"IF(B32<Simulador!$F$50,C33-D33,\"\")","v":""},{"$f":"IF(B32<Simulador!$F$50,PMT(Simulador!$F$44+Simulador!$F$46,Simulador!$F$50,-Simulador!$F$40)+G33,\"\")","v":""}]
[null,{"$f":"IF(B33<Simulador!$F$50,B33+1,\"\")","v":""},{"$f":"IF(B33<Simulador!$F$50,H33,\"\")","v":""},{"$f":"IF(Tabla1[[#This Row],[Periodo]]=\"\",\"\",IF(B34<=Simulador!$F$50,PPMT(Simulador!$F$44+Simulador!$F$46,Cronograma!B34,Simulador!$F$50,-Simulador!$F$40),\"\"))","v":""},{"$f":"IF(B33<Simulador!$F$50,(IPMT(Simulador!$F$44+Simulador!$F$46,Tabla1[[#This Row],[Periodo]],Simulador!$F$50,-Simulador!$F$40)-Tabla1[[#This Row],[Seguro Desgravamen]]),\"\")","v":""},{"$f":"IF(B33<Simulador!$F$50,C34*Simulador!$F$46,\"\")","v":""},{"$f":"IF(B33<Simulador!$F$50,Simulador!$F$48*Simulador!$F$12/12,\"\")","v":""},{"$f":"IF(B33<Simulador!$F$50,C34-D34,\"\")","v":""},{"$f":"IF(B33<Simulador!$F$50,PMT(Simulador!$F$44+Simulador!$F$46,Simulador!$F$50,-Simulador!$F$40)+G34,\"\")","v":""}]
[null,{"$f":"IF(B34<Simulador!$F$50,B34+1,\"\")","v":""},{"$f":"IF(B34<Simulador!$F$50,H34,\"\")","v":""},{"$f":"IF(Tabla1[[#This Row],[Periodo]]=\"\",\"\",IF(B35<=Simulador!$F$50,PPMT(Simulador!$F$44+Simulador!$F$46,Cronograma!B35,Simulador!$F$50,-Simulador!$F$40),\"\"))","v":""},{"$f":"IF(B34<Simulador!$F$50,(IPMT(Simulador!$F$44+Simulador!$F$46,Tabla1[[#This Row],[Periodo]],Simulador!$F$50,-Simulador!$F$40)-Tabla1[[#This Row],[Seguro Desgravamen]]),\"\")","v":""},{"$f":"IF(B34<Simulador!$F$50,C35*Simulador!$F$46,\"\")","v":""},{"$f":"IF(B34<Simulador!$F$50,Simulador!$F$48*Simulador!$F$12/12,\"\")","v":""},{"$f":"IF(B34<Simulador!$F$50,C35-D35,\"\")","v":""},{"$f":"IF(B34<Simulador!$F$50,PMT(Simulador!$F$44+Simulador!$F$46,Simulador!$F$50,-Simulador!$F$40)+G35,\"\")","v":""}]
[null,{"$f":"IF(B35<Simulador!$F$50,B35+1,\"\")","v":""},{"$f":"IF(B35<Simulador!$F$50,H35,\"\")","v":""},{"$f":"IF(Tabla1[[#This Row],[Periodo]]=\"\",\"\",IF(B36<=Simulador!$F$50,PPMT(Simulador!$F$44+Simulador!$F$46,Cronograma!B36,Simulador!$F$50,-Simulador!$F$40),\"\"))","v":""},{"$f":"IF(B35<Simulador!$F$50,(IPMT(Simulador!$F$44+Simulador!$F$46,Tabla1[[#This Row],[Periodo]],Simulador!$F$50,-Simulador!$F$40)-Tabla1[[#This Row],[Seguro Desgravamen]]),\"\")","v":""},{"$f":"IF(B35<Simulador!$F$50,C36*Simulador!$F$46,\"\")","v":""},{"$f":"IF(B35<Simulador!$F$50,Simulador!$F$48*Simulador!$F$12/12,\"\")","v":""},{"$f":"IF(B35<Simulador!$F$50,C36-D36,\"\")","v":""},{"$f":"IF(B35<Simulador!$F$50,PMT(Simulador!$F$44+Simulador!$F$46,Simulador!$F$50,-Simulador!$F$40)+G36,\"\")","v":""}]
[null,{"$f":"IF(B36<Simulador!$F$50,B36+1,\"\")","v":""},{"$f":"IF(B36<Simulador!$F$50,H36,\"\")","v":""},{"$f":"IF(Tabla1[[#This Row],[Periodo]]=\"\",\"\",IF(B37<=Simulador!$F$50,PPMT(Simulador!$F$44+Simulador!$F$46,Cronograma!B37,Simulador!$F$50,-Simulador!$F$40),\"\"))","v":""},{"$f":"IF(B36<Simulador!$F$50,(IPMT(Simulador!$F$44+Simulador!$F$46,Tabla1[[#This Row],[Periodo]],Simulador!$F$50,-Simulador!$F$40)-Tabla1[[#This Row],[Seguro Desgravamen]]),\"\")","v":""},{"$f":"IF(B36<Simulador!$F$50,C37*Simulador!$F$46,\"\")","v":""},{"$f":"IF(B36<Simulador!$F$50,Simulador!$F$48*Simulador!$F$12/12,\"\")","v":""},{"$f":"IF(B36<Simulador!$F$50,C37-D37,\"\")","v":""},{"$f":"IF(B36<Simulador!$F$50,PMT(Simulador!$F$44+Simulador!$F$46,Simulador!$F$50,-Simulador!$F$40)+G37,\"\")","v":""}]
[null,{"$f":"IF(B37<Simulador!$F$50,B37+1,\"\")","v":""},{"$f":"IF(B37<Simulador!$F$50,H37,\"\")","v":""},{"$f":"IF(Tabla1[[#This Row],[Periodo]]=\"\",\"\",IF(B38<=Simulador!$F$50,PPMT(Simulador!$F$44+Simulador!$F$46,Cronograma!B38,Simulador!$F$50,-Simulador!$F$40),\"\"))","v":""},{"$f":"IF(B37<Simulador!$F$50,(IPMT(Simulador!$F$44+Simulador!$F$46,Tabla1[[#This Row],[Periodo]],Simulador!$F$50,-Simulador!$F$40)-Tabla1[[#This Row],[Seguro Desgravamen]]),\"\")","v":""},{"$f":"IF(B37<Simulador!$F$50,C38*Simulador!$F$46,\"\")","v":""},{"$f":"IF(B37<Simulador!$F$50,Simulador!$F$48*Simulador!$F$12/12,\"\")","v":""},{"$f":"IF(B37<Simulador!$F$50,C38-D38,\"\")","v":""},{"$f":"IF(B37<Simulador!$F$50,PMT(Simulador!$F$44+Simulador!$F$46,Simulador!$F$50,-Simulador!$F$40)+G38,\"\")","v":""}]
[null,{"$f":"IF(B38<Simulador!$F$50,B38+1,\"\")","v":""},{"$f":"IF(B38<Simulador!$F$50,H38,\"\")","v":""},{"$f":"IF(Tabla1[[#This Row],[Periodo]]=\"\",\"\",IF(B39<=Simulador!$F$50,PPMT(Simulador!$F$44+Simulador!$F$46,Cronograma!B39,Simulador!$F$50,-Simulador!$F$40),\"\"))","v":""},{"$f":"IF(B38<Simulador!$F$50,(IPMT(Simulador!$F$44+Simulador!$F$46,Tabla1[[#This Row],[Periodo]],Simulador!$F$50,-Simulador!$F$40)-Tabla1[[#This Row],[Seguro Desgravamen]]),\"\")","v":""},{"$f":"IF(B38<Simulador!$F$50,C39*Simulador!$F$46,\"\")","v":""},{"$f":"IF(B38<Simulador!$F$50,Simulador!$F$48*Simulador!$F$12/12,\"\")","v":""},{"$f":"IF(B38<Simulador!$F$50,C39-D39,\"\")","v":""},{"$f":"IF(B38<Simulador!$F$50,PMT(Simulador!$F$44+Simulador!$F$46,Simulador!$F$50,-Simulador!$F$40)+G39,\"\")","v":""}]
[null,{"$f":"IF(B39<Simulador!$F$50,B39+1,\"\")","v":""},{"$f":"IF(B39<Simulador!$F$50,H39,\"\")","v":""},{"$f":"IF(Tabla1[[#This Row],[Periodo]]=\"\",\"\",IF(B40<=Simulador!$F$50,PPMT(Simulador!$F$44+Simulador!$F$46,Cronograma!B40,Simulador!$F$50,-Simulador!$F$40),\"\"))","v":""},{"$f":"IF(B39<Simulador!$F$50,(IPMT(Simulador!$F$44+Simulador!$F$46,Tabla1[[#This Row],[Periodo]],Simulador!$F$50,-Simulador!$F$40)-Tabla1[[#This Row],[Seguro Desgravamen]]),\"\")","v":""},{"$f":"IF(B39<Simulador!$F$50,C40*Simulador!$F$46,\"\")","v":""},{"$f":"IF(B39<Simulador!$F$50,Simulador!$F$48*Simulador!$F$12/12,\"\")","v":""},{"$f":"IF(B39<Simulador!$F$50,C40-D40,\"\")","v":""},{"$f":"IF(B39<Simulador!$F$50,PMT(Simulador!$F$44+Simulador!$F$46,Simulador!$F$50,-Simulador!$F$40)+G40,\"\")","v":""}]
[null,{"$f":"IF(B40<Simulador!$F$50,B40+1,\"\")","v":""},{"$f":"IF(B40<Simulador!$F$50,H40,\"\")","v":""},{"$f":"IF(Tabla1[[#This Row],[Periodo]]=\"\",\"\",IF(B41<=Simulador!$F$50,PPMT(Simulador!$F$44+Simulador!$F$46,Cronograma!B41,Simulador!$F$50,-Simulador!$F$40),\"\"))","v":""},{"$f":"IF(B40<Simulador!$F$50,(IPMT(Simulador!$F$44+Simulador!$F$46,Tabla1[[#This Row],[Periodo]],Simulador!$F$50,-Simulador!$F$40)-Tabla1[[#This Row],[Seguro Desgravamen]]),\"\")","v":""},{"$f":"IF(B40<Simulador!$F$50,C41*Simulador!$F$46,\"\")","v":""},{"$f":"IF(B40<Simulador!$F$50,Simulador!$F$48*Simulador!$F$12/12,\"\")","v":""},{"$f":"IF(B40<Simulador!$F$50,C41-D41,\"\")","v":""},{"$f":"IF(B40<Simulador!$F$50,PMT(Simulador!$F$44+Simulador!$F$46,Simulador!$F$50,-Simulador!$F$40)+G41,\"\")","v":""}]
[null,{"$f":"IF(B41<Simulador!$F$50,B41+1,\"\")","v":""},{"$f":"IF(B41<Simulador!$F$50,H41,\"\")","v":""},{"$f":"IF(Tabla1[[#This Row],[Periodo]]=\"\",\"\",IF(B42<=Simulador!$F$50,PPMT(Simulador!$F$44+Simulador!$F$46,Cronograma!B42,Simulador!$F$50,-Simulador!$F$40),\"\"))","v":""},{"$f":"IF(B41<Simulador!$F$50,(IPMT(Simulador!$F$44+Simulador!$F$46,Tabla1[[#This Row],[Periodo]],Simulador!$F$50,-Simulador!$F$40)-Tabla1[[#This Row],[Seguro Desgravamen]]),\"\")","v":""},{"$f":"IF(B41<Simulador!$F$50,C42*Simulador!$F$46,\"\")","v":""},{"$f":"IF(B41<Simulador!$F$50,Simulador!$F$48*Simulador!$F$12/12,\"\")","v":""},{"$f":"IF(B41<Simulador!$F$50,C42-D42,\"\")","v":""},{"$f":"IF(B41<Simulador!$F$50,PMT(Simulador!$F$44+Simulador!$F$46,Simulador!$F$50,-Simulador!$F$40)+G42,\"\")","v":""}]
[null,{"$f":"IF(B42<Simulador!$F$50,B42+1,\"\")","v":""},{"$f":"IF(B42<Simulador!$F$50,H42,\"\")","v":""},{"$f":"IF(Tabla1[[#This Row],[Periodo]]=\"\",\"\",IF(B43<=Simulador!$F$50,PPMT(Simulador!$F$44+Simulador!$F$46,Cronograma!B43,Simulador!$F$50,-Simulador!$F$40),\"\"))","v":""},{"$f":"IF(B42<Simulador!$F$50,(IPMT(Simulador!$F$44+Simulador!$F$46,Tabla1[[#This Row],[Periodo]],Simulador!$F$50,-Simulador!$F$40)-Tabla1[[#This Row],[Seguro Desgravamen]]),\"\")","v":""},{"$f":"IF(B42<Simulador!$F$50,C43*Simulador!$F$46,\"\")","v":""},{"$f":"IF(B42<Simulador!$F$50,Simulador!$F$48*Simulador!$F$12/12,\"\")","v":""},{"$f":"IF(B42<Simulador!$F$50,C43-D43,\"\")","v":""},{"$f":"IF(B42<Simulador!$F$50,PMT(Simulador!$F$44+Simulador!$F$46,Simulador!$F$50,-Simulador!$F$40)+G43,\"\")","v":""}]
[null,{"$f":"IF(B43<Simulador!$F$50,B43+1,\"\")","v":""},{"$f":"IF(B43<Simulador!$F$50,H43,\"\")","v":""},{"$f":"IF(Tabla1[[#This Row],[Periodo]]=\"\",\"\",IF(B44<=Simulador!$F$50,PPMT(Simulador!$F$44+Simulador!$F$46,Cronograma!B44,Simulador!$F$50,-Simulador!$F$40),\"\"))","v":""},{"$f":"IF(B43<Simulador!$F$50,(IPMT(Simulador!$F$44+Simulador!$F$46,Tabla1[[#This Row],[Periodo]],Simulador!$F$50,-Simulador!$F$40)-Tabla1[[#This Row],[Seguro Desgravamen]]),\"\")","v":""},{"$f":"IF(B43<Simulador!$F$50,C44*Simulador!$F$46,\"\")","v":""},{"$f":"IF(B43<Simulador!$F$50,Simulador!$F$48*Simulador!$F$12/12,\"\")","v":""},{"$f":"IF(B43<Simulador!$F$50,C44-D44,\"\")","v":""},{"$f":"IF(B43<Simulador!$F$50,PMT(Simulador!$F$44+Simulador!$F$46,Simulador!$F$50,-Simulador!$F$40)+G44,\"\")","v":""}]
[null,{"$f":"IF(B44<Simulador!$F$50,B44+1,\"\")","v":""},{"$f":"IF(B44<Simulador!$F$50,H44,\"\")","v":""},{"$f":"IF(Tabla1[[#This Row],[Periodo]]=\"\",\"\",IF(B45<=Simulador!$F$50,PPMT(Simulador!$F$44+Simulador!$F$46,Cronograma!B45,Simulador!$F$50,-Simulador!$F$40),\"\"))","v":""},{"$f":"IF(B44<Simulador!$F$50,(IPMT(Simulador!$F$44+Simulador!$F$46,Tabla1[[#This Row],[Periodo]],Simulador!$F$50,-Simulador!$F$40)-Tabla1[[#This Row],[Seguro Desgravamen]]),\"\")","v":""},{"$f":"IF(B44<Simulador!$F$50,C45*Simulador!$F$46,\"\")","v":""},{"$f":"IF(B44<Simulador!$F$50,Simulador!$F$48*Simulador!$F$12/12,\"\")","v":""},{"$f":"IF(B44<Simulador!$F$50,C45-D45,\"\")","v":""},{"$f":"IF(B44<Simulador!$F$50,PMT(Simulador!$F$44+Simulador!$F$46,Simulador!$F$50,-Simulador!$F$40)+G45,\"\")","v":""}]
[null,{"$f":"IF(B45<Simulador!$F$50,B45+1,\"\")","v":""},{"$f":"IF(B45<Simulador!$F$50,H45,\"\")","v":""},{"$f":"IF(Tabla1[[#This Row],[Periodo]]=\"\",\"\",IF(B46<=Simulador!$F$50,PPMT(Simulador!$F$44+Simulador!$F$46,Cronograma!B46,Simulador!$F$50,-Simulador!$F$40),\"\"))","v":""},{"$f":"IF(B45<Simulador!$F$50,(IPMT(Simulador!$F$44+Simulador!$F$46,Tabla1[[#This Row],[Periodo]],Simulador!$F$50,-Simulador!$F$40)-Tabla1[[#This Row],[Seguro Desgravamen]]),\"\")","v":""},{"$f":"IF(B45<Simulador!$F$50,C46*Simulador!$F$46,\"\")","v":""},{"$f":"IF(B45<Simulador!$F$50,Simulador!$F$48*Simulador!$F$12/12,\"\")","v":""},{"$f":"IF(B45<Simulador!$F$50,C46-D46,\"\")","v":""},{"$f":"IF(B45<Simulador!$F$50,PMT(Simulador!$F$44+Simulador!$F$46,Simulador!$F$50,-Simulador!$F$40)+G46,\"\")","v":""}]
[null,{"$f":"IF(B46<Simulador!$F$50,B46+1,\"\")","v":""},{"$f":"IF(B46<Simulador!$F$50,H46,\"\")","v":""},{"$f":"IF(Tabla1[[#This Row],[Periodo]]=\"\",\"\",IF(B47<=Simulador!$F$50,PPMT(Simulador!$F$44+Simulador!$F$46,Cronograma!B47,Simulador!$F$50,-Simulador!$F$40),\"\"))","v":""},{"$f":"IF(B46<Simulador!$F$50,(IPMT(Simulador!$F$44+Simulador!$F$46,Tabla1[[#This Row],[Periodo]],Simulador!$F$50,-Simulador!$F$40)-Tabla1[[#This Row],[Seguro Desgravamen]]),\"\")","v":""},{"$f":"IF(B46<Simulador!$F$50,C47*Simulador!$F$46,\"\")","v":""},{"$f":"IF(B46<Simulador!$F$50,Simulador!$F$48*Simulador!$F$12/12,\"\")","v":""},{"$f":"IF(B46<Simulador!$F$50,C47-D47,\"\")","v":""},{"$f":"IF(B46<Simulador!$F$50,PMT(Simulador!$F$44+Simulador!$F$46,Simulador!$F$50,-Simulador!$F$40)+G47,\"\")","v":""}]
[null,{"$f":"IF(B47<Simulador!$F$50,B47+1,\"\")","v":""},{"$f":"IF(B47<Simulador!$F$50,H47,\"\")","v":""},{"$f":"IF(Tabla1[[#This Row],[Periodo]]=\"\",\"\",IF(B48<=Simulador!$F$50,PPMT(Simulador!$F$44+Simulador!$F$46,Cronograma!B48,Simulador!$F$50,-Simulador!$F$40),\"\"))","v":""},{"$f":"IF(B47<Simulador!$F$50,(IPMT(Simulador!$F$44+Simulador!$F$46,Tabla1[[#This Row],[Periodo]],Simulador!$F$50,-Simulador!$F$40)-Tabla1[[#This Row],[Seguro Desgravamen]]),\"\")","v":""},{"$f":"IF(B47<Simulador!$F$50,C48*Simulador!$F$46,\"\")","v":""},{"$f":"IF(B47<Simulador!$F$50,Simulador!$F$48*Simulador!$F$12/12,\"\")","v":""},{"$f":"IF(B47<Simulador!$F$50,C48-D48,\"\")","v":""},{"$f":"IF(B47<Simulador!$F$50,PMT(Simulador!$F$44+Simulador!$F$46,Simulador!$F$50,-Simulador!$F$40)+G48,\"\")","v":""}]
[null,{"$f":"IF(B48<Simulador!$F$50,B48+1,\"\")","v":""},{"$f":"IF(B48<Simulador!$F$50,H48,\"\")","v":""},{"$f":"IF(Tabla1[[#This Row],[Periodo]]=\"\",\"\",IF(B49<=Simulador!$F$50,PPMT(Simulador!$F$44+Simulador!$F$46,Cronograma!B49,Simulador!$F$50,-Simulador!$F$40),\"\"))","v":""},{"$f":"IF(B48<Simulador!$F$50,(IPMT(Simulador!$F$44+Simulador!$F$46,Tabla1[[#This Row],[Periodo]],Simulador!$F$50,-Simulador!$F$40)-Tabla1[[#This Row],[Seguro Desgravamen]]),\"\")","v":""},{"$f":"IF(B48<Simulador!$F$50,C49*Simulador!$F$46,\"\")","v":""},{"$f":"IF(B48<Simulador!$F$50,Simulador!$F$48*Simulador!$F$12/12,\"\")","v":""},{"$f":"IF(B48<Simulador!$F$50,C49-D49,\"\")","v":""},{"$f":"IF(B48<Simulador!$F$50,PMT(Simulador!$F$44+Simulador!$F$46,Simulador!$F$50,-Simulador!$F$40)+G49,\"\")","v":""}]
[null,{"$f":"IF(B49<Simulador!$F$50,B49+1,\"\")","v":""},{"$f":"IF(B49<Simulador!$F$50,H49,\"\")","v":""},{"$f":"IF(Tabla1[[#This Row],[Periodo]]=\"\",\"\",IF(B50<=Simulador!$F$50,PPMT(Simulador!$F$44+Simulador!$F$46,Cronograma!B50,Simulador!$F$50,-Simulador!$F$40),\"\"))","v":""},{"$f":"IF(B49<Simulador!$F$50,(IPMT(Simulador!$F$44+Simulador!$F$46,Tabla1[[#This Row],[Periodo]],Simulador!$F$50,-Simulador!$F$40)-Tabla1[[#This Row],[Seguro Desgravamen]]),\"\")","v":""},{"$f":"IF(B49<Simulador!$F$50,C50*Simulador!$F$46,\"\")","v":""},{"$f":"IF(B49<Simulador!$F$50,Simulador!$F$48*Simulador!$F$12/12,\"\")","v":""},{"$f":"IF(B49<Simulador!$F$50,C50-D50,\"\")","v":""},{"$f":"IF(B49<Simulador!$F$50,PMT(Simulador!$F$44+Simulador!$F$46,Simulador!$F$50,-Simulador!$F$40)+G50,\"\")","v":""}]
[null,{"$f":"IF(B50<Simulador!$F$50,B50+1,\"\")","v":""},{"$f":"IF(B50<Simulador!$F$50,H50,\"\")","v":""},{"$f":"IF(Tabla1[[#This Row],[Periodo]]=\"\",\"\",IF(B51<=Simulador!$F$50,PPMT(Simulador!$F$44+Simulador!$F$46,Cronograma!B51,Simulador!$F$50,-Simulador!$F$40),\"\"))","v":""},{"$f":"IF(B50<Simulador!$F$50,(IPMT(Simulador!$F$44+Simulador!$F$46,Tabla1[[#This Row],[Periodo]],Simulador!$F$50,-Simulador!$F$40)-Tabla1[[#This Row],[Seguro Desgravamen]]),\"\")","v":""},{"$f":"IF(B50<Simulador!$F$50,C51*Simulador!$F$46,\"\")","v":""},{"$f":"IF(B50<Simulador!$F$50,Simulador!$F$48*Simulador!$F$12/12,\"\")","v":""},{"$f":"IF(B50<Simulador!$F$50,C51-D51,\"\")","v":""},{"$f":"IF(B50<Simulador!$F$50,PMT(Simulador!$F$44+Simulador!$F$46,Simulador!$F$50,-Simulador!$F$40)+G51,\"\")","v":""}]
[null,{"$f":"IF(B51<Simulador!$F$50,B51+1,\"\")","v":""},{"$f":"IF(B51<Simulador!$F$50,H51,\"\")","v":""},{"$f":"IF(Tabla1[[#This Row],[Periodo]]=\"\",\"\",IF(B52<=Simulador!$F$50,PPMT(Simulador!$F$44+Simulador!$F$46,Cronograma!B52,Simulador!$F$50,-Simulador!$F$40),\"\"))","v":""},{"$f":"IF(B51<Simulador!$F$50,(IPMT(Simulador!$F$44+Simulador!$F$46,Tabla1[[#This Row],[Periodo]],Simulador!$F$50,-Simulador!$F$40)-Tabla1[[#This Row],[Seguro Desgravamen]]),\"\")","v":""},{"$f":"IF(B51<Simulador!$F$50,C52*Simulador!$F$46,\"\")","v":""},{"$f":"IF(B51<Simulador!$F$50,Simulador!$F$48*Simulador!$F$12/12,\"\")","v":""},{"$f":"IF(B51<Simulador!$F$50,C52-D52,\"\")","v":""},{"$f":"IF(B51<Simulador!$F$50,PMT(Simulador!$F$44+Simulador!$F$46,Simulador!$F$50,-Simulador!$F$40)+G52,\"\")","v":""}]
[null,{"$f":"IF(B52<Simulador!$F$50,B52+1,\"\")","v":""},{"$f":"IF(B52<Simulador!$F$50,H52,\"\")","v":""},{"$f":"IF(Tabla1[[#This Row],[Periodo]]=\"\",\"\",IF(B53<=Simulador!$F$50,PPMT(Simulador!$F$44+Simulador!$F$46,Cronograma!B53,Simulador!$F$50,-Simulador!$F$40),\"\"))","v":""},{"$f":"IF(B52<Simulador!$F$50,(IPMT(Simulador!$F$44+Simulador!$F$46,Tabla1[[#This Row],[Periodo]],Simulador!$F$50,-Simulador!$F$40)-Tabla1[[#This Row],[Seguro Desgravamen]]),\"\")","v":""},{"$f":"IF(B52<Simulador!$F$50,C53*Simulador!$F$46,\"\")","v":""},{"$f":"IF(B52<Simulador!$F$50,Simulador!$F$48*Simulador!$F$12/12,\"\")","v":""},{"$f":"IF(B52<Simulador!$F$50,C53-D53,\"\")","v":""},{"$f":"IF(B52<Simulador!$F$50,PMT(Simulador!$F$44+Simulador!$F$46,Simulador!$F$50,-Simulador!$F$40)+G53,\"\")","v":""}]
[null,{"$f":"IF(B53<Simulador!$F$50,B53+1,\"\")","v":""},{"$f":"IF(B53<Simulador!$F$50,H53,\"\")","v":""},{"$f":"IF(Tabla1[[#This Row],[Periodo]]=\"\",\"\",IF(B54<=Simulador!$F$50,PPMT(Simulador!$F$44+Simulador!$F$46,Cronograma!B54,Simulador!$F$50,-Simulador!$F$40),\"\"))","v":""},{"$f":"IF(B53<Simulador!$F$50,(IPMT(Simulador!$F$44+Simulador!$F$46,Tabla1[[#This Row],[Periodo]],Simulador!$F$50,-Simulador!$F$40)-Tabla1[[#This Row],[Seguro Desgravamen]]),\"\")","v":""},{"$f":"IF(B53<Simulador!$F$50,C54*Simulador!$F$46,\"\")","v":""},{"$f":"IF(B53<Simulador!$F$50,Simulador!$F$48*Simulador!$F$12/12,\"\")","v":""},{"$f":"IF(B53<Simulador!$F$50,C54-D54,\"\")","v":""},{"$f":"IF(B53<Simulador!$F$50,PMT(Simulador!$F$44+Simulador!$F$46,Simulador!$F$50,-Simulador!$F$40)+G54,\"\")","v":""}]
[null,{"$f":"IF(B54<Simulador!$F$50,B54+1,\"\")","v":""},{"$f":"IF(B54<Simulador!$F$50,H54,\"\")","v":""},{"$f":"IF(Tabla1[[#This Row],[Periodo]]=\"\",\"\",IF(B55<=Simulador!$F$50,PPMT(Simulador!$F$44+Simulador!$F$46,Cronograma!B55,Simulador!$F$50,-Simulador!$F$40),\"\"))","v":""},{"$f":"IF(B54<Simulador!$F$50,(IPMT(Simulador!$F$44+Simulador!$F$46,Tabla1[[#This Row],[Periodo]],Simulador!$F$50,-Simulador!$F$40)-Tabla1[[#This Row],[Seguro Desgravamen]]),\"\")","v":""},{"$f":"IF(B54<Simulador!$F$50,C55*Simulador!$F$46,\"\")","v":""},{"$f":"IF(B54<Simulador!$F$50,Simulador!$F$48*Simulador!$F$12/12,\"\")","v":""},{"$f":"IF(B54<Simulador!$F$50,C55-D55,\"\")","v":""},{"$f":"IF(B54<Simulador!$F$50,PMT(Simulador!$F$44+Simulador!$F$46,Simulador!$F$50,-Simulador!$F$40)+G55,\"\")","v":""}]
[null,{"$f":"IF(B55<Simulador!$F$50,B55+1,\"\")","v":""},{"$f":"IF(B55<Simulador!$F$50,H55,\"\")","v":""},{"$f":"IF(Tabla1[[#This Row],[Periodo]]=\"\",\"\",IF(B56<=Simulador!$F$50,PPMT(Simulador!$F$44+Simulador!$F$46,Cronograma!B56,Simulador!$F$50,-Simulador!$F$40),\"\"))","v":""},{"$f":"IF(B55<Simulador!$F$50,(IPMT(Simulador!$F$44+Simulador!$F$46,Tabla1[[#This Row],[Periodo]],Simulador!$F$50,-Simulador!$F$40)-Tabla1[[#This Row],[Seguro Desgravamen]]),\"\")","v":""},{"$f":"IF(B55<Simulador!$F$50,C56*Simulador!$F$46,\"\")","v":""},{"$f":"IF(B55<Simulador!$F$50,Simulador!$F$48*Simulador!$F$12/12,\"\")","v":""},{"$f":"IF(B55<Simulador!$F$50,C56-D56,\"\")","v":""},{"$f":"IF(B55<Simulador!$F$50,PMT(Simulador!$F$44+Simulador!$F$46,Simulador!$F$50,-Simulador!$F$40)+G56,\"\")","v":""}]
[null,{"$f":"IF(B56<Simulador!$F$50,B56+1,\"\")","v":""},{"$f":"IF(B56<Simulador!$F$50,H56,\"\")","v":""},{"$f":"IF(Tabla1[[#This Row],[Periodo]]=\"\",\"\",IF(B57<=Simulador!$F$50,PPMT(Simulador!$F$44+Simulador!$F$46,Cronograma!B57,Simulador!$F$50,-Simulador!$F$40),\"\"))","v":""},{"$f":"IF(B56<Simulador!$F$50,(IPMT(Simulador!$F$44+Simulador!$F$46,Tabla1[[#This Row],[Periodo]],Simulador!$F$50,-Simulador!$F$40)-Tabla1[[#This Row],[Seguro Desgravamen]]),\"\")","v":""},{"$f":"IF(B56<Simulador!$F$50,C57*Simulador!$F$46,\"\")","v":""},{"$f":"IF(B56<Simulador!$F$50,Simulador!$F$48*Simulador!$F$12/12,\"\")","v":""},{"$f":"IF(B56<Simulador!$F$50,C57-D57,\"\")","v":""},{"$f":"IF(B56<Simulador!$F$50,PMT(Simulador!$F$44+Simulador!$F$46,Simulador!$F$50,-Simulador!$F$40)+G57,\"\")","v":""}]
[null,{"$f":"IF(B57<Simulador!$F$50,B57+1,\"\")","v":""},{"$f":"IF(B57<Simulador!$F$50,H57,\"\")","v":""},{"$f":"IF(Tabla1[[#This Row],[Periodo]]=\"\",\"\",IF(B58<=Simulador!$F$50,PPMT(Simulador!$F$44+Simulador!$F$46,Cronograma!B58,Simulador!$F$50,-Simulador!$F$40),\"\"))","v":""},{"$f":"IF(B57<Simulador!$F$50,(IPMT(Simulador!$F$44+Simulador!$F$46,Tabla1[[#This Row],[Periodo]],Simulador!$F$50,-Simulador!$F$40)-Tabla1[[#This Row],[Seguro Desgravamen]]),\"\")","v":""},{"$f":"IF(B57<Simulador!$F$50,C58*Simulador!$F$46,\"\")","v":""},{"$f":"IF(B57<Simulador!$F$50,Simulador!$F$48*Simulador!$F$12/12,\"\")","v":""},{"$f":"IF(B57<Simulador!$F$50,C58-D58,\"\")","v":""},{"$f":"IF(B57<Simulador!$F$50,PMT(Simulador!$F$44+Simulador!$F$46,Simulador!$F$50,-Simulador!$F$40)+G58,\"\")","v":""}]
[null,{"$f":"IF(B58<Simulador!$F$50,B58+1,\"\")","v":""},{"$f":"IF(B58<Simulador!$F$50,H58,\"\")","v":""},{"$f":"IF(Tabla1[[#This Row],[Periodo]]=\"\",\"\",IF(B59<=Simulador!$F$50,PPMT(Simulador!$F$44+Simulador!$F$46,Cronograma!B59,Simulador!$F$50,-Simulador!$F$40),\"\"))","v":""},{"$f":"IF(B58<Simulador!$F$50,(IPMT(Simulador!$F$44+Simulador!$F$46,Tabla1[[#This Row],[Periodo]],Simulador!$F$50,-Simulador!$F$40)-Tabla1[[#This Row],[Seguro Desgravamen]]),\"\")","v":""},{"$f":"IF(B58<Simulador!$F$50,C59*Simulador!$F$46,\"\")","v":""},{"$f":"IF(B58<Simulador!$F$50,Simulador!$F$48*Simulador!$F$12/12,\"\")","v":""},{"$f":"IF(B58<Simulador!$F$50,C59-D59,\"\")","v":""},{"$f":"IF(B58<Simulador!$F$50,PMT(Simulador!$F$44+Simulador!$F$46,Simulador!$F$50,-Simulador!$F$40)+G59,\"\")","v":""}]
[null,{"$f":"IF(B59<Simulador!$F$50,B59+1,\"\")","v":""},{"$f":"IF(B59<Simulador!$F$50,H59,\"\")","v":""},{"$f":"IF(Tabla1[[#This Row],[Periodo]]=\"\",\"\",IF(B60<=Simulador!$F$50,PPMT(Simulador!$F$44+Simulador!$F$46,Cronograma!B60,Simulador!$F$50,-Simulador!$F$40),\"\"))","v":""},{"$f":"IF(B59<Simulador!$F$50,(IPMT(Simulador!$F$44+Simulador!$F$46,Tabla1[[#This Row],[Periodo]],Simulador!$F$50,-Simulador!$F$40)-Tabla1[[#This Row],[Seguro Desgravamen]]),\"\")","v":""},{"$f":"IF(B59<Simulador!$F$50,C60*Simulador!$F$46,\"\")","v":""},{"$f":"IF(B59<Simulador!$F$50,Simulador!$F$48*Simulador!$F$12/12,\"\")","v":""},{"$f":"IF(B59<Simulador!$F$50,C60-D60,\"\")","v":""},{"$f":"IF(B59<Simulador!$F$50,PMT(Simulador!$F$44+Simulador!$F$46,Simulador!$F$50,-Simulador!$F$40)+G60,\"\")","v":""}]
[null,{"$f":"IF(B60<Simulador!$F$50,B60+1,\"\")","v":""},{"$f":"IF(B60<Simulador!$F$50,H60,\"\")","v":""},{"$f":"IF(Tabla1[[#This Row],[Periodo]]=\"\",\"\",IF(B61<=Simulador!$F$50,PPMT(Simulador!$F$44+Simulador!$F$46,Cronograma!B61,Simulador!$F$50,-Simulador!$F$40),\"\"))","v":""},{"$f":"IF(B60<Simulador!$F$50,(IPMT(Simulador!$F$44+Simulador!$F$46,Tabla1[[#This Row],[Periodo]],Simulador!$F$50,-Simulador!$F$40)-Tabla1[[#This Row],[Seguro Desgravamen]]),\"\")","v":""},{"$f":"IF(B60<Simulador!$F$50,C61*Simulador!$F$46,\"\")","v":""},{"$f":"IF(B60<Simulador!$F$50,Simulador!$F$48*Simulador!$F$12/12,\"\")","v":""},{"$f":"IF(B60<Simulador!$F$50,C61-D61,\"\")","v":""},{"$f":"IF(B60<Simulador!$F$50,PMT(Simulador!$F$44+Simulador!$F$46,Simulador!$F$50,-Simulador!$F$40)+G61,\"\")","v":""}]
[null,{"$f":"IF(B61<Simulador!$F$50,B61+1,\"\")","v":""},{"$f":"IF(B61<Simulador!$F$50,H61,\"\")","v":""},{"$f":"IF(Tabla1[[#This Row],[Periodo]]=\"\",\"\",IF(B62<=Simulador!$F$50,PPMT(Simulador!$F$44+Simulador!$F$46,Cronograma!B62,Simulador!$F$50,-Simulador!$F$40),\"\"))","v":""},{"$f":"IF(B61<Simulador!$F$50,(IPMT(Simulador!$F$44+Simulador!$F$46,Tabla1[[#This Row],[Periodo]],Simulador!$F$50,-Simulador!$F$40)-Tabla1[[#This Row],[Seguro Desgravamen]]),\"\")","v":""},{"$f":"IF(B61<Simulador!$F$50,C62*Simulador!$F$46,\"\")","v":""},{"$f":"IF(B61<Simulador!$F$50,Simulador!$F$48*Simulador!$F$12/12,\"\")","v":""},{"$f":"IF(B61<Simulador!$F$50,C62-D62,\"\")","v":""},{"$f":"IF(B61<Simulador!$F$50,PMT(Simulador!$F$44+Simulador!$F$46,Simulador!$F$50,-Simulador!$F$40)+G62,\"\")","v":""}]
[null,{"$f":"IF(B62<Simulador!$F$50,B62+1,\"\")","v":""},{"$f":"IF(B62<Simulador!$F$50,H62,\"\")","v":""},{"$f":"IF(Tabla1[[#This Row],[Periodo]]=\"\",\"\",IF(B63<=Simulador!$F$50,PPMT(Simulador!$F$44+Simulador!$F$46,Cronograma!B63,Simulador!$F$50,-Simulador!$F$40),\"\"))","v":""},{"$f":"IF(B62<Simulador!$F$50,(IPMT(Simulador!$F$44+Simulador!$F$46,Tabla1[[#This Row],[Periodo]],Simulador!$F$50,-Simulador!$F$40)-Tabla1[[#This Row],[Seguro Desgravamen]]),\"\")","v":""},{"$f":"IF(B62<Simulador!$F$50,C63*Simulador!$F$46,\"\")","v":""},{"$f":"IF(B62<Simulador!$F$50,Simulador!$F$48*Simulador!$F$12/12,\"\")","v":""},{"$f":"IF(B62<Simulador!$F$50,C63-D63,\"\")","v":""},{"$f":"IF(B62<Simulador!$F$50,PMT(Simulador!$F$44+Simulador!$F$46,Simulador!$F$50,-Simulador!$F$40)+G63,\"\")","v":""}]
[null,{"$f":"IF(B63<Simulador!$F$50,B63+1,\"\")","v":""},{"$f":"IF(B63<Simulador!$F$50,H63,\"\")","v":""},{"$f":"IF(Tabla1[[#This Row],[Periodo]]=\"\",\"\",IF(B64<=Simulador!$F$50,PPMT(Simulador!$F$44+Simulador!$F$46,Cronograma!B64,Simulador!$F$50,-Simulador!$F$40),\"\"))","v":""},{"$f":"IF(B63<Simulador!$F$50,(IPMT(Simulador!$F$44+Simulador!$F$46,Tabla1[[#This Row],[Periodo]],Simulador!$F$50,-Simulador!$F$40)-Tabla1[[#This Row],[Seguro Desgravamen]]),\"\")","v":""},{"$f":"IF(B63<Simulador!$F$50,C64*Simulador!$F$46,\"\")","v":""},{"$f":"IF(B63<Simulador!$F$50,Simulador!$F$48*Simulador!$F$12/12,\"\")","v":""},{"$f":"IF(B63<Simulador!$F$50,C64-D64,\"\")","v":""},{"$f":"IF(B63<Simulador!$F$50,PMT(Simulador!$F$44+Simulador!$F$46,Simulador!$F$50,-Simulador!$F$40)+G64,\"\")","v":""}]
[null,{"$f":"IF(B64<Simulador!$F$50,B64+1,\"\")","v":""},{"$f":"IF(B64<Simulador!$F$50,H64,\"\")","v":""},{"$f":"IF(Tabla1[[#This Row],[Periodo]]=\"\",\"\",IF(B65<=Simulador!$F$50,PPMT(Simulador!$F$44+Simulador!$F$46,Cronograma!B65,Simulador!$F$50,-Simulador!$F$40),\"\"))","v":""},{"$f":"IF(B64<Simulador!$F$50,(IPMT(Simulador!$F$44+Simulador!$F$46,Tabla1[[#This Row],[Periodo]],Simulador!$F$50,-Simulador!$F$40)-Tabla1[[#This Row],[Seguro Desgravamen]]),\"\")","v":""},{"$f":"IF(B64<Simulador!$F$50,C65*Simulador!$F$46,\"\")","v":""},{"$f":"IF(B64<Simulador!$F$50,Simulador!$F$48*Simulador!$F$12/12,\"\")","v":""},{"$f":"IF(B64<Simulador!$F$50,C65-D65,\"\")","v":""},{"$f":"IF(B64<Simulador!$F$50,PMT(Simulador!$F$44+Simulador!$F$46,Simulador!$F$50,-Simulador!$F$40)+G65,\"\")","v":""}]
[null,{"$f":"IF(B65<Simulador!$F$50,B65+1,\"\")","v":""},{"$f":"IF(B65<Simulador!$F$50,H65,\"\")","v":""},{"$f":"IF(Tabla1[[#This Row],[Periodo]]=\"\",\"\",IF(B66<=Simulador!$F$50,PPMT(Simulador!$F$44+Simulador!$F$46,Cronograma!B66,Simulador!$F$50,-Simulador!$F$40),\"\"))","v":""},{"$f":"IF(B65<Simulador!$F$50,(IPMT(Simulador!$F$44+Simulador!$F$46,Tabla1[[#This Row],[Periodo]],Simulador!$F$50,-Simulador!$F$40)-Tabla1[[#This Row],[Seguro Desgravamen]]),\"\")","v":""},{"$f":"IF(B65<Simulador!$F$50,C66*Simulador!$F$46,\"\")","v":""},{"$f":"IF(B65<Simulador!$F$50,Simulador!$F$48*Simulador!$F$12/12,\"\")","v":""},{"$f":"IF(B65<Simulador!$F$50,C66-D66,\"\")","v":""},{"$f":"IF(B65<Simulador!$F$50,PMT(Simulador!$F$44+Simulador!$F$46,Simulador!$F$50,-Simulador!$F$40)+G66,\"\")","v":""}]
[null,{"$f":"IF(B66<Simulador!$F$50,B66+1,\"\")","v":""},{"$f":"IF(B66<Simulador!$F$50,H66,\"\")","v":""},{"$f":"IF(Tabla1[[#This Row],[Periodo]]=\"\",\"\",IF(B67<=Simulador!$F$50,PPMT(Simulador!$F$44+Simulador!$F$46,Cronograma!B67,Simulador!$F$50,-Simulador!$F$40),\"\"))","v":""},{"$f":"IF(B66<Simulador!$F$50,(IPMT(Simulador!$F$44+Simulador!$F$46,Tabla1[[#This Row],[Periodo]],Simulador!$F$50,-Simulador!$F$40)-Tabla1[[#This Row],[Seguro Desgravamen]]),\"\")","v":""},{"$f":"IF(B66<Simulador!$F$50,C67*Simulador!$F$46,\"\")","v":""},{"$f":"IF(B66<Simulador!$F$50,Simulador!$F$48*Simulador!$F$12/12,\"\")","v":""},{"$f":"IF(B66<Simulador!$F$50,C67-D67,\"\")","v":""},{"$f":"IF(B66<Simulador!$F$50,PMT(Simulador!$F$44+Simulador!$F$46,Simulador!$F$50,-Simulador!$F$40)+G67,\"\")","v":""}]
[null,{"$f":"IF(B67<Simulador!$F$50,B67+1,\"\")","v":""},{"$f":"IF(B67<Simulador!$F$50,H67,\"\")","v":""},{"$f":"IF(Tabla1[[#This Row],[Periodo]]=\"\",\"\",IF(B68<=Simulador!$F$50,PPMT(Simulador!$F$44+Simulador!$F$46,Cronograma!B68,Simulador!$F$50,-Simulador!$F$40),\"\"))","v":""},{"$f":"IF(B67<Simulador!$F$50,(IPMT(Simulador!$F$44+Simulador!$F$46,Tabla1[[#This Row],[Periodo]],Simulador!$F$50,-Simulador!$F$40)-Tabla1[[#This Row],[Seguro Desgravamen]]),\"\")","v":""},{"$f":"IF(B67<Simulador!$F$50,C68*Simulador!$F$46,\"\")","v":""},{"$f":"IF(B67<Simulador!$F$50,Simulador!$F$48*Simulador!$F$12/12,\"\")","v":""},{"$f":"IF(B67<Simulador!$F$50,C68-D68,\"\")","v":""},{"$f":"IF(B67<Simulador!$F$50,PMT(Simulador!$F$44+Simulador!$F$46,Simulador!$F$50,-Simulador!$F$40)+G68,\"\")","v":""}]
[null,{"$f":"IF(B68<Simulador!$F$50,B68+1,\"\")","v":""},{"$f":"IF(B68<Simulador!$F$50,H68,\"\")","v":""},{"$f":"IF(Tabla1[[#This Row],[Periodo]]=\"\",\"\",IF(B69<=Simulador!$F$50,PPMT(Simulador!$F$44+Simulador!$F$46,Cronograma!B69,Simulador!$F$50,-Simulador!$F$40),\"\"))","v":""},{"$f":"IF(B68<Simulador!$F$50,(IPMT(Simulador!$F$44+Simulador!$F$46,Tabla1[[#This Row],[Periodo]],Simulador!$F$50,-Simulador!$F$40)-Tabla1[[#This Row],[Seguro Desgravamen]]),\"\")","v":""},{"$f":"IF(B68<Simulador!$F$50,C69*Simulador!$F$46,\"\")","v":""},{"$f":"IF(B68<Simulador!$F$50,Simulador!$F$48*Simulador!$F$12/12,\"\")","v":""},{"$f":"IF(B68<Simulador!$F$50,C69-D69,\"\")","v":""},{"$f":"IF(B68<Simulador!$F$50,PMT(Simulador!$F$44+Simulador!$F$46,Simulador!$F$50,-Simulador!$F$40)+G69,\"\")","v":""}]
[null,{"$f":"IF(B69<Simulador!$F$50,B69+1,\"\")","v":""},{"$f":"IF(B69<Simulador!$F$50,H69,\"\")","v":""},{"$f":"IF(Tabla1[[#This Row],[Periodo]]=\"\",\"\",IF(B70<=Simulador!$F$50,PPMT(Simulador!$F$44+Simulador!$F$46,Cronograma!B70,Simulador!$F$50,-Simulador!$F$40),\"\"))","v":""},{"$f":"IF(B69<Simulador!$F$50,(IPMT(Simulador!$F$44+Simulador!$F$46,Tabla1[[#This Row],[Periodo]],Simulador!$F$50,-Simulador!$F$40)-Tabla1[[#This Row],[Seguro Desgravamen]]),\"\")","v":""},{"$f":"IF(B69<Simulador!$F$50,C70*Simulador!$F$46,\"\")","v":""},{"$f":"IF(B69<Simulador!$F$50,Simulador!$F$48*Simulador!$F$12/12,\"\")","v":""},{"$f":"IF(B69<Simulador!$F$50,C70-D70,\"\")","v":""},{"$f":"IF(B69<Simulador!$F$50,PMT(Simulador!$F$44+Simulador!$F$46,Simulador!$F$50,-Simulador!$F$40)+G70,\"\")","v":""}]
[null,{"$f":"IF(B70<Simulador!$F$50,B70+1,\"\")","v":""},{"$f":"IF(B70<Simulador!$F$50,H70,\"\")","v":""},{"$f":"IF(Tabla1[[#This Row],[Periodo]]=\"\",\"\",IF(B71<=Simulador!$F$50,PPMT(Simulador!$F$44+Simulador!$F$46,Cronograma!B71,Simulador!$F$50,-Simulador!$F$40),\"\"))","v":""},{"$f":"IF(B70<Simulador!$F$50,(IPMT(Simulador!$F$44+Simulador!$F$46,Tabla1[[#This Row],[Periodo]],Simulador!$F$50,-Simulador!$F$40)-Tabla1[[#This Row],[Seguro Desgravamen]]),\"\")","v":""},{"$f":"IF(B70<Simulador!$F$50,C71*Simulador!$F$46,\"\")","v":""},{"$f":"IF(B70<Simulador!$F$50,Simulador!$F$48*Simulador!$F$12/12,\"\")","v":""},{"$f":"IF(B70<Simulador!$F$50,C71-D71,\"\")","v":""},{"$f":"IF(B70<Simulador!$F$50,PMT(Simulador!$F$44+Simulador!$F$46,Simulador!$F$50,-Simulador!$F$40)+G71,\"\")","v":""}]
[null,{"$f":"IF(B71<Simulador!$F$50,B71+1,\"\")","v":""},{"$f":"IF(B71<Simulador!$F$50,H71,\"\")","v":""},{"$f":"IF(Tabla1[[#This Row],[Periodo]]=\"\",\"\",IF(B72<=Simulador!$F$50,PPMT(Simulador!$F$44+Simulador!$F$46,Cronograma!B72,Simulador!$F$50,-Simulador!$F$40),\"\"))","v":""},{"$f":"IF(B71<Simulador!$F$50,(IPMT(Simulador!$F$44+Simulador!$F$46,Tabla1[[#This Row],[Periodo]],Simulador!$F$50,-Simulador!$F$40)-Tabla1[[#This Row],[Seguro Desgravamen]]),\"\")","v":""},{"$f":"IF(B71<Simulador!$F$50,C72*Simulador!$F$46,\"\")","v":""},{"$f":"IF(B71<Simulador!$F$50,Simulador!$F$48*Simulador!$F$12/12,\"\")","v":""},{"$f":"IF(B71<Simulador!$F$50,C72-D72,\"\")","v":""},{"$f":"IF(B71<Simulador!$F$50,PMT(Simulador!$F$44+Simulador!$F$46,Simulador!$F$50,-Simulador!$F$40)+G72,\"\")","v":""}]
[null,{"$f":"IF(B72<Simulador!$F$50,B72+1,\"\")","v":""},{"$f":"IF(B72<Simulador!$F$50,H72,\"\")","v":""},{"$f":"IF(Tabla1[[#This Row],[Periodo]]=\"\",\"\",IF(B73<=Simulador!$F$50,PPMT(Simulador!$F$44+Simulador!$F$46,Cronograma!B73,Simulador!$F$50,-Simulador!$F$40),\"\"))","v":""},{"$f":"IF(B72<Simulador!$F$50,(IPMT(Simulador!$F$44+Simulador!$F$46,Tabla1[[#This Row],[Periodo]],Simulador!$F$50,-Simulador!$F$40)-Tabla1[[#This Row],[Seguro Desgravamen]]),\"\")","v":""},{"$f":"IF(B72<Simulador!$F$50,C73*Simulador!$F$46,\"\")","v":""},{"$f":"IF(B72<Simulador!$F$50,Simulador!$F$48*Simulador!$F$12/12,\"\")","v":""},{"$f":"IF(B72<Simulador!$F$50,C73-D73,\"\")","v":""},{"$f":"IF(B72<Simulador!$F$50,PMT(Simulador!$F$44+Simulador!$F$46,Simulador!$F$50,-Simulador!$F$40)+G73,\"\")","v":""}]
[null,{"$f":"IF(B73<Simulador!$F$50,B73+1,\"\")","v":""},{"$f":"IF(B73<Simulador!$F$50,H73,\"\")","v":""},{"$f":"IF(Tabla1[[#This Row],[Periodo]]=\"\",\"\",IF(B74<=Simulador!$F$50,PPMT(Simulador!$F$44+Simulador!$F$46,Cronograma!B74,Simulador!$F$50,-Simulador!$F$40),\"\"))","v":""},{"$f":"IF(B73<Simulador!$F$50,(IPMT(Simulador!$F$44+Simulador!$F$46,Tabla1[[#This Row],[Periodo]],Simulador!$F$50,-Simulador!$F$40)-Tabla1[[#This Row],[Seguro Desgravamen]]),\"\")","v":""},{"$f":"IF(B73<Simulador!$F$50,C74*Simulador!$F$46,\"\")","v":""},{"$f":"IF(B73<Simulador!$F$50,Simulador!$F$48*Simulador!$F$12/12,\"\")","v":""},{"$f":"IF(B73<Simulador!$F$50,C74-D74,\"\")","v":""},{"$f":"IF(B73<Simulador!$F$50,PMT(Simulador!$F$44+Simulador!$F$46,Simulador!$F$50,-Simulador!$F$40)+G74,\"\")","v":""}]
[null,{"$f":"IF(B74<Simulador!$F$50,B74+1,\"\")","v":""},{"$f":"IF(B74<Simulador!$F$50,H74,\"\")","v":""},{"$f":"IF(Tabla1[[#This Row],[Periodo]]=\"\",\"\",IF(B75<=Simulador!$F$50,PPMT(Simulador!$F$44+Simulador!$F$46,Cronograma!B75,Simulador!$F$50,-Simulador!$F$40),\"\"))","v":""},{"$f":"IF(B74<Simulador!$F$50,(IPMT(Simulador!$F$44+Simulador!$F$46,Tabla1[[#This Row],[Periodo]],Simulador!$F$50,-Simulador!$F$40)-Tabla1[[#This Row],[Seguro Desgravamen]]),\"\")","v":""},{"$f":"IF(B74<Simulador!$F$50,C75*Simulador!$F$46,\"\")","v":""},{"$f":"IF(B74<Simulador!$F$50,Simulador!$F$48*Simulador!$F$12/12,\"\")","v":""},{"$f":"IF(B74<Simulador!$F$50,C75-D75,\"\")","v":""},{"$f":"IF(B74<Simulador!$F$50,PMT(Simulador!$F$44+Simulador!$F$46,Simulador!$F$50,-Simulador!$F$40)+G75,\"\")","v":""}]
[null,{"$f":"IF(B75<Simulador!$F$50,B75+1,\"\")","v":""},{"$f":"IF(B75<Simulador!$F$50,H75,\"\")","v":""},{"$f":"IF(Tabla1[[#This Row],[Periodo]]=\"\",\"\",IF(B76<=Simulador!$F$50,PPMT(Simulador!$F$44+Simulador!$F$46,Cronograma!B76,Simulador!$F$50,-Simulador!$F$40),\"\"))","v":""},{"$f":"IF(B75<Simulador!$F$50,(IPMT(Simulador!$F$44+Simulador!$F$46,Tabla1[[#This Row],[Periodo]],Simulador!$F$50,-Simulador!$F$40)-Tabla1[[#This Row],[Seguro Desgravamen]]),\"\")","v":""},{"$f":"IF(B75<Simulador!$F$50,C76*Simulador!$F$46,\"\")","v":""},{"$f":"IF(B75<Simulador!$F$50,Simulador!$F$48*Simulador!$F$12/12,\"\")","v":""},{"$f":"IF(B75<Simulador!$F$50,C76-D76,\"\")","v":""},{"$f":"IF(B75<Simulador!$F$50,PMT(Simulador!$F$44+Simulador!$F$46,Simulador!$F$50,-Simulador!$F$40)+G76,\"\")","v":""}]
[null,{"$f":"IF(B76<Simulador!$F$50,B76+1,\"\")","v":""},{"$f":"IF(B76<Simulador!$F$50,H76,\"\")","v":""},{"$f":"IF(Tabla1[[#This Row],[Periodo]]=\"\",\"\",IF(B77<=Simulador!$F$50,PPMT(Simulador!$F$44+Simulador!$F$46,Cronograma!B77,Simulador!$F$50,-Simulador!$F$40),\"\"))","v":""},{"$f":"IF(B76<Simulador!$F$50,(IPMT(Simulador!$F$44+Simulador!$F$46,Tabla1[[#This Row],[Periodo]],Simulador!$F$50,-Simulador!$F$40)-Tabla1[[#This Row],[Seguro Desgravamen]]),\"\")","v":""},{"$f":"IF(B76<Simulador!$F$50,C77*Simulador!$F$46,\"\")","v":""},{"$f":"IF(B76<Simulador!$F$50,Simulador!$F$48*Simulador!$F$12/12,\"\")","v":""},{"$f":"IF(B76<Simulador!$F$50,C77-D77,\"\")","v":""},{"$f":"IF(B76<Simulador!$F$50,PMT(Simulador!$F$44+Simulador!$F$46,Simulador!$F$50,-Simulador!$F$40)+G77,\"\")","v":""}]
[null,{"$f":"IF(B77<Simulador!$F$50,B77+1,\"\")","v":""},{"$f":"IF(B77<Simulador!$F$50,H77,\"\")","v":""},{"$f":"IF(Tabla1[[#This Row],[Periodo]]=\"\",\"\",IF(B78<=Simulador!$F$50,PPMT(Simulador!$F$44+Simulador!$F$46,Cronograma!B78,Simulador!$F$50,-Simulador!$F$40),\"\"))","v":""},{"$f":"IF(B77<Simulador!$F$50,(IPMT(Simulador!$F$44+Simulador!$F$46,Tabla1[[#This Row],[Periodo]],Simulador!$F$50,-Simulador!$F$40)-Tabla1[[#This Row],[Seguro Desgravamen]]),\"\")","v":""},{"$f":"IF(B77<Simulador!$F$50,C78*Simulador!$F$46,\"\")","v":""},{"$f":"IF(B77<Simulador!$F$50,Simulador!$F$48*Simulador!$F$12/12,\"\")","v":""},{"$f":"IF(B77<Simulador!$F$50,C78-D78,\"\")","v":""},{"$f":"IF(B77<Simulador!$F$50,PMT(Simulador!$F$44+Simulador!$F$46,Simulador!$F$50,-Simulador!$F$40)+G78,\"\")","v":""}]
[null,{"$f":"IF(B78<Simulador!$F$50,B78+1,\"\")","v":""},{"$f":"IF(B78<Simulador!$F$50,H78,\"\")","v":""},{"$f":"IF(Tabla1[[#This Row],[Periodo]]=\"\",\"\",IF(B79<=Simulador!$F$50,PPMT(Simulador!$F$44+Simulador!$F$46,Cronograma!B79,Simulador!$F$50,-Simulador!$F$40),\"\"))","v":""},{"$f":"IF(B78<Simulador!$F$50,(IPMT(Simulador!$F$44+Simulador!$F$46,Tabla1[[#This Row],[Periodo]],Simulador!$F$50,-Simulador!$F$40)-Tabla1[[#This Row],[Seguro Desgravamen]]),\"\")","v":""},{"$f":"IF(B78<Simulador!$F$50,C79*Simulador!$F$46,\"\")","v":""},{"$f":"IF(B78<Simulador!$F$50,Simulador!$F$48*Simulador!$F$12/12,\"\")","v":""},{"$f":"IF(B78<Simulador!$F$50,C79-D79,\"\")","v":""},{"$f":"IF(B78<Simulador!$F$50,PMT(Simulador!$F$44+Simulador!$F$46,Simulador!$F$50,-Simulador!$F$40)+G79,\"\")","v":""}]
[null,{"$f":"IF(B79<Simulador!$F$50,B79+1,\"\")","v":""},{"$f":"IF(B79<Simulador!$F$50,H79,\"\")","v":""},{"$f":"IF(Tabla1[[#This Row],[Periodo]]=\"\",\"\",IF(B80<=Simulador!$F$50,PPMT(Simulador!$F$44+Simulador!$F$46,Cronograma!B80,Simulador!$F$50,-Simulador!$F$40),\"\"))","v":""},{"$f":"IF(B79<Simulador!$F$50,(IPMT(Simulador!$F$44+Simulador!$F$46,Tabla1[[#This Row],[Periodo]],Simulador!$F$50,-Simulador!$F$40)-Tabla1[[#This Row],[Seguro Desgravamen]]),\"\")","v":""},{"$f":"IF(B79<Simulador!$F$50,C80*Simulador!$F$46,\"\")","v":""},{"$f":"IF(B79<Simulador!$F$50,Simulador!$F$48*Simulador!$F$12/12,\"\")","v":""},{"$f":"IF(B79<Simulador!$F$50,C80-D80,\"\")","v":""},{"$f":"IF(B79<Simulador!$F$50,PMT(Simulador!$F$44+Simulador!$F$46,Simulador!$F$50,-Simulador!$F$40)+G80,\"\")","v":""}]
[null,{"$f":"IF(B80<Simulador!$F$50,B80+1,\"\")","v":""},{"$f":"IF(B80<Simulador!$F$50,H80,\"\")","v":""},{"$f":"IF(Tabla1[[#This Row],[Periodo]]=\"\",\"\",IF(B81<=Simulador!$F$50,PPMT(Simulador!$F$44+Simulador!$F$46,Cronograma!B81,Simulador!$F$50,-Simulador!$F$40),\"\"))","v":""},{"$f":"IF(B80<Simulador!$F$50,(IPMT(Simulador!$F$44+Simulador!$F$46,Tabla1[[#This Row],[Periodo]],Simulador!$F$50,-Simulador!$F$40)-Tabla1[[#This Row],[Seguro Desgravamen]]),\"\")","v":""},{"$f":"IF(B80<Simulador!$F$50,C81*Simulador!$F$46,\"\")","v":""},{"$f":"IF(B80<Simulador!$F$50,Simulador!$F$48*Simulador!$F$12/12,\"\")","v":""},{"$f":"IF(B80<Simulador!$F$50,C81-D81,\"\")","v":""},{"$f":"IF(B80<Simulador!$F$50,PMT(Simulador!$F$44+Simulador!$F$46,Simulador!$F$50,-Simulador!$F$40)+G81,\"\")","v":""}]
[null,{"$f":"IF(B81<Simulador!$F$50,B81+1,\"\")","v":""},{"$f":"IF(B81<Simulador!$F$50,H81,\"\")","v":""},{"$f":"IF(Tabla1[[#This Row],[Periodo]]=\"\",\"\",IF(B82<=Simulador!$F$50,PPMT(Simulador!$F$44+Simulador!$F$46,Cronograma!B82,Simulador!$F$50,-Simulador!$F$40),\"\"))","v":""},{"$f":"IF(B81<Simulador!$F$50,(IPMT(Simulador!$F$44+Simulador!$F$46,Tabla1[[#This Row],[Periodo]],Simulador!$F$50,-Simulador!$F$40)-Tabla1[[#This Row],[Seguro Desgravamen]]),\"\")","v":""},{"$f":"IF(B81<Simulador!$F$50,C82*Simulador!$F$46,\"\")","v":""},{"$f":"IF(B81<Simulador!$F$50,Simulador!$F$48*Simulador!$F$12/12,\"\")","v":""},{"$f":"IF(B81<Simulador!$F$50,C82-D82,\"\")","v":""},{"$f":"IF(B81<Simulador!$F$50,PMT(Simulador!$F$44+Simulador!$F$46,Simulador!$F$50,-Simulador!$F$40)+G82,\"\")","v":""}]
[null,{"$f":"IF(B82<Simulador!$F$50,B82+1,\"\")","v":""},{"$f":"IF(B82<Simulador!$F$50,H82,\"\")","v":""},{"$f":"IF(Tabla1[[#This Row],[Periodo]]=\"\",\"\",IF(B83<=Simulador!$F$50,PPMT(Simulador!$F$44+Simulador!$F$46,Cronograma!B83,Simulador!$F$50,-Simulador!$F$40),\"\"))","v":""},{"$f":"IF(B82<Simulador!$F$50,(IPMT(Simulador!$F$44+Simulador!$F$46,Tabla1[[#This Row],[Periodo]],Simulador!$F$50,-Simulador!$F$40)-Tabla1[[#This Row],[Seguro Desgravamen]]),\"\")","v":""},{"$f":"IF(B82<Simulador!$F$50,C83*Simulador!$F$46,\"\")","v":""},{"$f":"IF(B82<Simulador!$F$50,Simulador!$F$48*Simulador!$F$12/12,\"\")","v":""},{"$f":"IF(B82<Simulador!$F$50,C83-D83,\"\")","v":""},{"$f":"IF(B82<Simulador!$F$50,PMT(Simulador!$F$44+Simulador!$F$46,Simulador!$F$50,-Simulador!$F$40)+G83,\"\")","v":""}]
[null,{"$f":"IF(B83<Simulador!$F$50,B83+1,\"\")","v":""},{"$f":"IF(B83<Simulador!$F$50,H83,\"\")","v":""},{"$f":"IF(Tabla1[[#This Row],[Periodo]]=\"\",\"\",IF(B84<=Simulador!$F$50,PPMT(Simulador!$F$44+Simulador!$F$46,Cronograma!B84,Simulador!$F$50,-Simulador!$F$40),\"\"))","v":""},{"$f":"IF(B83<Simulador!$F$50,(IPMT(Simulador!$F$44+Simulador!$F$46,Tabla1[[#This Row],[Periodo]],Simulador!$F$50,-Simulador!$F$40)-Tabla1[[#This Row],[Seguro Desgravamen]]),\"\")","v":""},{"$f":"IF(B83<Simulador!$F$50,C84*Simulador!$F$46,\"\")","v":""},{"$f":"IF(B83<Simulador!$F$50,Simulador!$F$48*Simulador!$F$12/12,\"\")","v":""},{"$f":"IF(B83<Simulador!$F$50,C84-D84,\"\")","v":""},{"$f":"IF(B83<Simulador!$F$50,PMT(Simulador!$F$44+Simulador!$F$46,Simulador!$F$50,-Simulador!$F$40)+G84,\"\")","v":""}]
[null,{"$f":"IF(B84<Simulador!$F$50,B84+1,\"\")","v":""},{"$f":"IF(B84<Simulador!$F$50,H84,\"\")","v":""},{"$f":"IF(Tabla1[[#This Row],[Periodo]]=\"\",\"\",IF(B85<=Simulador!$F$50,PPMT(Simulador!$F$44+Simulador!$F$46,Cronograma!B85,Simulador!$F$50,-Simulador!$F$40),\"\"))","v":""},{"$f":"IF(B84<Simulador!$F$50,(IPMT(Simulador!$F$44+Simulador!$F$46,Tabla1[[#This Row],[Periodo]],Simulador!$F$50,-Simulador!$F$40)-Tabla1[[#This Row],[Seguro Desgravamen]]),\"\")","v":""},{"$f":"IF(B84<Simulador!$F$50,C85*Simulador!$F$46,\"\")","v":""},{"$f":"IF(B84<Simulador!$F$50,Simulador!$F$48*Simulador!$F$12/12,\"\")","v":""},{"$f":"IF(B84<Simulador!$F$50,C85-D85,\"\")","v":""},{"$f":"IF(B84<Simulador!$F$50,PMT(Simulador!$F$44+Simulador!$F$46,Simulador!$F$50,-Simulador!$F$40)+G85,\"\")","v":""}]
[null,{"$f":"IF(B85<Simulador!$F$50,B85+1,\"\")","v":""},{"$f":"IF(B85<Simulador!$F$50,H85,\"\")","v":""},{"$f":"IF(Tabla1[[#This Row],[Periodo]]=\"\",\"\",IF(B86<=Simulador!$F$50,PPMT(Simulador!$F$44+Simulador!$F$46,Cronograma!B86,Simulador!$F$50,-Simulador!$F$40),\"\"))","v":""},{"$f":"IF(B85<Simulador!$F$50,(IPMT(Simulador!$F$44+Simulador!$F$46,Tabla1[[#This Row],[Periodo]],Simulador!$F$50,-Simulador!$F$40)-Tabla1[[#This Row],[Seguro Desgravamen]]),\"\")","v":""},{"$f":"IF(B85<Simulador!$F$50,C86*Simulador!$F$46,\"\")","v":""},{"$f":"IF(B85<Simulador!$F$50,Simulador!$F$48*Simulador!$F$12/12,\"\")","v":""},{"$f":"IF(B85<Simulador!$F$50,C86-D86,\"\")","v":""},{"$f":"IF(B85<Simulador!$F$50,PMT(Simulador!$F$44+Simulador!$F$46,Simulador!$F$50,-Simulador!$F$40)+G86,\"\")","v":""}]
[null,{"$f":"IF(B86<Simulador!$F$50,B86+1,\"\")","v":""},{"$f":"IF(B86<Simulador!$F$50,H86,\"\")","v":""},{"$f":"IF(Tabla1[[#This Row],[Periodo]]=\"\",\"\",IF(B87<=Simulador!$F$50,PPMT(Simulador!$F$44+Simulador!$F$46,Cronograma!B87,Simulador!$F$50,-Simulador!$F$40),\"\"))","v":""},{"$f":"IF(B86<Simulador!$F$50,(IPMT(Simulador!$F$44+Simulador!$F$46,Tabla1[[#This Row],[Periodo]],Simulador!$F$50,-Simulador!$F$40)-Tabla1[[#This Row],[Seguro Desgravamen]]),\"\")","v":""},{"$f":"IF(B86<Simulador!$F$50,C87*Simulador!$F$46,\"\")","v":""},{"$f":"IF(B86<Simulador!$F$50,Simulador!$F$48*Simulador!$F$12/12,\"\")","v":""},{"$f":"IF(B86<Simulador!$F$50,C87-D87,\"\")","v":""},{"$f":"IF(B86<Simulador!$F$50,PMT(Simulador!$F$44+Simulador!$F$46,Simulador!$F$50,-Simulador!$F$40)+G87,\"\")","v":""}]
[null,{"$f":"IF(B87<Simulador!$F$50,B87+1,\"\")","v":""},{"$f":"IF(B87<Simulador!$F$50,H87,\"\")","v":""},{"$f":"IF(Tabla1[[#This Row],[Periodo]]=\"\",\"\",IF(B88<=Simulador!$F$50,PPMT(Simulador!$F$44+Simulador!$F$46,Cronograma!B88,Simulador!$F$50,-Simulador!$F$40),\"\"))","v":""},{"$f":"IF(B87<Simulador!$F$50,(IPMT(Simulador!$F$44+Simulador!$F$46,Tabla1[[#This Row],[Periodo]],Simulador!$F$50,-Simulador!$F$40)-Tabla1[[#This Row],[Seguro Desgravamen]]),\"\")","v":""},{"$f":"IF(B87<Simulador!$F$50,C88*Simulador!$F$46,\"\")","v":""},{"$f":"IF(B87<Simulador!$F$50,Simulador!$F$48*Simulador!$F$12/12,\"\")","v":""},{"$f":"IF(B87<Simulador!$F$50,C88-D88,\"\")","v":""},{"$f":"IF(B87<Simulador!$F$50,PMT(Simulador!$F$44+Simulador!$F$46,Simulador!$F$50,-Simulador!$F$40)+G88,\"\")","v":""}]
[null,{"$f":"IF(B88<Simulador!$F$50,B88+1,\"\")","v":""},{"$f":"IF(B88<Simulador!$F$50,H88,\"\")","v":""},{"$f":"IF(Tabla1[[#This Row],[Periodo]]=\"\",\"\",IF(B89<=Simulador!$F$50,PPMT(Simulador!$F$44+Simulador!$F$46,Cronograma!B89,Simulador!$F$50,-Simulador!$F$40),\"\"))","v":""},{"$f":"IF(B88<Simulador!$F$50,(IPMT(Simulador!$F$44+Simulador!$F$46,Tabla1[[#This Row],[Periodo]],Simulador!$F$50,-Simulador!$F$40)-Tabla1[[#This Row],[Seguro Desgravamen]]),\"\")","v":""},{"$f":"IF(B88<Simulador!$F$50,C89*Simulador!$F$46,\"\")","v":""},{"$f":"IF(B88<Simulador!$F$50,Simulador!$F$48*Simulador!$F$12/12,\"\")","v":""},{"$f":"IF(B88<Simulador!$F$50,C89-D89,\"\")","v":""},{"$f":"IF(B88<Simulador!$F$50,PMT(Simulador!$F$44+Simulador!$F$46,Simulador!$F$50,-Simulador!$F$40)+G89,\"\")","v":""}]
[null,{"$f":"IF(B89<Simulador!$F$50,B89+1,\"\")","v":""},{"$f":"IF(B89<Simulador!$F$50,H89,\"\")","v":""},{"$f":"IF(Tabla1[[#This Row],[Periodo]]=\"\",\"\",IF(B90<=Simulador!$F$50,PPMT(Simulador!$F$44+Simulador!$F$46,Cronograma!B90,Simulador!$F$50,-Simulador!$F$40),\"\"))","v":""},{"$f":"IF(B89<Simulador!$F$50,(IPMT(Simulador!$F$44+Simulador!$F$46,Tabla1[[#This Row],[Periodo]],Simulador!$F$50,-Simulador!$F$40)-Tabla1[[#This Row],[Seguro Desgravamen]]),\"\")","v":""},{"$f":"IF(B89<Simulador!$F$50,C90*Simulador!$F$46,\"\")","v":""},{"$f":"IF(B89<Simulador!$F$50,Simulador!$F$48*Simulador!$F$12/12,\"\")","v":""},{"$f":"IF(B89<Simulador!$F$50,C90-D90,\"\")","v":""},{"$f":"IF(B89<Simulador!$F$50,PMT(Simulador!$F$44+Simulador!$F$46,Simulador!$F$50,-Simulador!$F$40)+G90,\"\")","v":""}]
[null,{"$f":"IF(B90<Simulador!$F$50,B90+1,\"\")","v":""},{"$f":"IF(B90<Simulador!$F$50,H90,\"\")","v":""},{"$f":"IF(Tabla1[[#This Row],[Periodo]]=\"\",\"\",IF(B91<=Simulador!$F$50,PPMT(Simulador!$F$44+Simulador!$F$46,Cronograma!B91,Simulador!$F$50,-Simulador!$F$40),\"\"))","v":""},{"$f":"IF(B90<Simulador!$F$50,(IPMT(Simulador!$F$44+Simulador!$F$46,Tabla1[[#This Row],[Periodo]],Simulador!$F$50,-Simulador!$F$40)-Tabla1[[#This Row],[Seguro Desgravamen]]),\"\")","v":""},{"$f":"IF(B90<Simulador!$F$50,C91*Simulador!$F$46,\"\")","v":""},{"$f":"IF(B90<Simulador!$F$50,Simulador!$F$48*Simulador!$F$12/12,\"\")","v":""},{"$f":"IF(B90<Simulador!$F$50,C91-D91,\"\")","v":""},{"$f":"IF(B90<Simulador!$F$50,PMT(Simulador!$F$44+Simulador!$F$46,Simulador!$F$50,-Simulador!$F$40)+G91,\"\")","v":""}]
[null,{"$f":"IF(B91<Simulador!$F$50,B91+1,\"\")","v":""},{"$f":"IF(B91<Simulador!$F$50,H91,\"\")","v":""},{"$f":"IF(Tabla1[[#This Row],[Periodo]]=\"\",\"\",IF(B92<=Simulador!$F$50,PPMT(Simulador!$F$44+Simulador!$F$46,Cronograma!B92,Simulador!$F$50,-Simulador!$F$40),\"\"))","v":""},{"$f":"IF(B91<Simulador!$F$50,(IPMT(Simulador!$F$44+Simulador!$F$46,Tabla1[[#This Row],[Periodo]],Simulador!$F$50,-Simulador!$F$40)-Tabla1[[#This Row],[Seguro Desgravamen]]),\"\")","v":""},{"$f":"IF(B91<Simulador!$F$50,C92*Simulador!$F$46,\"\")","v":""},{"$f":"IF(B91<Simulador!$F$50,Simulador!$F$48*Simulador!$F$12/12,\"\")","v":""},{"$f":"IF(B91<Simulador!$F$50,C92-D92,\"\")","v":""},{"$f":"IF(B91<Simulador!$F$50,PMT(Simulador!$F$44+Simulador!$F$46,Simulador!$F$50,-Simulador!$F$40)+G92,\"\")","v":""}]
[null,{"$f":"IF(B92<Simulador!$F$50,B92+1,\"\")","v":""},{"$f":"IF(B92<Simulador!$F$50,H92,\"\")","v":""},{"$f":"IF(Tabla1[[#This Row],[Periodo]]=\"\",\"\",IF(B93<=Simulador!$F$50,PPMT(Simulador!$F$44+Simulador!$F$46,Cronograma!B93,Simulador!$F$50,-Simulador!$F$40),\"\"))","v":""},{"$f":"IF(B92<Simulador!$F$50,(IPMT(Simulador!$F$44+Simulador!$F$46,Tabla1[[#This Row],[Periodo]],Simulador!$F$50,-Simulador!$F$40)-Tabla1[[#This Row],[Seguro Desgravamen]]),\"\")","v":""},{"$f":"IF(B92<Simulador!$F$50,C93*Simulador!$F$46,\"\")","v":""},{"$f":"IF(B92<Simulador!$F$50,Simulador!$F$48*Simulador!$F$12/12,\"\")","v":""},{"$f":"IF(B92<Simulador!$F$50,C93-D93,\"\")","v":""},{"$f":"IF(B92<Simulador!$F$50,PMT(Simulador!$F$44+Simulador!$F$46,Simulador!$F$50,-Simulador!$F$40)+G93,\"\")","v":""}]
[null,{"$f":"IF(B93<Simulador!$F$50,B93+1,\"\")","v":""},{"$f":"IF(B93<Simulador!$F$50,H93,\"\")","v":""},{"$f":"IF(Tabla1[[#This Row],[Periodo]]=\"\",\"\",IF(B94<=Simulador!$F$50,PPMT(Simulador!$F$44+Simulador!$F$46,Cronograma!B94,Simulador!$F$50,-Simulador!$F$40),\"\"))","v":""},{"$f":"IF(B93<Simulador!$F$50,(IPMT(Simulador!$F$44+Simulador!$F$46,Tabla1[[#This Row],[Periodo]],Simulador!$F$50,-Simulador!$F$40)-Tabla1[[#This Row],[Seguro Desgravamen]]),\"\")","v":""},{"$f":"IF(B93<Simulador!$F$50,C94*Simulador!$F$46,\"\")","v":""},{"$f":"IF(B93<Simulador!$F$50,Simulador!$F$48*Simulador!$F$12/12,\"\")","v":""},{"$f":"IF(B93<Simulador!$F$50,C94-D94,\"\")","v":""},{"$f":"IF(B93<Simulador!$F$50,PMT(Simulador!$F$44+Simulador!$F$46,Simulador!$F$50,-Simulador!$F$40)+G94,\"\")","v":""}]
[null,{"$f":"IF(B94<Simulador!$F$50,B94+1,\"\")","v":""},{"$f":"IF(B94<Simulador!$F$50,H94,\"\")","v":""},{"$f":"IF(Tabla1[[#This Row],[Periodo]]=\"\",\"\",IF(B95<=Simulador!$F$50,PPMT(Simulador!$F$44+Simulador!$F$46,Cronograma!B95,Simulador!$F$50,-Simulador!$F$40),\"\"))","v":""},{"$f":"IF(B94<Simulador!$F$50,(IPMT(Simulador!$F$44+Simulador!$F$46,Tabla1[[#This Row],[Periodo]],Simulador!$F$50,-Simulador!$F$40)-Tabla1[[#This Row],[Seguro Desgravamen]]),\"\")","v":""},{"$f":"IF(B94<Simulador!$F$50,C95*Simulador!$F$46,\"\")","v":""},{"$f":"IF(B94<Simulador!$F$50,Simulador!$F$48*Simulador!$F$12/12,\"\")","v":""},{"$f":"IF(B94<Simulador!$F$50,C95-D95,\"\")","v":""},{"$f":"IF(B94<Simulador!$F$50,PMT(Simulador!$F$44+Simulador!$F$46,Simulador!$F$50,-Simulador!$F$40)+G95,\"\")","v":""}]
[null,{"$f":"IF(B95<Simulador!$F$50,B95+1,\"\")","v":""},{"$f":"IF(B95<Simulador!$F$50,H95,\"\")","v":""},{"$f":"IF(Tabla1[[#This Row],[Periodo]]=\"\",\"\",IF(B96<=Simulador!$F$50,PPMT(Simulador!$F$44+Simulador!$F$46,Cronograma!B96,Simulador!$F$50,-Simulador!$F$40),\"\"))","v":""},{"$f":"IF(B95<Simulador!$F$50,(IPMT(Simulador!$F$44+Simulador!$F$46,Tabla1[[#This Row],[Periodo]],Simulador!$F$50,-Simulador!$F$40)-Tabla1[[#This Row],[Seguro Desgravamen]]),\"\")","v":""},{"$f":"IF(B95<Simulador!$F$50,C96*Simulador!$F$46,\"\")","v":""},{"$f":"IF(B95<Simulador!$F$50,Simulador!$F$48*Simulador!$F$12/12,\"\")","v":""},{"$f":"IF(B95<Simulador!$F$50,C96-D96,\"\")","v":""},{"$f":"IF(B95<Simulador!$F$50,PMT(Simulador!$F$44+Simulador!$F$46,Simulador!$F$50,-Simulador!$F$40)+G96,\"\")","v":""}]
[null,{"$f":"IF(B96<Simulador!$F$50,B96+1,\"\")","v":""},{"$f":"IF(B96<Simulador!$F$50,H96,\"\")","v":""},{"$f":"IF(Tabla1[[#This Row],[Periodo]]=\"\",\"\",IF(B97<=Simulador!$F$50,PPMT(Simulador!$F$44+Simulador!$F$46,Cronograma!B97,Simulador!$F$50,-Simulador!$F$40),\"\"))","v":""},{"$f":"IF(B96<Simulador!$F$50,(IPMT(Simulador!$F$44+Simulador!$F$46,Tabla1[[#This Row],[Periodo]],Simulador!$F$50,-Simulador!$F$40)-Tabla1[[#This Row],[Seguro Desgravamen]]),\"\")","v":""},{"$f":"IF(B96<Simulador!$F$50,C97*Simulador!$F$46,\"\")","v":""},{"$f":"IF(B96<Simulador!$F$50,Simulador!$F$48*Simulador!$F$12/12,\"\")","v":""},{"$f":"IF(B96<Simulador!$F$50,C97-D97,\"\")","v":""},{"$f":"IF(B96<Simulador!$F$50,PMT(Simulador!$F$44+Simulador!$F$46,Simulador!$F$50,-Simulador!$F$40)+G97,\"\")","v":""}]
[null,{"$f":"IF(B97<Simulador!$F$50,B97+1,\"\")","v":""},{"$f":"IF(B97<Simulador!$F$50,H97,\"\")","v":""},{"$f":"IF(Tabla1[[#This Row],[Periodo]]=\"\",\"\",IF(B98<=Simulador!$F$50,PPMT(Simulador!$F$44+Simulador!$F$46,Cronograma!B98,Simulador!$F$50,-Simulador!$F$40),\"\"))","v":""},{"$f":"IF(B97<Simulador!$F$50,(IPMT(Simulador!$F$44+Simulador!$F$46,Tabla1[[#This Row],[Periodo]],Simulador!$F$50,-Simulador!$F$40)-Tabla1[[#This Row],[Seguro Desgravamen]]),\"\")","v":""},{"$f":"IF(B97<Simulador!$F$50,C98*Simulador!$F$46,\"\")","v":""},{"$f":"IF(B97<Simulador!$F$50,Simulador!$F$48*Simulador!$F$12/12,\"\")","v":""},{"$f":"IF(B97<Simulador!$F$50,C98-D98,\"\")","v":""},{"$f":"IF(B97<Simulador!$F$50,PMT(Simulador!$F$44+Simulador!$F$46,Simulador!$F$50,-Simulador!$F$40)+G98,\"\")","v":""}]
[null,{"$f":"IF(B98<Simulador!$F$50,B98+1,\"\")","v":""},{"$f":"IF(B98<Simulador!$F$50,H98,\"\")","v":""},{"$f":"IF(Tabla1[[#This Row],[Periodo]]=\"\",\"\",IF(B99<=Simulador!$F$50,PPMT(Simulador!$F$44+Simulador!$F$46,Cronograma!B99,Simulador!$F$50,-Simulador!$F$40),\"\"))","v":""},{"$f":"IF(B98<Simulador!$F$50,(IPMT(Simulador!$F$44+Simulador!$F$46,Tabla1[[#This Row],[Periodo]],Simulador!$F$50,-Simulador!$F$40)-Tabla1[[#This Row],[Seguro Desgravamen]]),\"\")","v":""},{"$f":"IF(B98<Simulador!$F$50,C99*Simulador!$F$46,\"\")","v":""},{"$f":"IF(B98<Simulador!$F$50,Simulador!$F$48*Simulador!$F$12/12,\"\")","v":""},{"$f":"IF(B98<Simulador!$F$50,C99-D99,\"\")","v":""},{"$f":"IF(B98<Simulador!$F$50,PMT(Simulador!$F$44+Simulador!$F$46,Simulador!$F$50,-Simulador!$F$40)+G99,\"\")","v":""}]
[null,{"$f":"IF(B99<Simulador!$F$50,B99+1,\"\")","v":""},{"$f":"IF(B99<Simulador!$F$50,H99,\"\")","v":""},{"$f":"IF(Tabla1[[#This Row],[Periodo]]=\"\",\"\",IF(B100<=Simulador!$F$50,PPMT(Simulador!$F$44+Simulador!$F$46,Cronograma!B100,Simulador!$F$50,-Simulador!$F$40),\"\"))","v":""},{"$f":"IF(B99<Simulador!$F$50,(IPMT(Simulador!$F$44+Simulador!$F$46,Tabla1[[#This Row],[Periodo]],Simulador!$F$50,-Simulador!$F$40)-Tabla1[[#This Row],[Seguro Desgravamen]]),\"\")","v":""},{"$f":"IF(B99<Simulador!$F$50,C100*Simulador!$F$46,\"\")","v":""},{"$f":"IF(B99<Simulador!$F$50,Simulador!$F$48*Simulador!$F$12/12,\"\")","v":""},{"$f":"IF(B99<Simulador!$F$50,C100-D100,\"\")","v":""},{"$f":"IF(B99<Simulador!$F$50,PMT(Simulador!$F$44+Simulador!$F$46,Simulador!$F$50,-Simulador!$F$40)+G100,\"\")","v":""}]
[null,{"$f":"IF(B100<Simulador!$F$50,B100+1,\"\")","v":""},{"$f":"IF(B100<Simulador!$F$50,H100,\"\")","v":""},{"$f":"IF(Tabla1[[#This Row],[Periodo]]=\"\",\"\",IF(B101<=Simulador!$F$50,PPMT(Simulador!$F$44+Simulador!$F$46,Cronograma!B101,Simulador!$F$50,-Simulador!$F$40),\"\"))","v":""},{"$f":"IF(B100<Simulador!$F$50,(IPMT(Simulador!$F$44+Simulador!$F$46,Tabla1[[#This Row],[Periodo]],Simulador!$F$50,-Simulador!$F$40)-Tabla1[[#This Row],[Seguro Desgravamen]]),\"\")","v":""},{"$f":"IF(B100<Simulador!$F$50,C101*Simulador!$F$46,\"\")","v":""},{"$f":"IF(B100<Simulador!$F$50,Simulador!$F$48*Simulador!$F$12/12,\"\")","v":""},{"$f":"IF(B100<Simulador!$F$50,C101-D101,\"\")","v":""},{"$f":"IF(B100<Simulador!$F$50,PMT(Simulador!$F$44+Simulador!$F$46,Simulador!$F$50,-Simulador!$F$40)+G101,\"\")","v":""}]
[null,{"$f":"IF(B101<Simulador!$F$50,B101+1,\"\")","v":""},{"$f":"IF(B101<Simulador!$F$50,H101,\"\")","v":""},{"$f":"IF(Tabla1[[#This Row],[Periodo]]=\"\",\"\",IF(B102<=Simulador!$F$50,PPMT(Simulador!$F$44+Simulador!$F$46,Cronograma!B102,Simulador!$F$50,-Simulador!$F$40),\"\"))","v":""},{"$f":"IF(B101<Simulador!$F$50,(IPMT(Simulador!$F$44+Simulador!$F$46,Tabla1[[#This Row],[Periodo]],Simulador!$F$50,-Simulador!$F$40)-Tabla1[[#This Row],[Seguro Desgravamen]]),\"\")","v":""},{"$f":"IF(B101<Simulador!$F$50,C102*Simulador!$F$46,\"\")","v":""},{"$f":"IF(B101<Simulador!$F$50,Simulador!$F$48*Simulador!$F$12/12,\"\")","v":""},{"$f":"IF(B101<Simulador!$F$50,C102-D102,\"\")","v":""},{"$f":"IF(B101<Simulador!$F$50,PMT(Simulador!$F$44+Simulador!$F$46,Simulador!$F$50,-Simulador!$F$40)+G102,\"\")","v":""}]
[null,{"$f":"IF(B102<Simulador!$F$50,B102+1,\"\")","v":""},{"$f":"IF(B102<Simulador!$F$50,H102,\"\")","v":""},{"$f":"IF(Tabla1[[#This Row],[Periodo]]=\"\",\"\",IF(B103<=Simulador!$F$50,PPMT(Simulador!$F$44+Simulador!$F$46,Cronograma!B103,Simulador!$F$50,-Simulador!$F$40),\"\"))","v":""},{"$f":"IF(B102<Simulador!$F$50,(IPMT(Simulador!$F$44+Simulador!$F$46,Tabla1[[#This Row],[Periodo]],Simulador!$F$50,-Simulador!$F$40)-Tabla1[[#This Row],[Seguro Desgravamen]]),\"\")","v":""},{"$f":"IF(B102<Simulador!$F$50,C103*Simulador!$F$46,\"\")","v":""},{"$f":"IF(B102<Simulador!$F$50,Simulador!$F$48*Simulador!$F$12/12,\"\")","v":""},{"$f":"IF(B102<Simulador!$F$50,C103-D103,\"\")","v":""},{"$f":"IF(B102<Simulador!$F$50,PMT(Simulador!$F$44+Simulador!$F$46,Simulador!$F$50,-Simulador!$F$40)+G103,\"\")","v":""}]
[null,{"$f":"IF(B103<Simulador!$F$50,B103+1,\"\")","v":""},{"$f":"IF(B103<Simulador!$F$50,H103,\"\")","v":""},{"$f":"IF(Tabla1[[#This Row],[Periodo]]=\"\",\"\",IF(B104<=Simulador!$F$50,PPMT(Simulador!$F$44+Simulador!$F$46,Cronograma!B104,Simulador!$F$50,-Simulador!$F$40),\"\"))","v":""},{"$f":"IF(B103<Simulador!$F$50,(IPMT(Simulador!$F$44+Simulador!$F$46,Tabla1[[#This Row],[Periodo]],Simulador!$F$50,-Simulador!$F$40)-Tabla1[[#This Row],[Seguro Desgravamen]]),\"\")","v":""},{"$f":"IF(B103<Simulador!$F$50,C104*Simulador!$F$46,\"\")","v":""},{"$f":"IF(B103<Simulador!$F$50,Simulador!$F$48*Simulador!$F$12/12,\"\")","v":""},{"$f":"IF(B103<Simulador!$F$50,C104-D104,\"\")","v":""},{"$f":"IF(B103<Simulador!$F$50,PMT(Simulador!$F$44+Simulador!$F$46,Simulador!$F$50,-Simulador!$F$40)+G104,\"\")","v":""}]
[null,{"$f":"IF(B104<Simulador!$F$50,B104+1,\"\")","v":""},{"$f":"IF(B104<Simulador!$F$50,H104,\"\")","v":""},{"$f":"IF(Tabla1[[#This Row],[Periodo]]=\"\",\"\",IF(B105<=Simulador!$F$50,PPMT(Simulador!$F$44+Simulador!$F$46,Cronograma!B105,Simulador!$F$50,-Simulador!$F$40),\"\"))","v":""},{"$f":"IF(B104<Simulador!$F$50,(IPMT(Simulador!$F$44+Simulador!$F$46,Tabla1[[#This Row],[Periodo]],Simulador!$F$50,-Simulador!$F$40)-Tabla1[[#This Row],[Seguro Desgravamen]]),\"\")","v":""},{"$f":"IF(B104<Simulador!$F$50,C105*Simulador!$F$46,\"\")","v":""},{"$f":"IF(B104<Simulador!$F$50,Simulador!$F$48*Simulador!$F$12/12,\"\")","v":""},{"$f":"IF(B104<Simulador!$F$50,C105-D105,\"\")","v":""},{"$f":"IF(B104<Simulador!$F$50,PMT(Simulador!$F$44+Simulador!$F$46,Simulador!$F$50,-Simulador!$F$40)+G105,\"\")","v":""}]
[null,{"$f":"IF(B105<Simulador!$F$50,B105+1,\"\")","v":""},{"$f":"IF(B105<Simulador!$F$50,H105,\"\")","v":""},{"$f":"IF(Tabla1[[#This Row],[Periodo]]=\"\",\"\",IF(B106<=Simulador!$F$50,PPMT(Simulador!$F$44+Simulador!$F$46,Cronograma!B106,Simulador!$F$50,-Simulador!$F$40),\"\"))","v":""},{"$f":"IF(B105<Simulador!$F$50,(IPMT(Simulador!$F$44+Simulador!$F$46,Tabla1[[#This Row],[Periodo]],Simulador!$F$50,-Simulador!$F$40)-Tabla1[[#This Row],[Seguro Desgravamen]]),\"\")","v":""},{"$f":"IF(B105<Simulador!$F$50,C106*Simulador!$F$46,\"\")","v":""},{"$f":"IF(B105<Simulador!$F$50,Simulador!$F$48*Simulador!$F$12/12,\"\")","v":""},{"$f":"IF(B105<Simulador!$F$50,C106-D106,\"\")","v":""},{"$f":"IF(B105<Simulador!$F$50,PMT(Simulador!$F$44+Simulador!$F$46,Simulador!$F$50,-Simulador!$F$40)+G106,\"\")","v":""}]
[null,{"$f":"IF(B106<Simulador!$F$50,B106+1,\"\")","v":""},{"$f":"IF(B106<Simulador!$F$50,H106,\"\")","v":""},{"$f":"IF(Tabla1[[#This Row],[Periodo]]=\"\",\"\",IF(B107<=Simulador!$F$50,PPMT(Simulador!$F$44+Simulador!$F$46,Cronograma!B107,Simulador!$F$50,-Simulador!$F$40),\"\"))","v":""},{"$f":"IF(B106<Simulador!$F$50,(IPMT(Simulador!$F$44+Simulador!$F$46,Tabla1[[#This Row],[Periodo]],Simulador!$F$50,-Simulador!$F$40)-Tabla1[[#This Row],[Seguro Desgravamen]]),\"\")","v":""},{"$f":"IF(B106<Simulador!$F$50,C107*Simulador!$F$46,\"\")","v":""},{"$f":"IF(B106<Simulador!$F$50,Simulador!$F$48*Simulador!$F$12/12,\"\")","v":""},{"$f":"IF(B106<Simulador!$F$50,C107-D107,\"\")","v":""},{"$f":"IF(B106<Simulador!$F$50,PMT(Simulador!$F$44+Simulador!$F$46,Simulador!$F$50,-Simulador!$F$40)+G107,\"\")","v":""}]
[null,{"$f":"IF(B107<Simulador!$F$50,B107+1,\"\")","v":""},{"$f":"IF(B107<Simulador!$F$50,H107,\"\")","v":""},{"$f":"IF(Tabla1[[#This Row],[Periodo]]=\"\",\"\",IF(B108<=Simulador!$F$50,PPMT(Simulador!$F$44+Simulador!$F$46,Cronograma!B108,Simulador!$F$50,-Simulador!$F$40),\"\"))","v":""},{"$f":"IF(B107<Simulador!$F$50,(IPMT(Simulador!$F$44+Simulador!$F$46,Tabla1[[#This Row],[Periodo]],Simulador!$F$50,-Simulador!$F$40)-Tabla1[[#This Row],[Seguro Desgravamen]]),\"\")","v":""},{"$f":"IF(B107<Simulador!$F$50,C108*Simulador!$F$46,\"\")","v":""},{"$f":"IF(B107<Simulador!$F$50,Simulador!$F$48*Simulador!$F$12/12,\"\")","v":""},{"$f":"IF(B107<Simulador!$F$50,C108-D108,\"\")","v":""},{"$f":"IF(B107<Simulador!$F$50,PMT(Simulador!$F$44+Simulador!$F$46,Simulador!$F$50,-Simulador!$F$40)+G108,\"\")","v":""}]
[null,{"$f":"IF(B108<Simulador!$F$50,B108+1,\"\")","v":""},{"$f":"IF(B108<Simulador!$F$50,H108,\"\")","v":""},{"$f":"IF(Tabla1[[#This Row],[Periodo]]=\"\",\"\",IF(B109<=Simulador!$F$50,PPMT(Simulador!$F$44+Simulador!$F$46,Cronograma!B109,Simulador!$F$50,-Simulador!$F$40),\"\"))","v":""},{"$f":"IF(B108<Simulador!$F$50,(IPMT(Simulador!$F$44+Simulador!$F$46,Tabla1[[#This Row],[Periodo]],Simulador!$F$50,-Simulador!$F$40)-Tabla1[[#This Row],[Seguro Desgravamen]]),\"\")","v":""},{"$f":"IF(B108<Simulador!$F$50,C109*Simulador!$F$46,\"\")","v":""},{"$f":"IF(B108<Simulador!$F$50,Simulador!$F$48*Simulador!$F$12/12,\"\")","v":""},{"$f":"IF(B108<Simulador!$F$50,C109-D109,\"\")","v":""},{"$f":"IF(B108<Simulador!$F$50,PMT(Simulador!$F$44+Simulador!$F$46,Simulador!$F$50,-Simulador!$F$40)+G109,\"\")","v":""}]
[null,{"$f":"IF(B109<Simulador!$F$50,B109+1,\"\")","v":""},{"$f":"IF(B109<Simulador!$F$50,H109,\"\")","v":""},{"$f":"IF(Tabla1[[#This Row],[Periodo]]=\"\",\"\",IF(B110<=Simulador!$F$50,PPMT(Simulador!$F$44+Simulador!$F$46,Cronograma!B110,Simulador!$F$50,-Simulador!$F$40),\"\"))","v":""},{"$f":"IF(B109<Simulador!$F$50,(IPMT(Simulador!$F$44+Simulador!$F$46,Tabla1[[#This Row],[Periodo]],Simulador!$F$50,-Simulador!$F$40)-Tabla1[[#This Row],[Seguro Desgravamen]]),\"\")","v":""},{"$f":"IF(B109<Simulador!$F$50,C110*Simulador!$F$46,\"\")","v":""},{"$f":"IF(B109<Simulador!$F$50,Simulador!$F$48*Simulador!$F$12/12,\"\")","v":""},{"$f":"IF(B109<Simulador!$F$50,C110-D110,\"\")","v":""},{"$f":"IF(B109<Simulador!$F$50,PMT(Simulador!$F$44+Simulador!$F$46,Simulador!$F$50,-Simulador!$F$40)+G110,\"\")","v":""}]
[null,{"$f":"IF(B110<Simulador!$F$50,B110+1,\"\")","v":""},{"$f":"IF(B110<Simulador!$F$50,H110,\"\")","v":""},{"$f":"IF(Tabla1[[#This Row],[Periodo]]=\"\",\"\",IF(B111<=Simulador!$F$50,PPMT(Simulador!$F$44+Simulador!$F$46,Cronograma!B111,Simulador!$F$50,-Simulador!$F$40),\"\"))","v":""},{"$f":"IF(B110<Simulador!$F$50,(IPMT(Simulador!$F$44+Simulador!$F$46,Tabla1[[#This Row],[Periodo]],Simulador!$F$50,-Simulador!$F$40)-Tabla1[[#This Row],[Seguro Desgravamen]]),\"\")","v":""},{"$f":"IF(B110<Simulador!$F$50,C111*Simulador!$F$46,\"\")","v":""},{"$f":"IF(B110<Simulador!$F$50,Simulador!$F$48*Simulador!$F$12/12,\"\")","v":""},{"$f":"IF(B110<Simulador!$F$50,C111-D111,\"\")","v":""},{"$f":"IF(B110<Simulador!$F$50,PMT(Simulador!$F$44+Simulador!$F$46,Simulador!$F$50,-Simulador!$F$40)+G111,\"\")","v":""}]
[null,{"$f":"IF(B111<Simulador!$F$50,B111+1,\"\")","v":""},{"$f":"IF(B111<Simulador!$F$50,H111,\"\")","v":""},{"$f":"IF(Tabla1[[#This Row],[Periodo]]=\"\",\"\",IF(B112<=Simulador!$F$50,PPMT(Simulador!$F$44+Simulador!$F$46,Cronograma!B112,Simulador!$F$50,-Simulador!$F$40),\"\"))","v":""},{"$f":"IF(B111<Simulador!$F$50,(IPMT(Simulador!$F$44+Simulador!$F$46,Tabla1[[#This Row],[Periodo]],Simulador!$F$50,-Simulador!$F$40)-Tabla1[[#This Row],[Seguro Desgravamen]]),\"\")","v":""},{"$f":"IF(B111<Simulador!$F$50,C112*Simulador!$F$46,\"\")","v":""},{"$f":"IF(B111<Simulador!$F$50,Simulador!$F$48*Simulador!$F$12/12,\"\")","v":""},{"$f":"IF(B111<Simulador!$F$50,C112-D112,\"\")","v":""},{"$f":"IF(B111<Simulador!$F$50,PMT(Simulador!$F$44+Simulador!$F$46,Simulador!$F$50,-Simulador!$F$40)+G112,\"\")","v":""}]
[null,{"$f":"IF(B112<Simulador!$F$50,B112+1,\"\")","v":""},{"$f":"IF(B112<Simulador!$F$50,H112,\"\")","v":""},{"$f":"IF(Tabla1[[#This Row],[Periodo]]=\"\",\"\",IF(B113<=Simulador!$F$50,PPMT(Simulador!$F$44+Simulador!$F$46,Cronograma!B113,Simulador!$F$50,-Simulador!$F$40),\"\"))","v":""},{"$f":"IF(B112<Simulador!$F$50,(IPMT(Simulador!$F$44+Simulador!$F$46,Tabla1[[#This Row],[Periodo]],Simulador!$F$50,-Simulador!$F$40)-Tabla1[[#This Row],[Seguro Desgravamen]]),\"\")","v":""},{"$f":"IF(B112<Simulador!$F$50,C113*Simulador!$F$46,\"\")","v":""},{"$f":"IF(B112<Simulador!$F$50,Simulador!$F$48*Simulador!$F$12/12,\"\")","v":""},{"$f":"IF(B112<Simulador!$F$50,C113-D113,\"\")","v":""},{"$f":"IF(B112<Simulador!$F$50,PMT(Simulador!$F$44+Simulador!$F$46,Simulador!$F$50,-Simulador!$F$40)+G113,\"\")","v":""}]
[null,{"$f":"IF(B113<Simulador!$F$50,B113+1,\"\")","v":""},{"$f":"IF(B113<Simulador!$F$50,H113,\"\")","v":""},{"$f":"IF(Tabla1[[#This Row],[Periodo]]=\"\",\"\",IF(B114<=Simulador!$F$50,PPMT(Simulador!$F$44+Simulador!$F$46,Cronograma!B114,Simulador!$F$50,-Simulador!$F$40),\"\"))","v":""},{"$f":"IF(B113<Simulador!$F$50,(IPMT(Simulador!$F$44+Simulador!$F$46,Tabla1[[#This Row],[Periodo]],Simulador!$F$50,-Simulador!$F$40)-Tabla1[[#This Row],[Seguro Desgravamen]]),\"\")","v":""},{"$f":"IF(B113<Simulador!$F$50,C114*Simulador!$F$46,\"\")","v":""},{"$f":"IF(B113<Simulador!$F$50,Simulador!$F$48*Simulador!$F$12/12,\"\")","v":""},{"$f":"IF(B113<Simulador!$F$50,C114-D114,\"\")","v":""},{"$f":"IF(B113<Simulador!$F$50,PMT(Simulador!$F$44+Simulador!$F$46,Simulador!$F$50,-Simulador!$F$40)+G114,\"\")","v":""}]
[null,{"$f":"IF(B114<Simulador!$F$50,B114+1,\"\")","v":""},{"$f":"IF(B114<Simulador!$F$50,H114,\"\")","v":""},{"$f":"IF(Tabla1[[#This Row],[Periodo]]=\"\",\"\",IF(B115<=Simulador!$F$50,PPMT(Simulador!$F$44+Simulador!$F$46,Cronograma!B115,Simulador!$F$50,-Simulador!$F$40),\"\"))","v":""},{"$f":"IF(B114<Simulador!$F$50,(IPMT(Simulador!$F$44+Simulador!$F$46,Tabla1[[#This Row],[Periodo]],Simulador!$F$50,-Simulador!$F$40)-Tabla1[[#This Row],[Seguro Desgravamen]]),\"\")","v":""},{"$f":"IF(B114<Simulador!$F$50,C115*Simulador!$F$46,\"\")","v":""},{"$f":"IF(B114<Simulador!$F$50,Simulador!$F$48*Simulador!$F$12/12,\"\")","v":""},{"$f":"IF(B114<Simulador!$F$50,C115-D115,\"\")","v":""},{"$f":"IF(B114<Simulador!$F$50,PMT(Simulador!$F$44+Simulador!$F$46,Simulador!$F$50,-Simulador!$F$40)+G115,\"\")","v":""}]
[null,{"$f":"IF(B115<Simulador!$F$50,B115+1,\"\")","v":""},{"$f":"IF(B115<Simulador!$F$50,H115,\"\")","v":""},{"$f":"IF(Tabla1[[#This Row],[Periodo]]=\"\",\"\",IF(B116<=Simulador!$F$50,PPMT(Simulador!$F$44+Simulador!$F$46,Cronograma!B116,Simulador!$F$50,-Simulador!$F$40),\"\"))","v":""},{"$f":"IF(B115<Simulador!$F$50,(IPMT(Simulador!$F$44+Simulador!$F$46,Tabla1[[#This Row],[Periodo]],Simulador!$F$50,-Simulador!$F$40)-Tabla1[[#This Row],[Seguro Desgravamen]]),\"\")","v":""},{"$f":"IF(B115<Simulador!$F$50,C116*Simulador!$F$46,\"\")","v":""},{"$f":"IF(B115<Simulador!$F$50,Simulador!$F$48*Simulador!$F$12/12,\"\")","v":""},{"$f":"IF(B115<Simulador!$F$50,C116-D116,\"\")","v":""},{"$f":"IF(B115<Simulador!$F$50,PMT(Simulador!$F$44+Simulador!$F$46,Simulador!$F$50,-Simulador!$F$40)+G116,\"\")","v":""}]
[null,{"$f":"IF(B116<Simulador!$F$50,B116+1,\"\")","v":""},{"$f":"IF(B116<Simulador!$F$50,H116,\"\")","v":""},{"$f":"IF(Tabla1[[#This Row],[Periodo]]=\"\",\"\",IF(B117<=Simulador!$F$50,PPMT(Simulador!$F$44+Simulador!$F$46,Cronograma!B117,Simulador!$F$50,-Simulador!$F$40),\"\"))","v":""},{"$f":"IF(B116<Simulador!$F$50,(IPMT(Simulador!$F$44+Simulador!$F$46,Tabla1[[#This Row],[Periodo]],Simulador!$F$50,-Simulador!$F$40)-Tabla1[[#This Row],[Seguro Desgravamen]]),\"\")","v":""},{"$f":"IF(B116<Simulador!$F$50,C117*Simulador!$F$46,\"\")","v":""},{"$f":"IF(B116<Simulador!$F$50,Simulador!$F$48*Simulador!$F$12/12,\"\")","v":""},{"$f":"IF(B116<Simulador!$F$50,C117-D117,\"\")","v":""},{"$f":"IF(B116<Simulador!$F$50,PMT(Simulador!$F$44+Simulador!$F$46,Simulador!$F$50,-Simulador!$F$40)+G117,\"\")","v":""}]
[null,{"$f":"IF(B117<Simulador!$F$50,B117+1,\"\")","v":""},{"$f":"IF(B117<Simulador!$F$50,H117,\"\")","v":""},{"$f":"IF(Tabla1[[#This Row],[Periodo]]=\"\",\"\",IF(B118<=Simulador!$F$50,PPMT(Simulador!$F$44+Simulador!$F$46,Cronograma!B118,Simulador!$F$50,-Simulador!$F$40),\"\"))","v":""},{"$f":"IF(B117<Simulador!$F$50,(IPMT(Simulador!$F$44+Simulador!$F$46,Tabla1[[#This Row],[Periodo]],Simulador!$F$50,-Simulador!$F$40)-Tabla1[[#This Row],[Seguro Desgravamen]]),\"\")","v":""},{"$f":"IF(B117<Simulador!$F$50,C118*Simulador!$F$46,\"\")","v":""},{"$f":"IF(B117<Simulador!$F$50,Simulador!$F$48*Simulador!$F$12/12,\"\")","v":""},{"$f":"IF(B117<Simulador!$F$50,C118-D118,\"\")","v":""},{"$f":"IF(B117<Simulador!$F$50,PMT(Simulador!$F$44+Simulador!$F$46,Simulador!$F$50,-Simulador!$F$40)+G118,\"\")","v":""}]
[null,{"$f":"IF(B118<Simulador!$F$50,B118+1,\"\")","v":""},{"$f":"IF(B118<Simulador!$F$50,H118,\"\")","v":""},{"$f":"IF(Tabla1[[#This Row],[Periodo]]=\"\",\"\",IF(B119<=Simulador!$F$50,PPMT(Simulador!$F$44+Simulador!$F$46,Cronograma!B119,Simulador!$F$50,-Simulador!$F$40),\"\"))","v":""},{"$f":"IF(B118<Simulador!$F$50,(IPMT(Simulador!$F$44+Simulador!$F$46,Tabla1[[#This Row],[Periodo]],Simulador!$F$50,-Simulador!$F$40)-Tabla1[[#This Row],[Seguro Desgravamen]]),\"\")","v":""},{"$f":"IF(B118<Simulador!$F$50,C119*Simulador!$F$46,\"\")","v":""},{"$f":"IF(B118<Simulador!$F$50,Simulador!$F$48*Simulador!$F$12/12,\"\")","v":""},{"$f":"IF(B118<Simulador!$F$50,C119-D119,\"\")","v":""},{"$f":"IF(B118<Simulador!$F$50,PMT(Simulador!$F$44+Simulador!$F$46,Simulador!$F$50,-Simulador!$F$40)+G119,\"\")","v":""}]
[null,{"$f":"IF(B119<Simulador!$F$50,B119+1,\"\")","v":""},{"$f":"IF(B119<Simulador!$F$50,H119,\"\")","v":""},{"$f":"IF(Tabla1[[#This Row],[Periodo]]=\"\",\"\",IF(B120<=Simulador!$F$50,PPMT(Simulador!$F$44+Simulador!$F$46,Cronograma!B120,Simulador!$F$50,-Simulador!$F$40),\"\"))","v":""},{"$f":"IF(B119<Simulador!$F$50,(IPMT(Simulador!$F$44+Simulador!$F$46,Tabla1[[#This Row],[Periodo]],Simulador!$F$50,-Simulador!$F$40)-Tabla1[[#This Row],[Seguro Desgravamen]]),\"\")","v":""},{"$f":"IF(B119<Simulador!$F$50,C120*Simulador!$F$46,\"\")","v":""},{"$f":"IF(B119<Simulador!$F$50,Simulador!$F$48*Simulador!$F$12/12,\"\")","v":""},{"$f":"IF(B119<Simulador!$F$50,C120-D120,\"\")","v":""},{"$f":"IF(B119<Simulador!$F$50,PMT(Simulador!$F$44+Simulador!$F$46,Simulador!$F$50,-Simulador!$F$40)+G120,\"\")","v":""}]
[null,{"$f":"IF(B120<Simulador!$F$50,B120+1,\"\")","v":""},{"$f":"IF(B120<Simulador!$F$50,H120,\"\")","v":""},{"$f":"IF(Tabla1[[#This Row],[Periodo]]=\"\",\"\",IF(B121<=Simulador!$F$50,PPMT(Simulador!$F$44+Simulador!$F$46,Cronograma!B121,Simulador!$F$50,-Simulador!$F$40),\"\"))","v":""},{"$f":"IF(B120<Simulador!$F$50,(IPMT(Simulador!$F$44+Simulador!$F$46,Tabla1[[#This Row],[Periodo]],Simulador!$F$50,-Simulador!$F$40)-Tabla1[[#This Row],[Seguro Desgravamen]]),\"\")","v":""},{"$f":"IF(B120<Simulador!$F$50,C121*Simulador!$F$46,\"\")","v":""},{"$f":"IF(B120<Simulador!$F$50,Simulador!$F$48*Simulador!$F$12/12,\"\")","v":""},{"$f":"IF(B120<Simulador!$F$50,C121-D121,\"\")","v":""},{"$f":"IF(B120<Simulador!$F$50,PMT(Simulador!$F$44+Simulador!$F$46,Simulador!$F$50,-Simulador!$F$40)+G121,\"\")","v":""}]
[null,{"$f":"IF(B121<Simulador!$F$50,B121+1,\"\")","v":""},{"$f":"IF(B121<Simulador!$F$50,H121,\"\")","v":""},{"$f":"IF(Tabla1[[#This Row],[Periodo]]=\"\",\"\",IF(B122<=Simulador!$F$50,PPMT(Simulador!$F$44+Simulador!$F$46,Cronograma!B122,Simulador!$F$50,-Simulador!$F$40),\"\"))","v":""},{"$f":"IF(B121<Simulador!$F$50,(IPMT(Simulador!$F$44+Simulador!$F$46,Tabla1[[#This Row],[Periodo]],Simulador!$F$50,-Simulador!$F$40)-Tabla1[[#This Row],[Seguro Desgravamen]]),\"\")","v":""},{"$f":"IF(B121<Simulador!$F$50,C122*Simulador!$F$46,\"\")","v":""},{"$f":"IF(B121<Simulador!$F$50,Simulador!$F$48*Simulador!$F$12/12,\"\")","v":""},{"$f":"IF(B121<Simulador!$F$50,C122-D122,\"\")","v":""},{"$f":"IF(B121<Simulador!$F$50,PMT(Simulador!$F$44+Simulador!$F$46,Simulador!$F$50,-Simulador!$F$40)+G122,\"\")","v":""}]
[null,{"$f":"IF(B122<Simulador!$F$50,B122+1,\"\")","v":""},{"$f":"IF(B122<Simulador!$F$50,H122,\"\")","v":""},{"$f":"IF(Tabla1[[#This Row],[Periodo]]=\"\",\"\",IF(B123<=Simulador!$F$50,PPMT(Simulador!$F$44+Simulador!$F$46,Cronograma!B123,Simulador!$F$50,-Simulador!$F$40),\"\"))","v":""},{"$f":"IF(B122<Simulador!$F$50,(IPMT(Simulador!$F$44+Simulador!$F$46,Tabla1[[#This Row],[Periodo]],Simulador!$F$50,-Simulador!$F$40)-Tabla1[[#This Row],[Seguro Desgravamen]]),\"\")","v":""},{"$f":"IF(B122<Simulador!$F$50,C123*Simulador!$F$46,\"\")","v":""},{"$f":"IF(B122<Simulador!$F$50,Simulador!$F$48*Simulador!$F$12/12,\"\")","v":""},{"$f":"IF(B122<Simulador!$F$50,C123-D123,\"\")","v":""},{"$f":"IF(B122<Simulador!$F$50,PMT(Simulador!$F$44+Simulador!$F$46,Simulador!$F$50,-Simulador!$F$40)+G123,\"\")","v":""}]
[null,{"$f":"IF(B123<Simulador!$F$50,B123+1,\"\")","v":""},{"$f":"IF(B123<Simulador!$F$50,H123,\"\")","v":""},{"$f":"IF(Tabla1[[#This Row],[Periodo]]=\"\",\"\",IF(B124<=Simulador!$F$50,PPMT(Simulador!$F$44+Simulador!$F$46,Cronograma!B124,Simulador!$F$50,-Simulador!$F$40),\"\"))","v":""},{"$f":"IF(B123<Simulador!$F$50,(IPMT(Simulador!$F$44+Simulador!$F$46,Tabla1[[#This Row],[Periodo]],Simulador!$F$50,-Simulador!$F$40)-Tabla1[[#This Row],[Seguro Desgravamen]]),\"\")","v":""},{"$f":"IF(B123<Simulador!$F$50,C124*Simulador!$F$46,\"\")","v":""},{"$f":"IF(B123<Simulador!$F$50,Simulador!$F$48*Simulador!$F$12/12,\"\")","v":""},{"$f":"IF(B123<Simulador!$F$50,C124-D124,\"\")","v":""},{"$f":"IF(B123<Simulador!$F$50,PMT(Simulador!$F$44+Simulador!$F$46,Simulador!$F$50,-Simulador!$F$40)+G124,\"\")","v":""}]
[null,{"$f":"IF(B124<Simulador!$F$50,B124+1,\"\")","v":""},{"$f":"IF(B124<Simulador!$F$50,H124,\"\")","v":""},{"$f":"IF(Tabla1[[#This Row],[Periodo]]=\"\",\"\",IF(B125<=Simulador!$F$50,PPMT(Simulador!$F$44+Simulador!$F$46,Cronograma!B125,Simulador!$F$50,-Simulador!$F$40),\"\"))","v":""},{"$f":"IF(B124<Simulador!$F$50,(IPMT(Simulador!$F$44+Simulador!$F$46,Tabla1[[#This Row],[Periodo]],Simulador!$F$50,-Simulador!$F$40)-Tabla1[[#This Row],[Seguro Desgravamen]]),\"\")","v":""},{"$f":"IF(B124<Simulador!$F$50,C125*Simulador!$F$46,\"\")","v":""},{"$f":"IF(B124<Simulador!$F$50,Simulador!$F$48*Simulador!$F$12/12,\"\")","v":""},{"$f":"IF(B124<Simulador!$F$50,C125-D125,\"\")","v":""},{"$f":"IF(B124<Simulador!$F$50,PMT(Simulador!$F$44+Simulador!$F$46,Simulador!$F$50,-Simulador!$F$40)+G125,\"\")","v":""}]
[null,{"$f":"IF(B125<Simulador!$F$50,B125+1,\"\")","v":""},{"$f":"IF(B125<Simulador!$F$50,H125,\"\")","v":""},{"$f":"IF(Tabla1[[#This Row],[Periodo]]=\"\",\"\",IF(B126<=Simulador!$F$50,PPMT(Simulador!$F$44+Simulador!$F$46,Cronograma!B126,Simulador!$F$50,-Simulador!$F$40),\"\"))","v":""},{"$f":"IF(B125<Simulador!$F$50,(IPMT(Simulador!$F$44+Simulador!$F$46,Tabla1[[#This Row],[Periodo]],Simulador!$F$50,-Simulador!$F$40)-Tabla1[[#This Row],[Seguro Desgravamen]]),\"\")","v":""},{"$f":"IF(B125<Simulador!$F$50,C126*Simulador!$F$46,\"\")","v":""},{"$f":"IF(B125<Simulador!$F$50,Simulador!$F$48*Simulador!$F$12/12,\"\")","v":""},{"$f":"IF(B125<Simulador!$F$50,C126-D126,\"\")","v":""},{"$f":"IF(B125<Simulador!$F$50,PMT(Simulador!$F$44+Simulador!$F$46,Simulador!$F$50,-Simulador!$F$40)+G126,\"\")","v":""}]
[null,{"$f":"IF(B126<Simulador!$F$50,B126+1,\"\")","v":""},{"$f":"IF(B126<Simulador!$F$50,H126,\"\")","v":""},{"$f":"IF(Tabla1[[#This Row],[Periodo]]=\"\",\"\",IF(B127<=Simulador!$F$50,PPMT(Simulador!$F$44+Simulador!$F$46,Cronograma!B127,Simulador!$F$50,-Simulador!$F$40),\"\"))","v":""},{"$f":"IF(B126<Simulador!$F$50,(IPMT(Simulador!$F$44+Simulador!$F$46,Tabla1[[#This Row],[Periodo]],Simulador!$F$50,-Simulador!$F$40)-Tabla1[[#This Row],[Seguro Desgravamen]]),\"\")","v":""},{"$f":"IF(B126<Simulador!$F$50,C127*Simulador!$F$46,\"\")","v":""},{"$f":"IF(B126<Simulador!$F$50,Simulador!$F$48*Simulador!$F$12/12,\"\")","v":""},{"$f":"IF(B126<Simulador!$F$50,C127-D127,\"\")","v":""},{"$f":"IF(B126<Simulador!$F$50,PMT(Simulador!$F$44+Simulador!$F$46,Simulador!$F$50,-Simulador!$F$40)+G127,\"\")","v":""}]
[null,{"$f":"IF(B127<Simulador!$F$50,B127+1,\"\")","v":""},{"$f":"IF(B127<Simulador!$F$50,H127,\"\")","v":""},{"$f":"IF(Tabla1[[#This Row],[Periodo]]=\"\",\"\",IF(B128<=Simulador!$F$50,PPMT(Simulador!$F$44+Simulador!$F$46,Cronograma!B128,Simulador!$F$50,-Simulador!$F$40),\"\"))","v":""},{"$f":"IF(B127<Simulador!$F$50,(IPMT(Simulador!$F$44+Simulador!$F$46,Tabla1[[#This Row],[Periodo]],Simulador!$F$50,-Simulador!$F$40)-Tabla1[[#This Row],[Seguro Desgravamen]]),\"\")","v":""},{"$f":"IF(B127<Simulador!$F$50,C128*Simulador!$F$46,\"\")","v":""},{"$f":"IF(B127<Simulador!$F$50,Simulador!$F$48*Simulador!$F$12/12,\"\")","v":""},{"$f":"IF(B127<Simulador!$F$50,C128-D128,\"\")","v":""},{"$f":"IF(B127<Simulador!$F$50,PMT(Simulador!$F$44+Simulador!$F$46,Simulador!$F$50,-Simulador!$F$40)+G128,\"\")","v":""}]
[null,{"$f":"IF(B128<Simulador!$F$50,B128+1,\"\")","v":""},{"$f":"IF(B128<Simulador!$F$50,H128,\"\")","v":""},{"$f":"IF(Tabla1[[#This Row],[Periodo]]=\"\",\"\",IF(B129<=Simulador!$F$50,PPMT(Simulador!$F$44+Simulador!$F$46,Cronograma!B129,Simulador!$F$50,-Simulador!$F$40),\"\"))","v":""},{"$f":"IF(B128<Simulador!$F$50,(IPMT(Simulador!$F$44+Simulador!$F$46,Tabla1[[#This Row],[Periodo]],Simulador!$F$50,-Simulador!$F$40)-Tabla1[[#This Row],[Seguro Desgravamen]]),\"\")","v":""},{"$f":"IF(B128<Simulador!$F$50,C129*Simulador!$F$46,\"\")","v":""},{"$f":"IF(B128<Simulador!$F$50,Simulador!$F$48*Simulador!$F$12/12,\"\")","v":""},{"$f":"IF(B128<Simulador!$F$50,C129-D129,\"\")","v":""},{"$f":"IF(B128<Simulador!$F$50,PMT(Simulador!$F$44+Simulador!$F$46,Simulador!$F$50,-Simulador!$F$40)+G129,\"\")","v":""}]
[null,{"$f":"IF(B129<Simulador!$F$50,B129+1,\"\")","v":""},{"$f":"IF(B129<Simulador!$F$50,H129,\"\")","v":""},{"$f":"IF(Tabla1[[#This Row],[Periodo]]=\"\",\"\",IF(B130<=Simulador!$F$50,PPMT(Simulador!$F$44+Simulador!$F$46,Cronograma!B130,Simulador!$F$50,-Simulador!$F$40),\"\"))","v":""},{"$f":"IF(B129<Simulador!$F$50,(IPMT(Simulador!$F$44+Simulador!$F$46,Tabla1[[#This Row],[Periodo]],Simulador!$F$50,-Simulador!$F$40)-Tabla1[[#This Row],[Seguro Desgravamen]]),\"\")","v":""},{"$f":"IF(B129<Simulador!$F$50,C130*Simulador!$F$46,\"\")","v":""},{"$f":"IF(B129<Simulador!$F$50,Simulador!$F$48*Simulador!$F$12/12,\"\")","v":""},{"$f":"IF(B129<Simulador!$F$50,C130-D130,\"\")","v":""},{"$f":"IF(B129<Simulador!$F$50,PMT(Simulador!$F$44+Simulador!$F$46,Simulador!$F$50,-Simulador!$F$40)+G130,\"\")","v":""}]
[null,{"$f":"IF(B130<Simulador!$F$50,B130+1,\"\")","v":""},{"$f":"IF(B130<Simulador!$F$50,H130,\"\")","v":""},{"$f":"IF(Tabla1[[#This Row],[Periodo]]=\"\",\"\",IF(B131<=Simulador!$F$50,PPMT(Simulador!$F$44+Simulador!$F$46,Cronograma!B131,Simulador!$F$50,-Simulador!$F$40),\"\"))","v":""},{"$f":"IF(B130<Simulador!$F$50,(IPMT(Simulador!$F$44+Simulador!$F$46,Tabla1[[#This Row],[Periodo]],Simulador!$F$50,-Simulador!$F$40)-Tabla1[[#This Row],[Seguro Desgravamen]]),\"\")","v":""},{"$f":"IF(B130<Simulador!$F$50,C131*Simulador!$F$46,\"\")","v":""},{"$f":"IF(B130<Simulador!$F$50,Simulador!$F$48*Simulador!$F$12/12,\"\")","v":""},{"$f":"IF(B130<Simulador!$F$50,C131-D131,\"\")","v":""},{"$f":"IF(B130<Simulador!$F$50,PMT(Simulador!$F$44+Simulador!$F$46,Simulador!$F$50,-Simulador!$F$40)+G131,\"\")","v":""}]
[null,{"$f":"IF(B131<Simulador!$F$50,B131+1,\"\")","v":""},{"$f":"IF(B131<Simulador!$F$50,H131,\"\")","v":""},{"$f":"IF(Tabla1[[#This Row],[Periodo]]=\"\",\"\",IF(B132<=Simulador!$F$50,PPMT(Simulador!$F$44+Simulador!$F$46,Cronograma!B132,Simulador!$F$50,-Simulador!$F$40),\"\"))","v":""},{"$f":"IF(B131<Simulador!$F$50,(IPMT(Simulador!$F$44+Simulador!$F$46,Tabla1[[#This Row],[Periodo]],Simulador!$F$50,-Simulador!$F$40)-Tabla1[[#This Row],[Seguro Desgravamen]]),\"\")","v":""},{"$f":"IF(B131<Simulador!$F$50,C132*Simulador!$F$46,\"\")","v":""},{"$f":"IF(B131<Simulador!$F$50,Simulador!$F$48*Simulador!$F$12/12,\"\")","v":""},{"$f":"IF(B131<Simulador!$F$50,C132-D132,\"\")","v":""},{"$f":"IF(B131<Simulador!$F$50,PMT(Simulador!$F$44+Simulador!$F$46,Simulador!$F$50,-Simulador!$F$40)+G132,\"\")","v":""}]
[null,{"$f":"IF(B132<Simulador!$F$50,B132+1,\"\")","v":""},{"$f":"IF(B132<Simulador!$F$50,H132,\"\")","v":""},{"$f":"IF(Tabla1[[#This Row],[Periodo]]=\"\",\"\",IF(B133<=Simulador!$F$50,PPMT(Simulador!$F$44+Simulador!$F$46,Cronograma!B133,Simulador!$F$50,-Simulador!$F$40),\"\"))","v":""},{"$f":"IF(B132<Simulador!$F$50,(IPMT(Simulador!$F$44+Simulador!$F$46,Tabla1[[#This Row],[Periodo]],Simulador!$F$50,-Simulador!$F$40)-Tabla1[[#This Row],[Seguro Desgravamen]]),\"\")","v":""},{"$f":"IF(B132<Simulador!$F$50,C133*Simulador!$F$46,\"\")","v":""},{"$f":"IF(B132<Simulador!$F$50,Simulador!$F$48*Simulador!$F$12/12,\"\")","v":""},{"$f":"IF(B132<Simulador!$F$50,C133-D133,\"\")","v":""},{"$f":"IF(B132<Simulador!$F$50,PMT(Simulador!$F$44+Simulador!$F$46,Simulador!$F$50,-Simulador!$F$40)+G133,\"\")","v":""}]
[null,{"$f":"IF(B133<Simulador!$F$50,B133+1,\"\")","v":""},{"$f":"IF(B133<Simulador!$F$50,H133,\"\")","v":""},{"$f":"IF(Tabla1[[#This Row],[Periodo]]=\"\",\"\",IF(B134<=Simulador!$F$50,PPMT(Simulador!$F$44+Simulador!$F$46,Cronograma!B134,Simulador!$F$50,-Simulador!$F$40),\"\"))","v":""},{"$f":"IF(B133<Simulador!$F$50,(IPMT(Simulador!$F$44+Simulador!$F$46,Tabla1[[#This Row],[Periodo]],Simulador!$F$50,-Simulador!$F$40)-Tabla1[[#This Row],[Seguro Desgravamen]]),\"\")","v":""},{"$f":"IF(B133<Simulador!$F$50,C134*Simulador!$F$46,\"\")","v":""},{"$f":"IF(B133<Simulador!$F$50,Simulador!$F$48*Simulador!$F$12/12,\"\")","v":""},{"$f":"IF(B133<Simulador!$F$50,C134-D134,\"\")","v":""},{"$f":"IF(B133<Simulador!$F$50,PMT(Simulador!$F$44+Simulador!$F$46,Simulador!$F$50,-Simulador!$F$40)+G134,\"\")","v":""}]
[null,{"$f":"IF(B134<Simulador!$F$50,B134+1,\"\")","v":""},{"$f":"IF(B134<Simulador!$F$50,H134,\"\")","v":""},{"$f":"IF(Tabla1[[#This Row],[Periodo]]=\"\",\"\",IF(B135<=Simulador!$F$50,PPMT(Simulador!$F$44+Simulador!$F$46,Cronograma!B135,Simulador!$F$50,-Simulador!$F$40),\"\"))","v":""},{"$f":"IF(B134<Simulador!$F$50,(IPMT(Simulador!$F$44+Simulador!$F$46,Tabla1[[#This Row],[Periodo]],Simulador!$F$50,-Simulador!$F$40)-Tabla1[[#This Row],[Seguro Desgravamen]]),\"\")","v":""},{"$f":"IF(B134<Simulador!$F$50,C135*Simulador!$F$46,\"\")","v":""},{"$f":"IF(B134<Simulador!$F$50,Simulador!$F$48*Simulador!$F$12/12,\"\")","v":""},{"$f":"IF(B134<Simulador!$F$50,C135-D135,\"\")","v":""},{"$f":"IF(B134<Simulador!$F$50,PMT(Simulador!$F$44+Simulador!$F$46,Simulador!$F$50,-Simulador!$F$40)+G135,\"\")","v":""}]
[null,{"$f":"IF(B135<Simulador!$F$50,B135+1,\"\")","v":""},{"$f":"IF(B135<Simulador!$F$50,H135,\"\")","v":""},{"$f":"IF(Tabla1[[#This Row],[Periodo]]=\"\",\"\",IF(B136<=Simulador!$F$50,PPMT(Simulador!$F$44+Simulador!$F$46,Cronograma!B136,Simulador!$F$50,-Simulador!$F$40),\"\"))","v":""},{"$f":"IF(B135<Simulador!$F$50,(IPMT(Simulador!$F$44+Simulador!$F$46,Tabla1[[#This Row],[Periodo]],Simulador!$F$50,-Simulador!$F$40)-Tabla1[[#This Row],[Seguro Desgravamen]]),\"\")","v":""},{"$f":"IF(B135<Simulador!$F$50,C136*Simulador!$F$46,\"\")","v":""},{"$f":"IF(B135<Simulador!$F$50,Simulador!$F$48*Simulador!$F$12/12,\"\")","v":""},{"$f":"IF(B135<Simulador!$F$50,C136-D136,\"\")","v":""},{"$f":"IF(B135<Simulador!$F$50,PMT(Simulador!$F$44+Simulador!$F$46,Simulador!$F$50,-Simulador!$F$40)+G136,\"\")","v":""}]
[null,{"$f":"IF(B136<Simulador!$F$50,B136+1,\"\")","v":""},{"$f":"IF(B136<Simulador!$F$50,H136,\"\")","v":""},{"$f":"IF(Tabla1[[#This Row],[Periodo]]=\"\",\"\",IF(B137<=Simulador!$F$50,PPMT(Simulador!$F$44+Simulador!$F$46,Cronograma!B137,Simulador!$F$50,-Simulador!$F$40),\"\"))","v":""},{"$f":"IF(B136<Simulador!$F$50,(IPMT(Simulador!$F$44+Simulador!$F$46,Tabla1[[#This Row],[Periodo]],Simulador!$F$50,-Simulador!$F$40)-Tabla1[[#This Row],[Seguro Desgravamen]]),\"\")","v":""},{"$f":"IF(B136<Simulador!$F$50,C137*Simulador!$F$46,\"\")","v":""},{"$f":"IF(B136<Simulador!$F$50,Simulador!$F$48*Simulador!$F$12/12,\"\")","v":""},{"$f":"IF(B136<Simulador!$F$50,C137-D137,\"\")","v":""},{"$f":"IF(B136<Simulador!$F$50,PMT(Simulador!$F$44+Simulador!$F$46,Simulador!$F$50,-Simulador!$F$40)+G137,\"\")","v":""}]
[null,{"$f":"IF(B137<Simulador!$F$50,B137+1,\"\")","v":""},{"$f":"IF(B137<Simulador!$F$50,H137,\"\")","v":""},{"$f":"IF(Tabla1[[#This Row],[Periodo]]=\"\",\"\",IF(B138<=Simulador!$F$50,PPMT(Simulador!$F$44+Simulador!$F$46,Cronograma!B138,Simulador!$F$50,-Simulador!$F$40),\"\"))","v":""},{"$f":"IF(B137<Simulador!$F$50,(IPMT(Simulador!$F$44+Simulador!$F$46,Tabla1[[#This Row],[Periodo]],Simulador!$F$50,-Simulador!$F$40)-Tabla1[[#This Row],[Seguro Desgravamen]]),\"\")","v":""},{"$f":"IF(B137<Simulador!$F$50,C138*Simulador!$F$46,\"\")","v":""},{"$f":"IF(B137<Simulador!$F$50,Simulador!$F$48*Simulador!$F$12/12,\"\")","v":""},{"$f":"IF(B137<Simulador!$F$50,C138-D138,\"\")","v":""},{"$f":"IF(B137<Simulador!$F$50,PMT(Simulador!$F$44+Simulador!$F$46,Simulador!$F$50,-Simulador!$F$40)+G138,\"\")","v":""}]
[null,{"$f":"IF(B138<Simulador!$F$50,B138+1,\"\")","v":""},{"$f":"IF(B138<Simulador!$F$50,H138,\"\")","v":""},{"$f":"IF(Tabla1[[#This Row],[Periodo]]=\"\",\"\",IF(B139<=Simulador!$F$50,PPMT(Simulador!$F$44+Simulador!$F$46,Cronograma!B139,Simulador!$F$50,-Simulador!$F$40),\"\"))","v":""},{"$f":"IF(B138<Simulador!$F$50,(IPMT(Simulador!$F$44+Simulador!$F$46,Tabla1[[#This Row],[Periodo]],Simulador!$F$50,-Simulador!$F$40)-Tabla1[[#This Row],[Seguro Desgravamen]]),\"\")","v":""},{"$f":"IF(B138<Simulador!$F$50,C139*Simulador!$F$46,\"\")","v":""},{"$f":"IF(B138<Simulador!$F$50,Simulador!$F$48*Simulador!$F$12/12,\"\")","v":""},{"$f":"IF(B138<Simulador!$F$50,C139-D139,\"\")","v":""},{"$f":"IF(B138<Simulador!$F$50,PMT(Simulador!$F$44+Simulador!$F$46,Simulador!$F$50,-Simulador!$F$40)+G139,\"\")","v":""}]
[null,{"$f":"IF(B139<Simulador!$F$50,B139+1,\"\")","v":""},{"$f":"IF(B139<Simulador!$F$50,H139,\"\")","v":""},{"$f":"IF(Tabla1[[#This Row],[Periodo]]=\"\",\"\",IF(B140<=Simulador!$F$50,PPMT(Simulador!$F$44+Simulador!$F$46,Cronograma!B140,Simulador!$F$50,-Simulador!$F$40),\"\"))","v":""},{"$f":"IF(B139<Simulador!$F$50,(IPMT(Simulador!$F$44+Simulador!$F$46,Tabla1[[#This Row],[Periodo]],Simulador!$F$50,-Simulador!$F$40)-Tabla1[[#This Row],[Seguro Desgravamen]]),\"\")","v":""},{"$f":"IF(B139<Simulador!$F$50,C140*Simulador!$F$46,\"\")","v":""},{"$f":"IF(B139<Simulador!$F$50,Simulador!$F$48*Simulador!$F$12/12,\"\")","v":""},{"$f":"IF(B139<Simulador!$F$50,C140-D140,\"\")","v":""},{"$f":"IF(B139<Simulador!$F$50,PMT(Simulador!$F$44+Simulador!$F$46,Simulador!$F$50,-Simulador!$F$40)+G140,\"\")","v":""}]
[null,{"$f":"IF(B140<Simulador!$F$50,B140+1,\"\")","v":""},{"$f":"IF(B140<Simulador!$F$50,H140,\"\")","v":""},{"$f":"IF(Tabla1[[#This Row],[Periodo]]=\"\",\"\",IF(B141<=Simulador!$F$50,PPMT(Simulador!$F$44+Simulador!$F$46,Cronograma!B141,Simulador!$F$50,-Simulador!$F$40),\"\"))","v":""},{"$f":"IF(B140<Simulador!$F$50,(IPMT(Simulador!$F$44+Simulador!$F$46,Tabla1[[#This Row],[Periodo]],Simulador!$F$50,-Simulador!$F$40)-Tabla1[[#This Row],[Seguro Desgravamen]]),\"\")","v":""},{"$f":"IF(B140<Simulador!$F$50,C141*Simulador!$F$46,\"\")","v":""},{"$f":"IF(B140<Simulador!$F$50,Simulador!$F$48*Simulador!$F$12/12,\"\")","v":""},{"$f":"IF(B140<Simulador!$F$50,C141-D141,\"\")","v":""},{"$f":"IF(B140<Simulador!$F$50,PMT(Simulador!$F$44+Simulador!$F$46,Simulador!$F$50,-Simulador!$F$40)+G141,\"\")","v":""}]
[null,{"$f":"IF(B141<Simulador!$F$50,B141+1,\"\")","v":""},{"$f":"IF(B141<Simulador!$F$50,H141,\"\")","v":""},{"$f":"IF(Tabla1[[#This Row],[Periodo]]=\"\",\"\",IF(B142<=Simulador!$F$50,PPMT(Simulador!$F$44+Simulador!$F$46,Cronograma!B142,Simulador!$F$50,-Simulador!$F$40),\"\"))","v":""},{"$f":"IF(B141<Simulador!$F$50,(IPMT(Simulador!$F$44+Simulador!$F$46,Tabla1[[#This Row],[Periodo]],Simulador!$F$50,-Simulador!$F$40)-Tabla1[[#This Row],[Seguro Desgravamen]]),\"\")","v":""},{"$f":"IF(B141<Simulador!$F$50,C142*Simulador!$F$46,\"\")","v":""},{"$f":"IF(B141<Simulador!$F$50,Simulador!$F$48*Simulador!$F$12/12,\"\")","v":""},{"$f":"IF(B141<Simulador!$F$50,C142-D142,\"\")","v":""},{"$f":"IF(B141<Simulador!$F$50,PMT(Simulador!$F$44+Simulador!$F$46,Simulador!$F$50,-Simulador!$F$40)+G142,\"\")","v":""}]
[null,{"$f":"IF(B142<Simulador!$F$50,B142+1,\"\")","v":""},{"$f":"IF(B142<Simulador!$F$50,H142,\"\")","v":""},{"$f":"IF(Tabla1[[#This Row],[Periodo]]=\"\",\"\",IF(B143<=Simulador!$F$50,PPMT(Simulador!$F$44+Simulador!$F$46,Cronograma!B143,Simulador!$F$50,-Simulador!$F$40),\"\"))","v":""},{"$f":"IF(B142<Simulador!$F$50,(IPMT(Simulador!$F$44+Simulador!$F$46,Tabla1[[#This Row],[Periodo]],Simulador!$F$50,-Simulador!$F$40)-Tabla1[[#This Row],[Seguro Desgravamen]]),\"\")","v":""},{"$f":"IF(B142<Simulador!$F$50,C143*Simulador!$F$46,\"\")","v":""},{"$f":"IF(B142<Simulador!$F$50,Simulador!$F$48*Simulador!$F$12/12,\"\")","v":""},{"$f":"IF(B142<Simulador!$F$50,C143-D143,\"\")","v":""},{"$f":"IF(B142<Simulador!$F$50,PMT(Simulador!$F$44+Simulador!$F$46,Simulador!$F$50,-Simulador!$F$40)+G143,\"\")","v":""}]
[null,{"$f":"IF(B143<Simulador!$F$50,B143+1,\"\")","v":""},{"$f":"IF(B143<Simulador!$F$50,H143,\"\")","v":""},{"$f":"IF(Tabla1[[#This Row],[Periodo]]=\"\",\"\",IF(B144<=Simulador!$F$50,PPMT(Simulador!$F$44+Simulador!$F$46,Cronograma!B144,Simulador!$F$50,-Simulador!$F$40),\"\"))","v":""},{"$f":"IF(B143<Simulador!$F$50,(IPMT(Simulador!$F$44+Simulador!$F$46,Tabla1[[#This Row],[Periodo]],Simulador!$F$50,-Simulador!$F$40)-Tabla1[[#This Row],[Seguro Desgravamen]]),\"\")","v":""},{"$f":"IF(B143<Simulador!$F$50,C144*Simulador!$F$46,\"\")","v":""},{"$f":"IF(B143<Simulador!$F$50,Simulador!$F$48*Simulador!$F$12/12,\"\")","v":""},{"$f":"IF(B143<Simulador!$F$50,C144-D144,\"\")","v":""},{"$f":"IF(B143<Simulador!$F$50,PMT(Simulador!$F$44+Simulador!$F$46,Simulador!$F$50,-Simulador!$F$40)+G144,\"\")","v":""}]
[null,{"$f":"IF(B144<Simulador!$F$50,B144+1,\"\")","v":""},{"$f":"IF(B144<Simulador!$F$50,H144,\"\")","v":""},{"$f":"IF(Tabla1[[#This Row],[Periodo]]=\"\",\"\",IF(B145<=Simulador!$F$50,PPMT(Simulador!$F$44+Simulador!$F$46,Cronograma!B145,Simulador!$F$50,-Simulador!$F$40),\"\"))","v":""},{"$f":"IF(B144<Simulador!$F$50,(IPMT(Simulador!$F$44+Simulador!$F$46,Tabla1[[#This Row],[Periodo]],Simulador!$F$50,-Simulador!$F$40)-Tabla1[[#This Row],[Seguro Desgravamen]]),\"\")","v":""},{"$f":"IF(B144<Simulador!$F$50,C145*Simulador!$F$46,\"\")","v":""},{"$f":"IF(B144<Simulador!$F$50,Simulador!$F$48*Simulador!$F$12/12,\"\")","v":""},{"$f":"IF(B144<Simulador!$F$50,C145-D145,\"\")","v":""},{"$f":"IF(B144<Simulador!$F$50,PMT(Simulador!$F$44+Simulador!$F$46,Simulador!$F$50,-Simulador!$F$40)+G145,\"\")","v":""}]
[null,{"$f":"IF(B145<Simulador!$F$50,B145+1,\"\")","v":""},{"$f":"IF(B145<Simulador!$F$50,H145,\"\")","v":""},{"$f":"IF(Tabla1[[#This Row],[Periodo]]=\"\",\"\",IF(B146<=Simulador!$F$50,PPMT(Simulador!$F$44+Simulador!$F$46,Cronograma!B146,Simulador!$F$50,-Simulador!$F$40),\"\"))","v":""},{"$f":"IF(B145<Simulador!$F$50,(IPMT(Simulador!$F$44+Simulador!$F$46,Tabla1[[#This Row],[Periodo]],Simulador!$F$50,-Simulador!$F$40)-Tabla1[[#This Row],[Seguro Desgravamen]]),\"\")","v":""},{"$f":"IF(B145<Simulador!$F$50,C146*Simulador!$F$46,\"\")","v":""},{"$f":"IF(B145<Simulador!$F$50,Simulador!$F$48*Simulador!$F$12/12,\"\")","v":""},{"$f":"IF(B145<Simulador!$F$50,C146-D146,\"\")","v":""},{"$f":"IF(B145<Simulador!$F$50,PMT(Simulador!$F$44+Simulador!$F$46,Simulador!$F$50,-Simulador!$F$40)+G146,\"\")","v":""}]
[null,{"$f":"IF(B146<Simulador!$F$50,B146+1,\"\")","v":""},{"$f":"IF(B146<Simulador!$F$50,H146,\"\")","v":""},{"$f":"IF(Tabla1[[#This Row],[Periodo]]=\"\",\"\",IF(B147<=Simulador!$F$50,PPMT(Simulador!$F$44+Simulador!$F$46,Cronograma!B147,Simulador!$F$50,-Simulador!$F$40),\"\"))","v":""},{"$f":"IF(B146<Simulador!$F$50,(IPMT(Simulador!$F$44+Simulador!$F$46,Tabla1[[#This Row],[Periodo]],Simulador!$F$50,-Simulador!$F$40)-Tabla1[[#This Row],[Seguro Desgravamen]]),\"\")","v":""},{"$f":"IF(B146<Simulador!$F$50,C147*Simulador!$F$46,\"\")","v":""},{"$f":"IF(B146<Simulador!$F$50,Simulador!$F$48*Simulador!$F$12/12,\"\")","v":""},{"$f":"IF(B146<Simulador!$F$50,C147-D147,\"\")","v":""},{"$f":"IF(B146<Simulador!$F$50,PMT(Simulador!$F$44+Simulador!$F$46,Simulador!$F$50,-Simulador!$F$40)+G147,\"\")","v":""}]
[null,{"$f":"IF(B147<Simulador!$F$50,B147+1,\"\")","v":""},{"$f":"IF(B147<Simulador!$F$50,H147,\"\")","v":""},{"$f":"IF(Tabla1[[#This Row],[Periodo]]=\"\",\"\",IF(B148<=Simulador!$F$50,PPMT(Simulador!$F$44+Simulador!$F$46,Cronograma!B148,Simulador!$F$50,-Simulador!$F$40),\"\"))","v":""},{"$f":"IF(B147<Simulador!$F$50,(IPMT(Simulador!$F$44+Simulador!$F$46,Tabla1[[#This Row],[Periodo]],Simulador!$F$50,-Simulador!$F$40)-Tabla1[[#This Row],[Seguro Desgravamen]]),\"\")","v":""},{"$f":"IF(B147<Simulador!$F$50,C148*Simulador!$F$46,\"\")","v":""},{"$f":"IF(B147<Simulador!$F$50,Simulador!$F$48*Simulador!$F$12/12,\"\")","v":""},{"$f":"IF(B147<Simulador!$F$50,C148-D148,\"\")","v":""},{"$f":"IF(B147<Simulador!$F$50,PMT(Simulador!$F$44+Simulador!$F$46,Simulador!$F$50,-Simulador!$F$40)+G148,\"\")","v":""}]
[null,{"$f":"IF(B148<Simulador!$F$50,B148+1,\"\")","v":""},{"$f":"IF(B148<Simulador!$F$50,H148,\"\")","v":""},{"$f":"IF(Tabla1[[#This Row],[Periodo]]=\"\",\"\",IF(B149<=Simulador!$F$50,PPMT(Simulador!$F$44+Simulador!$F$46,Cronograma!B149,Simulador!$F$50,-Simulador!$F$40),\"\"))","v":""},{"$f":"IF(B148<Simulador!$F$50,(IPMT(Simulador!$F$44+Simulador!$F$46,Tabla1[[#This Row],[Periodo]],Simulador!$F$50,-Simulador!$F$40)-Tabla1[[#This Row],[Seguro Desgravamen]]),\"\")","v":""},{"$f":"IF(B148<Simulador!$F$50,C149*Simulador!$F$46,\"\")","v":""},{"$f":"IF(B148<Simulador!$F$50,Simulador!$F$48*Simulador!$F$12/12,\"\")","v":""},{"$f":"IF(B148<Simulador!$F$50,C149-D149,\"\")","v":""},{"$f":"IF(B148<Simulador!$F$50,PMT(Simulador!$F$44+Simulador!$F$46,Simulador!$F$50,-Simulador!$F$40)+G149,\"\")","v":""}]
[null,{"$f":"IF(B149<Simulador!$F$50,B149+1,\"\")","v":""},{"$f":"IF(B149<Simulador!$F$50,H149,\"\")","v":""},{"$f":"IF(Tabla1[[#This Row],[Periodo]]=\"\",\"\",IF(B150<=Simulador!$F$50,PPMT(Simulador!$F$44+Simulador!$F$46,Cronograma!B150,Simulador!$F$50,-Simulador!$F$40),\"\"))","v":""},{"$f":"IF(B149<Simulador!$F$50,(IPMT(Simulador!$F$44+Simulador!$F$46,Tabla1[[#This Row],[Periodo]],Simulador!$F$50,-Simulador!$F$40)-Tabla1[[#This Row],[Seguro Desgravamen]]),\"\")","v":""},{"$f":"IF(B149<Simulador!$F$50,C150*Simulador!$F$46,\"\")","v":""},{"$f":"IF(B149<Simulador!$F$50,Simulador!$F$48*Simulador!$F$12/12,\"\")","v":""},{"$f":"IF(B149<Simulador!$F$50,C150-D150,\"\")","v":""},{"$f":"IF(B149<Simulador!$F$50,PMT(Simulador!$F$44+Simulador!$F$46,Simulador!$F$50,-Simulador!$F$40)+G150,\"\")","v":""}]
[null,{"$f":"IF(B150<Simulador!$F$50,B150+1,\"\")","v":""},{"$f":"IF(B150<Simulador!$F$50,H150,\"\")","v":""},{"$f":"IF(Tabla1[[#This Row],[Periodo]]=\"\",\"\",IF(B151<=Simulador!$F$50,PPMT(Simulador!$F$44+Simulador!$F$46,Cronograma!B151,Simulador!$F$50,-Simulador!$F$40),\"\"))","v":""},{"$f":"IF(B150<Simulador!$F$50,(IPMT(Simulador!$F$44+Simulador!$F$46,Tabla1[[#This Row],[Periodo]],Simulador!$F$50,-Simulador!$F$40)-Tabla1[[#This Row],[Seguro Desgravamen]]),\"\")","v":""},{"$f":"IF(B150<Simulador!$F$50,C151*Simulador!$F$46,\"\")","v":""},{"$f":"IF(B150<Simulador!$F$50,Simulador!$F$48*Simulador!$F$12/12,\"\")","v":""},{"$f":"IF(B150<Simulador!$F$50,C151-D151,\"\")","v":""},{"$f":"IF(B150<Simulador!$F$50,PMT(Simulador!$F$44+Simulador!$F$46,Simulador!$F$50,-Simulador!$F$40)+G151,\"\")","v":""}]
[null,{"$f":"IF(B151<Simulador!$F$50,B151+1,\"\")","v":""},{"$f":"IF(B151<Simulador!$F$50,H151,\"\")","v":""},{"$f":"IF(Tabla1[[#This Row],[Periodo]]=\"\",\"\",IF(B152<=Simulador!$F$50,PPMT(Simulador!$F$44+Simulador!$F$46,Cronograma!B152,Simulador!$F$50,-Simulador!$F$40),\"\"))","v":""},{"$f":"IF(B151<Simulador!$F$50,(IPMT(Simulador!$F$44+Simulador!$F$46,Tabla1[[#This Row],[Periodo]],Simulador!$F$50,-Simulador!$F$40)-Tabla1[[#This Row],[Seguro Desgravamen]]),\"\")","v":""},{"$f":"IF(B151<Simulador!$F$50,C152*Simulador!$F$46,\"\")","v":""},{"$f":"IF(B151<Simulador!$F$50,Simulador!$F$48*Simulador!$F$12/12,\"\")","v":""},{"$f":"IF(B151<Simulador!$F$50,C152-D152,\"\")","v":""},{"$f":"IF(B151<Simulador!$F$50,PMT(Simulador!$F$44+Simulador!$F$46,Simulador!$F$50,-Simulador!$F$40)+G152,\"\")","v":""}]
[null,{"$f":"IF(B152<Simulador!$F$50,B152+1,\"\")","v":""},{"$f":"IF(B152<Simulador!$F$50,H152,\"\")","v":""},{"$f":"IF(Tabla1[[#This Row],[Periodo]]=\"\",\"\",IF(B153<=Simulador!$F$50,PPMT(Simulador!$F$44+Simulador!$F$46,Cronograma!B153,Simulador!$F$50,-Simulador!$F$40),\"\"))","v":""},{"$f":"IF(B152<Simulador!$F$50,(IPMT(Simulador!$F$44+Simulador!$F$46,Tabla1[[#This Row],[Periodo]],Simulador!$F$50,-Simulador!$F$40)-Tabla1[[#This Row],[Seguro Desgravamen]]),\"\")","v":""},{"$f":"IF(B152<Simulador!$F$50,C153*Simulador!$F$46,\"\")","v":""},{"$f":"IF(B152<Simulador!$F$50,Simulador!$F$48*Simulador!$F$12/12,\"\")","v":""},{"$f":"IF(B152<Simulador!$F$50,C153-D153,\"\")","v":""},{"$f":"IF(B152<Simulador!$F$50,PMT(Simulador!$F$44+Simulador!$F$46,Simulador!$F$50,-Simulador!$F$40)+G153,\"\")","v":""}]
[null,{"$f":"IF(B153<Simulador!$F$50,B153+1,\"\")","v":""},{"$f":"IF(B153<Simulador!$F$50,H153,\"\")","v":""},{"$f":"IF(Tabla1[[#This Row],[Periodo]]=\"\",\"\",IF(B154<=Simulador!$F$50,PPMT(Simulador!$F$44+Simulador!$F$46,Cronograma!B154,Simulador!$F$50,-Simulador!$F$40),\"\"))","v":""},{"$f":"IF(B153<Simulador!$F$50,(IPMT(Simulador!$F$44+Simulador!$F$46,Tabla1[[#This Row],[Periodo]],Simulador!$F$50,-Simulador!$F$40)-Tabla1[[#This Row],[Seguro Desgravamen]]),\"\")","v":""},{"$f":"IF(B153<Simulador!$F$50,C154*Simulador!$F$46,\"\")","v":""},{"$f":"IF(B153<Simulador!$F$50,Simulador!$F$48*Simulador!$F$12/12,\"\")","v":""},{"$f":"IF(B153<Simulador!$F$50,C154-D154,\"\")","v":""},{"$f":"IF(B153<Simulador!$F$50,PMT(Simulador!$F$44+Simulador!$F$46,Simulador!$F$50,-Simulador!$F$40)+G154,\"\")","v":""}]
[null,{"$f":"IF(B154<Simulador!$F$50,B154+1,\"\")","v":""},{"$f":"IF(B154<Simulador!$F$50,H154,\"\")","v":""},{"$f":"IF(Tabla1[[#This Row],[Periodo]]=\"\",\"\",IF(B155<=Simulador!$F$50,PPMT(Simulador!$F$44+Simulador!$F$46,Cronograma!B155,Simulador!$F$50,-Simulador!$F$40),\"\"))","v":""},{"$f":"IF(B154<Simulador!$F$50,(IPMT(Simulador!$F$44+Simulador!$F$46,Tabla1[[#This Row],[Periodo]],Simulador!$F$50,-Simulador!$F$40)-Tabla1[[#This Row],[Seguro Desgravamen]]),\"\")","v":""},{"$f":"IF(B154<Simulador!$F$50,C155*Simulador!$F$46,\"\")","v":""},{"$f":"IF(B154<Simulador!$F$50,Simulador!$F$48*Simulador!$F$12/12,\"\")","v":""},{"$f":"IF(B154<Simulador!$F$50,C155-D155,\"\")","v":""},{"$f":"IF(B154<Simulador!$F$50,PMT(Simulador!$F$44+Simulador!$F$46,Simulador!$F$50,-Simulador!$F$40)+G155,\"\")","v":""}]
[null,{"$f":"IF(B155<Simulador!$F$50,B155+1,\"\")","v":""},{"$f":"IF(B155<Simulador!$F$50,H155,\"\")","v":""},{"$f":"IF(Tabla1[[#This Row],[Periodo]]=\"\",\"\",IF(B156<=Simulador!$F$50,PPMT(Simulador!$F$44+Simulador!$F$46,Cronograma!B156,Simulador!$F$50,-Simulador!$F$40),\"\"))","v":""},{"$f":"IF(B155<Simulador!$F$50,(IPMT(Simulador!$F$44+Simulador!$F$46,Tabla1[[#This Row],[Periodo]],Simulador!$F$50,-Simulador!$F$40)-Tabla1[[#This Row],[Seguro Desgravamen]]),\"\")","v":""},{"$f":"IF(B155<Simulador!$F$50,C156*Simulador!$F$46,\"\")","v":""},{"$f":"IF(B155<Simulador!$F$50,Simulador!$F$48*Simulador!$F$12/12,\"\")","v":""},{"$f":"IF(B155<Simulador!$F$50,C156-D156,\"\")","v":""},{"$f":"IF(B155<Simulador!$F$50,PMT(Simulador!$F$44+Simulador!$F$46,Simulador!$F$50,-Simulador!$F$40)+G156,\"\")","v":""}]
[null,{"$f":"IF(B156<Simulador!$F$50,B156+1,\"\")","v":""},{"$f":"IF(B156<Simulador!$F$50,H156,\"\")","v":""},{"$f":"IF(Tabla1[[#This Row],[Periodo]]=\"\",\"\",IF(B157<=Simulador!$F$50,PPMT(Simulador!$F$44+Simulador!$F$46,Cronograma!B157,Simulador!$F$50,-Simulador!$F$40),\"\"))","v":""},{"$f":"IF(B156<Simulador!$F$50,(IPMT(Simulador!$F$44+Simulador!$F$46,Tabla1[[#This Row],[Periodo]],Simulador!$F$50,-Simulador!$F$40)-Tabla1[[#This Row],[Seguro Desgravamen]]),\"\")","v":""},{"$f":"IF(B156<Simulador!$F$50,C157*Simulador!$F$46,\"\")","v":""},{"$f":"IF(B156<Simulador!$F$50,Simulador!$F$48*Simulador!$F$12/12,\"\")","v":""},{"$f":"IF(B156<Simulador!$F$50,C157-D157,\"\")","v":""},{"$f":"IF(B156<Simulador!$F$50,PMT(Simulador!$F$44+Simulador!$F$46,Simulador!$F$50,-Simulador!$F$40)+G157,\"\")","v":""}]
[null,{"$f":"IF(B157<Simulador!$F$50,B157+1,\"\")","v":""},{"$f":"IF(B157<Simulador!$F$50,H157,\"\")","v":""},{"$f":"IF(Tabla1[[#This Row],[Periodo]]=\"\",\"\",IF(B158<=Simulador!$F$50,PPMT(Simulador!$F$44+Simulador!$F$46,Cronograma!B158,Simulador!$F$50,-Simulador!$F$40),\"\"))","v":""},{"$f":"IF(B157<Simulador!$F$50,(IPMT(Simulador!$F$44+Simulador!$F$46,Tabla1[[#This Row],[Periodo]],Simulador!$F$50,-Simulador!$F$40)-Tabla1[[#This Row],[Seguro Desgravamen]]),\"\")","v":""},{"$f":"IF(B157<Simulador!$F$50,C158*Simulador!$F$46,\"\")","v":""},{"$f":"IF(B157<Simulador!$F$50,Simulador!$F$48*Simulador!$F$12/12,\"\")","v":""},{"$f":"IF(B157<Simulador!$F$50,C158-D158,\"\")","v":""},{"$f":"IF(B157<Simulador!$F$50,PMT(Simulador!$F$44+Simulador!$F$46,Simulador!$F$50,-Simulador!$F$40)+G158,\"\")","v":""}]
[null,{"$f":"IF(B158<Simulador!$F$50,B158+1,\"\")","v":""},{"$f":"IF(B158<Simulador!$F$50,H158,\"\")","v":""},{"$f":"IF(Tabla1[[#This Row],[Periodo]]=\"\",\"\",IF(B159<=Simulador!$F$50,PPMT(Simulador!$F$44+Simulador!$F$46,Cronograma!B159,Simulador!$F$50,-Simulador!$F$40),\"\"))","v":""},{"$f":"IF(B158<Simulador!$F$50,(IPMT(Simulador!$F$44+Simulador!$F$46,Tabla1[[#This Row],[Periodo]],Simulador!$F$50,-Simulador!$F$40)-Tabla1[[#This Row],[Seguro Desgravamen]]),\"\")","v":""},{"$f":"IF(B158<Simulador!$F$50,C159*Simulador!$F$46,\"\")","v":""},{"$f":"IF(B158<Simulador!$F$50,Simulador!$F$48*Simulador!$F$12/12,\"\")","v":""},{"$f":"IF(B158<Simulador!$F$50,C159-D159,\"\")","v":""},{"$f":"IF(B158<Simulador!$F$50,PMT(Simulador!$F$44+Simulador!$F$46,Simulador!$F$50,-Simulador!$F$40)+G159,\"\")","v":""}]
[null,{"$f":"IF(B159<Simulador!$F$50,B159+1,\"\")","v":""},{"$f":"IF(B159<Simulador!$F$50,H159,\"\")","v":""},{"$f":"IF(Tabla1[[#This Row],[Periodo]]=\"\",\"\",IF(B160<=Simulador!$F$50,PPMT(Simulador!$F$44+Simulador!$F$46,Cronograma!B160,Simulador!$F$50,-Simulador!$F$40),\"\"))","v":""},{"$f":"IF(B159<Simulador!$F$50,(IPMT(Simulador!$F$44+Simulador!$F$46,Tabla1[[#This Row],[Periodo]],Simulador!$F$50,-Simulador!$F$40)-Tabla1[[#This Row],[Seguro Desgravamen]]),\"\")","v":""},{"$f":"IF(B159<Simulador!$F$50,C160*Simulador!$F$46,\"\")","v":""},{"$f":"IF(B159<Simulador!$F$50,Simulador!$F$48*Simulador!$F$12/12,\"\")","v":""},{"$f":"IF(B159<Simulador!$F$50,C160-D160,\"\")","v":""},{"$f":"IF(B159<Simulador!$F$50,PMT(Simulador!$F$44+Simulador!$F$46,Simulador!$F$50,-Simulador!$F$40)+G160,\"\")","v":""}]
[null,{"$f":"IF(B160<Simulador!$F$50,B160+1,\"\")","v":""},{"$f":"IF(B160<Simulador!$F$50,H160,\"\")","v":""},{"$f":"IF(Tabla1[[#This Row],[Periodo]]=\"\",\"\",IF(B161<=Simulador!$F$50,PPMT(Simulador!$F$44+Simulador!$F$46,Cronograma!B161,Simulador!$F$50,-Simulador!$F$40),\"\"))","v":""},{"$f":"IF(B160<Simulador!$F$50,(IPMT(Simulador!$F$44+Simulador!$F$46,Tabla1[[#This Row],[Periodo]],Simulador!$F$50,-Simulador!$F$40)-Tabla1[[#This Row],[Seguro Desgravamen]]),\"\")","v":""},{"$f":"IF(B160<Simulador!$F$50,C161*Simulador!$F$46,\"\")","v":""},{"$f":"IF(B160<Simulador!$F$50,Simulador!$F$48*Simulador!$F$12/12,\"\")","v":""},{"$f":"IF(B160<Simulador!$F$50,C161-D161,\"\")","v":""},{"$f":"IF(B160<Simulador!$F$50,PMT(Simulador!$F$44+Simulador!$F$46,Simulador!$F$50,-Simulador!$F$40)+G161,\"\")","v":""}]
[null,{"$f":"IF(B161<Simulador!$F$50,B161+1,\"\")","v":""},{"$f":"IF(B161<Simulador!$F$50,H161,\"\")","v":""},{"$f":"IF(Tabla1[[#This Row],[Periodo]]=\"\",\"\",IF(B162<=Simulador!$F$50,PPMT(Simulador!$F$44+Simulador!$F$46,Cronograma!B162,Simulador!$F$50,-Simulador!$F$40),\"\"))","v":""},{"$f":"IF(B161<Simulador!$F$50,(IPMT(Simulador!$F$44+Simulador!$F$46,Tabla1[[#This Row],[Periodo]],Simulador!$F$50,-Simulador!$F$40)-Tabla1[[#This Row],[Seguro Desgravamen]]),\"\")","v":""},{"$f":"IF(B161<Simulador!$F$50,C162*Simulador!$F$46,\"\")","v":""},{"$f":"IF(B161<Simulador!$F$50,Simulador!$F$48*Simulador!$F$12/12,\"\")","v":""},{"$f":"IF(B161<Simulador!$F$50,C162-D162,\"\")","v":""},{"$f":"IF(B161<Simulador!$F$50,PMT(Simulador!$F$44+Simulador!$F$46,Simulador!$F$50,-Simulador!$F$40)+G162,\"\")","v":""}]
[null,{"$f":"IF(B162<Simulador!$F$50,B162+1,\"\")","v":""},{"$f":"IF(B162<Simulador!$F$50,H162,\"\")","v":""},{"$f":"IF(Tabla1[[#This Row],[Periodo]]=\"\",\"\",IF(B163<=Simulador!$F$50,PPMT(Simulador!$F$44+Simulador!$F$46,Cronograma!B163,Simulador!$F$50,-Simulador!$F$40),\"\"))","v":""},{"$f":"IF(B162<Simulador!$F$50,(IPMT(Simulador!$F$44+Simulador!$F$46,Tabla1[[#This Row],[Periodo]],Simulador!$F$50,-Simulador!$F$40)-Tabla1[[#This Row],[Seguro Desgravamen]]),\"\")","v":""},{"$f":"IF(B162<Simulador!$F$50,C163*Simulador!$F$46,\"\")","v":""},{"$f":"IF(B162<Simulador!$F$50,Simulador!$F$48*Simulador!$F$12/12,\"\")","v":""},{"$f":"IF(B162<Simulador!$F$50,C163-D163,\"\")","v":""},{"$f":"IF(B162<Simulador!$F$50,PMT(Simulador!$F$44+Simulador!$F$46,Simulador!$F$50,-Simulador!$F$40)+G163,\"\")","v":""}]
[null,{"$f":"IF(B163<Simulador!$F$50,B163+1,\"\")","v":""},{"$f":"IF(B163<Simulador!$F$50,H163,\"\")","v":""},{"$f":"IF(Tabla1[[#This Row],[Periodo]]=\"\",\"\",IF(B164<=Simulador!$F$50,PPMT(Simulador!$F$44+Simulador!$F$46,Cronograma!B164,Simulador!$F$50,-Simulador!$F$40),\"\"))","v":""},{"$f":"IF(B163<Simulador!$F$50,(IPMT(Simulador!$F$44+Simulador!$F$46,Tabla1[[#This Row],[Periodo]],Simulador!$F$50,-Simulador!$F$40)-Tabla1[[#This Row],[Seguro Desgravamen]]),\"\")","v":""},{"$f":"IF(B163<Simulador!$F$50,C164*Simulador!$F$46,\"\")","v":""},{"$f":"IF(B163<Simulador!$F$50,Simulador!$F$48*Simulador!$F$12/12,\"\")","v":""},{"$f":"IF(B163<Simulador!$F$50,C164-D164,\"\")","v":""},{"$f":"IF(B163<Simulador!$F$50,PMT(Simulador!$F$44+Simulador!$F$46,Simulador!$F$50,-Simulador!$F$40)+G164,\"\")","v":""}]
[null,{"$f":"IF(B164<Simulador!$F$50,B164+1,\"\")","v":""},{"$f":"IF(B164<Simulador!$F$50,H164,\"\")","v":""},{"$f":"IF(Tabla1[[#This Row],[Periodo]]=\"\",\"\",IF(B165<=Simulador!$F$50,PPMT(Simulador!$F$44+Simulador!$F$46,Cronograma!B165,Simulador!$F$50,-Simulador!$F$40),\"\"))","v":""},{"$f":"IF(B164<Simulador!$F$50,(IPMT(Simulador!$F$44+Simulador!$F$46,Tabla1[[#This Row],[Periodo]],Simulador!$F$50,-Simulador!$F$40)-Tabla1[[#This Row],[Seguro Desgravamen]]),\"\")","v":""},{"$f":"IF(B164<Simulador!$F$50,C165*Simulador!$F$46,\"\")","v":""},{"$f":"IF(B164<Simulador!$F$50,Simulador!$F$48*Simulador!$F$12/12,\"\")","v":""},{"$f":"IF(B164<Simulador!$F$50,C165-D165,\"\")","v":""},{"$f":"IF(B164<Simulador!$F$50,PMT(Simulador!$F$44+Simulador!$F$46,Simulador!$F$50,-Simulador!$F$40)+G165,\"\")","v":""}]
[null,{"$f":"IF(B165<Simulador!$F$50,B165+1,\"\")","v":""},{"$f":"IF(B165<Simulador!$F$50,H165,\"\")","v":""},{"$f":"IF(Tabla1[[#This Row],[Periodo]]=\"\",\"\",IF(B166<=Simulador!$F$50,PPMT(Simulador!$F$44+Simulador!$F$46,Cronograma!B166,Simulador!$F$50,-Simulador!$F$40),\"\"))","v":""},{"$f":"IF(B165<Simulador!$F$50,(IPMT(Simulador!$F$44+Simulador!$F$46,Tabla1[[#This Row],[Periodo]],Simulador!$F$50,-Simulador!$F$40)-Tabla1[[#This Row],[Seguro Desgravamen]]),\"\")","v":""},{"$f":"IF(B165<Simulador!$F$50,C166*Simulador!$F$46,\"\")","v":""},{"$f":"IF(B165<Simulador!$F$50,Simulador!$F$48*Simulador!$F$12/12,\"\")","v":""},{"$f":"IF(B165<Simulador!$F$50,C166-D166,\"\")","v":""},{"$f":"IF(B165<Simulador!$F$50,PMT(Simulador!$F$44+Simulador!$F$46,Simulador!$F$50,-Simulador!$F$40)+G166,\"\")","v":""}]
[null,{"$f":"IF(B166<Simulador!$F$50,B166+1,\"\")","v":""},{"$f":"IF(B166<Simulador!$F$50,H166,\"\")","v":""},{"$f":"IF(Tabla1[[#This Row],[Periodo]]=\"\",\"\",IF(B167<=Simulador!$F$50,PPMT(Simulador!$F$44+Simulador!$F$46,Cronograma!B167,Simulador!$F$50,-Simulador!$F$40),\"\"))","v":""},{"$f":"IF(B166<Simulador!$F$50,(IPMT(Simulador!$F$44+Simulador!$F$46,Tabla1[[#This Row],[Periodo]],Simulador!$F$50,-Simulador!$F$40)-Tabla1[[#This Row],[Seguro Desgravamen]]),\"\")","v":""},{"$f":"IF(B166<Simulador!$F$50,C167*Simulador!$F$46,\"\")","v":""},{"$f":"IF(B166<Simulador!$F$50,Simulador!$F$48*Simulador!$F$12/12,\"\")","v":""},{"$f":"IF(B166<Simulador!$F$50,C167-D167,\"\")","v":""},{"$f":"IF(B166<Simulador!$F$50,PMT(Simulador!$F$44+Simulador!$F$46,Simulador!$F$50,-Simulador!$F$40)+G167,\"\")","v":""}]
[null,{"$f":"IF(B167<Simulador!$F$50,B167+1,\"\")","v":""},{"$f":"IF(B167<Simulador!$F$50,H167,\"\")","v":""},{"$f":"IF(Tabla1[[#This Row],[Periodo]]=\"\",\"\",IF(B168<=Simulador!$F$50,PPMT(Simulador!$F$44+Simulador!$F$46,Cronograma!B168,Simulador!$F$50,-Simulador!$F$40),\"\"))","v":""},{"$f":"IF(B167<Simulador!$F$50,(IPMT(Simulador!$F$44+Simulador!$F$46,Tabla1[[#This Row],[Periodo]],Simulador!$F$50,-Simulador!$F$40)-Tabla1[[#This Row],[Seguro Desgravamen]]),\"\")","v":""},{"$f":"IF(B167<Simulador!$F$50,C168*Simulador!$F$46,\"\")","v":""},{"$f":"IF(B167<Simulador!$F$50,Simulador!$F$48*Simulador!$F$12/12,\"\")","v":""},{"$f":"IF(B167<Simulador!$F$50,C168-D168,\"\")","v":""},{"$f":"IF(B167<Simulador!$F$50,PMT(Simulador!$F$44+Simulador!$F$46,Simulador!$F$50,-Simulador!$F$40)+G168,\"\")","v":""}]
[null,{"$f":"IF(B168<Simulador!$F$50,B168+1,\"\")","v":""},{"$f":"IF(B168<Simulador!$F$50,H168,\"\")","v":""},{"$f":"IF(Tabla1[[#This Row],[Periodo]]=\"\",\"\",IF(B169<=Simulador!$F$50,PPMT(Simulador!$F$44+Simulador!$F$46,Cronograma!B169,Simulador!$F$50,-Simulador!$F$40),\"\"))","v":""},{"$f":"IF(B168<Simulador!$F$50,(IPMT(Simulador!$F$44+Simulador!$F$46,Tabla1[[#This Row],[Periodo]],Simulador!$F$50,-Simulador!$F$40)-Tabla1[[#This Row],[Seguro Desgravamen]]),\"\")","v":""},{"$f":"IF(B168<Simulador!$F$50,C169*Simulador!$F$46,\"\")","v":""},{"$f":"IF(B168<Simulador!$F$50,Simulador!$F$48*Simulador!$F$12/12,\"\")","v":""},{"$f":"IF(B168<Simulador!$F$50,C169-D169,\"\")","v":""},{"$f":"IF(B168<Simulador!$F$50,PMT(Simulador!$F$44+Simulador!$F$46,Simulador!$F$50,-Simulador!$F$40)+G169,\"\")","v":""}]
[null,{"$f":"IF(B169<Simulador!$F$50,B169+1,\"\")","v":""},{"$f":"IF(B169<Simulador!$F$50,H169,\"\")","v":""},{"$f":"IF(Tabla1[[#This Row],[Periodo]]=\"\",\"\",IF(B170<=Simulador!$F$50,PPMT(Simulador!$F$44+Simulador!$F$46,Cronograma!B170,Simulador!$F$50,-Simulador!$F$40),\"\"))","v":""},{"$f":"IF(B169<Simulador!$F$50,(IPMT(Simulador!$F$44+Simulador!$F$46,Tabla1[[#This Row],[Periodo]],Simulador!$F$50,-Simulador!$F$40)-Tabla1[[#This Row],[Seguro Desgravamen]]),\"\")","v":""},{"$f":"IF(B169<Simulador!$F$50,C170*Simulador!$F$46,\"\")","v":""},{"$f":"IF(B169<Simulador!$F$50,Simulador!$F$48*Simulador!$F$12/12,\"\")","v":""},{"$f":"IF(B169<Simulador!$F$50,C170-D170,\"\")","v":""},{"$f":"IF(B169<Simulador!$F$50,PMT(Simulador!$F$44+Simulador!$F$46,Simulador!$F$50,-Simulador!$F$40)+G170,\"\")","v":""}]
[null,{"$f":"IF(B170<Simulador!$F$50,B170+1,\"\")","v":""},{"$f":"IF(B170<Simulador!$F$50,H170,\"\")","v":""},{"$f":"IF(Tabla1[[#This Row],[Periodo]]=\"\",\"\",IF(B171<=Simulador!$F$50,PPMT(Simulador!$F$44+Simulador!$F$46,Cronograma!B171,Simulador!$F$50,-Simulador!$F$40),\"\"))","v":""},{"$f":"IF(B170<Simulador!$F$50,(IPMT(Simulador!$F$44+Simulador!$F$46,Tabla1[[#This Row],[Periodo]],Simulador!$F$50,-Simulador!$F$40)-Tabla1[[#This Row],[Seguro Desgravamen]]),\"\")","v":""},{"$f":"IF(B170<Simulador!$F$50,C171*Simulador!$F$46,\"\")","v":""},{"$f":"IF(B170<Simulador!$F$50,Simulador!$F$48*Simulador!$F$12/12,\"\")","v":""},{"$f":"IF(B170<Simulador!$F$50,C171-D171,\"\")","v":""},{"$f":"IF(B170<Simulador!$F$50,PMT(Simulador!$F$44+Simulador!$F$46,Simulador!$F$50,-Simulador!$F$40)+G171,\"\")","v":""}]
[null,{"$f":"IF(B171<Simulador!$F$50,B171+1,\"\")","v":""},{"$f":"IF(B171<Simulador!$F$50,H171,\"\")","v":""},{"$f":"IF(Tabla1[[#This Row],[Periodo]]=\"\",\"\",IF(B172<=Simulador!$F$50,PPMT(Simulador!$F$44+Simulador!$F$46,Cronograma!B172,Simulador!$F$50,-Simulador!$F$40),\"\"))","v":""},{"$f":"IF(B171<Simulador!$F$50,(IPMT(Simulador!$F$44+Simulador!$F$46,Tabla1[[#This Row],[Periodo]],Simulador!$F$50,-Simulador!$F$40)-Tabla1[[#This Row],[Seguro Desgravamen]]),\"\")","v":""},{"$f":"IF(B171<Simulador!$F$50,C172*Simulador!$F$46,\"\")","v":""},{"$f":"IF(B171<Simulador!$F$50,Simulador!$F$48*Simulador!$F$12/12,\"\")","v":""},{"$f":"IF(B171<Simulador!$F$50,C172-D172,\"\")","v":""},{"$f":"IF(B171<Simulador!$F$50,PMT(Simulador!$F$44+Simulador!$F$46,Simulador!$F$50,-Simulador!$F$40)+G172,\"\")","v":""}]
[null,{"$f":"IF(B172<Simulador!$F$50,B172+1,\"\")","v":""},{"$f":"IF(B172<Simulador!$F$50,H172,\"\")","v":""},{"$f":"IF(Tabla1[[#This Row],[Periodo]]=\"\",\"\",IF(B173<=Simulador!$F$50,PPMT(Simulador!$F$44+Simulador!$F$46,Cronograma!B173,Simulador!$F$50,-Simulador!$F$40),\"\"))","v":""},{"$f":"IF(B172<Simulador!$F$50,(IPMT(Simulador!$F$44+Simulador!$F$46,Tabla1[[#This Row],[Periodo]],Simulador!$F$50,-Simulador!$F$40)-Tabla1[[#This Row],[Seguro Desgravamen]]),\"\")","v":""},{"$f":"IF(B172<Simulador!$F$50,C173*Simulador!$F$46,\"\")","v":""},{"$f":"IF(B172<Simulador!$F$50,Simulador!$F$48*Simulador!$F$12/12,\"\")","v":""},{"$f":"IF(B172<Simulador!$F$50,C173-D173,\"\")","v":""},{"$f":"IF(B172<Simulador!$F$50,PMT(Simulador!$F$44+Simulador!$F$46,Simulador!$F$50,-Simulador!$F$40)+G173,\"\")","v":""}]
[null,{"$f":"IF(B173<Simulador!$F$50,B173+1,\"\")","v":""},{"$f":"IF(B173<Simulador!$F$50,H173,\"\")","v":""},{"$f":"IF(Tabla1[[#This Row],[Periodo]]=\"\",\"\",IF(B174<=Simulador!$F$50,PPMT(Simulador!$F$44+Simulador!$F$46,Cronograma!B174,Simulador!$F$50,-Simulador!$F$40),\"\"))","v":""},{"$f":"IF(B173<Simulador!$F$50,(IPMT(Simulador!$F$44+Simulador!$F$46,Tabla1[[#This Row],[Periodo]],Simulador!$F$50,-Simulador!$F$40)-Tabla1[[#This Row],[Seguro Desgravamen]]),\"\")","v":""},{"$f":"IF(B173<Simulador!$F$50,C174*Simulador!$F$46,\"\")","v":""},{"$f":"IF(B173<Simulador!$F$50,Simulador!$F$48*Simulador!$F$12/12,\"\")","v":""},{"$f":"IF(B173<Simulador!$F$50,C174-D174,\"\")","v":""},{"$f":"IF(B173<Simulador!$F$50,PMT(Simulador!$F$44+Simulador!$F$46,Simulador!$F$50,-Simulador!$F$40)+G174,\"\")","v":""}]
[null,{"$f":"IF(B174<Simulador!$F$50,B174+1,\"\")","v":""},{"$f":"IF(B174<Simulador!$F$50,H174,\"\")","v":""},{"$f":"IF(Tabla1[[#This Row],[Periodo]]=\"\",\"\",IF(B175<=Simulador!$F$50,PPMT(Simulador!$F$44+Simulador!$F$46,Cronograma!B175,Simulador!$F$50,-Simulador!$F$40),\"\"))","v":""},{"$f":"IF(B174<Simulador!$F$50,(IPMT(Simulador!$F$44+Simulador!$F$46,Tabla1[[#This Row],[Periodo]],Simulador!$F$50,-Simulador!$F$40)-Tabla1[[#This Row],[Seguro Desgravamen]]),\"\")","v":""},{"$f":"IF(B174<Simulador!$F$50,C175*Simulador!$F$46,\"\")","v":""},{"$f":"IF(B174<Simulador!$F$50,Simulador!$F$48*Simulador!$F$12/12,\"\")","v":""},{"$f":"IF(B174<Simulador!$F$50,C175-D175,\"\")","v":""},{"$f":"IF(B174<Simulador!$F$50,PMT(Simulador!$F$44+Simulador!$F$46,Simulador!$F$50,-Simulador!$F$40)+G175,\"\")","v":""}]
[null,{"$f":"IF(B175<Simulador!$F$50,B175+1,\"\")","v":""},{"$f":"IF(B175<Simulador!$F$50,H175,\"\")","v":""},{"$f":"IF(Tabla1[[#This Row],[Periodo]]=\"\",\"\",IF(B176<=Simulador!$F$50,PPMT(Simulador!$F$44+Simulador!$F$46,Cronograma!B176,Simulador!$F$50,-Simulador!$F$40),\"\"))","v":""},{"$f":"IF(B175<Simulador!$F$50,(IPMT(Simulador!$F$44+Simulador!$F$46,Tabla1[[#This Row],[Periodo]],Simulador!$F$50,-Simulador!$F$40)-Tabla1[[#This Row],[Seguro Desgravamen]]),\"\")","v":""},{"$f":"IF(B175<Simulador!$F$50,C176*Simulador!$F$46,\"\")","v":""},{"$f":"IF(B175<Simulador!$F$50,Simulador!$F$48*Simulador!$F$12/12,\"\")","v":""},{"$f":"IF(B175<Simulador!$F$50,C176-D176,\"\")","v":""},{"$f":"IF(B175<Simulador!$F$50,PMT(Simulador!$F$44+Simulador!$F$46,Simulador!$F$50,-Simulador!$F$40)+G176,\"\")","v":""}]
[null,{"$f":"IF(B176<Simulador!$F$50,B176+1,\"\")","v":""},{"$f":"IF(B176<Simulador!$F$50,H176,\"\")","v":""},{"$f":"IF(Tabla1[[#This Row],[Periodo]]=\"\",\"\",IF(B177<=Simulador!$F$50,PPMT(Simulador!$F$44+Simulador!$F$46,Cronograma!B177,Simulador!$F$50,-Simulador!$F$40),\"\"))","v":""},{"$f":"IF(B176<Simulador!$F$50,(IPMT(Simulador!$F$44+Simulador!$F$46,Tabla1[[#This Row],[Periodo]],Simulador!$F$50,-Simulador!$F$40)-Tabla1[[#This Row],[Seguro Desgravamen]]),\"\")","v":""},{"$f":"IF(B176<Simulador!$F$50,C177*Simulador!$F$46,\"\")","v":""},{"$f":"IF(B176<Simulador!$F$50,Simulador!$F$48*Simulador!$F$12/12,\"\")","v":""},{"$f":"IF(B176<Simulador!$F$50,C177-D177,\"\")","v":""},{"$f":"IF(B176<Simulador!$F$50,PMT(Simulador!$F$44+Simulador!$F$46,Simulador!$F$50,-Simulador!$F$40)+G177,\"\")","v":""}]
[null,{"$f":"IF(B177<Simulador!$F$50,B177+1,\"\")","v":""},{"$f":"IF(B177<Simulador!$F$50,H177,\"\")","v":""},{"$f":"IF(Tabla1[[#This Row],[Periodo]]=\"\",\"\",IF(B178<=Simulador!$F$50,PPMT(Simulador!$F$44+Simulador!$F$46,Cronograma!B178,Simulador!$F$50,-Simulador!$F$40),\"\"))","v":""},{"$f":"IF(B177<Simulador!$F$50,(IPMT(Simulador!$F$44+Simulador!$F$46,Tabla1[[#This Row],[Periodo]],Simulador!$F$50,-Simulador!$F$40)-Tabla1[[#This Row],[Seguro Desgravamen]]),\"\")","v":""},{"$f":"IF(B177<Simulador!$F$50,C178*Simulador!$F$46,\"\")","v":""},{"$f":"IF(B177<Simulador!$F$50,Simulador!$F$48*Simulador!$F$12/12,\"\")","v":""},{"$f":"IF(B177<Simulador!$F$50,C178-D178,\"\")","v":""},{"$f":"IF(B177<Simulador!$F$50,PMT(Simulador!$F$44+Simulador!$F$46,Simulador!$F$50,-Simulador!$F$40)+G178,\"\")","v":""}]
[null,{"$f":"IF(B178<Simulador!$F$50,B178+1,\"\")","v":""},{"$f":"IF(B178<Simulador!$F$50,H178,\"\")","v":""},{"$f":"IF(Tabla1[[#This Row],[Periodo]]=\"\",\"\",IF(B179<=Simulador!$F$50,PPMT(Simulador!$F$44+Simulador!$F$46,Cronograma!B179,Simulador!$F$50,-Simulador!$F$40),\"\"))","v":""},{"$f":"IF(B178<Simulador!$F$50,(IPMT(Simulador!$F$44+Simulador!$F$46,Tabla1[[#This Row],[Periodo]],Simulador!$F$50,-Simulador!$F$40)-Tabla1[[#This Row],[Seguro Desgravamen]]),\"\")","v":""},{"$f":"IF(B178<Simulador!$F$50,C179*Simulador!$F$46,\"\")","v":""},{"$f":"IF(B178<Simulador!$F$50,Simulador!$F$48*Simulador!$F$12/12,\"\")","v":""},{"$f":"IF(B178<Simulador!$F$50,C179-D179,\"\")","v":""},{"$f":"IF(B178<Simulador!$F$50,PMT(Simulador!$F$44+Simulador!$F$46,Simulador!$F$50,-Simulador!$F$40)+G179,\"\")","v":""}]
[null,{"$f":"IF(B179<Simulador!$F$50,B179+1,\"\")","v":""},{"$f":"IF(B179<Simulador!$F$50,H179,\"\")","v":""},{"$f":"IF(Tabla1[[#This Row],[Periodo]]=\"\",\"\",IF(B180<=Simulador!$F$50,PPMT(Simulador!$F$44+Simulador!$F$46,Cronograma!B180,Simulador!$F$50,-Simulador!$F$40),\"\"))","v":""},{"$f":"IF(B179<Simulador!$F$50,(IPMT(Simulador!$F$44+Simulador!$F$46,Tabla1[[#This Row],[Periodo]],Simulador!$F$50,-Simulador!$F$40)-Tabla1[[#This Row],[Seguro Desgravamen]]),\"\")","v":""},{"$f":"IF(B179<Simulador!$F$50,C180*Simulador!$F$46,\"\")","v":""},{"$f":"IF(B179<Simulador!$F$50,Simulador!$F$48*Simulador!$F$12/12,\"\")","v":""},{"$f":"IF(B179<Simulador!$F$50,C180-D180,\"\")","v":""},{"$f":"IF(B179<Simulador!$F$50,PMT(Simulador!$F$44+Simulador!$F$46,Simulador!$F$50,-Simulador!$F$40)+G180,\"\")","v":""}]
[null,{"$f":"IF(B180<Simulador!$F$50,B180+1,\"\")","v":""},{"$f":"IF(B180<Simulador!$F$50,H180,\"\")","v":""},{"$f":"IF(Tabla1[[#This Row],[Periodo]]=\"\",\"\",IF(B181<=Simulador!$F$50,PPMT(Simulador!$F$44+Simulador!$F$46,Cronograma!B181,Simulador!$F$50,-Simulador!$F$40),\"\"))","v":""},{"$f":"IF(B180<Simulador!$F$50,(IPMT(Simulador!$F$44+Simulador!$F$46,Tabla1[[#This Row],[Periodo]],Simulador!$F$50,-Simulador!$F$40)-Tabla1[[#This Row],[Seguro Desgravamen]]),\"\")","v":""},{"$f":"IF(B180<Simulador!$F$50,C181*Simulador!$F$46,\"\")","v":""},{"$f":"IF(B180<Simulador!$F$50,Simulador!$F$48*Simulador!$F$12/12,\"\")","v":""},{"$f":"IF(B180<Simulador!$F$50,C181-D181,\"\")","v":""},{"$f":"IF(B180<Simulador!$F$50,PMT(Simulador!$F$44+Simulador!$F$46,Simulador!$F$50,-Simulador!$F$40)+G181,\"\")","v":""}]
[null,{"$f":"IF(B181<Simulador!$F$50,B181+1,\"\")","v":""},{"$f":"IF(B181<Simulador!$F$50,H181,\"\")","v":""},{"$f":"IF(Tabla1[[#This Row],[Periodo]]=\"\",\"\",IF(B182<=Simulador!$F$50,PPMT(Simulador!$F$44+Simulador!$F$46,Cronograma!B182,Simulador!$F$50,-Simulador!$F$40),\"\"))","v":""},{"$f":"IF(B181<Simulador!$F$50,(IPMT(Simulador!$F$44+Simulador!$F$46,Tabla1[[#This Row],[Periodo]],Simulador!$F$50,-Simulador!$F$40)-Tabla1[[#This Row],[Seguro Desgravamen]]),\"\")","v":""},{"$f":"IF(B181<Simulador!$F$50,C182*Simulador!$F$46,\"\")","v":""},{"$f":"IF(B181<Simulador!$F$50,Simulador!$F$48*Simulador!$F$12/12,\"\")","v":""},{"$f":"IF(B181<Simulador!$F$50,C182-D182,\"\")","v":""},{"$f":"IF(B181<Simulador!$F$50,PMT(Simulador!$F$44+Simulador!$F$46,Simulador!$F$50,-Simulador!$F$40)+G182,\"\")","v":""}]
[null,{"$f":"IF(B182<Simulador!$F$50,B182+1,\"\")","v":""},{"$f":"IF(B182<Simulador!$F$50,H182,\"\")","v":""},{"$f":"IF(Tabla1[[#This Row],[Periodo]]=\"\",\"\",IF(B183<=Simulador!$F$50,PPMT(Simulador!$F$44+Simulador!$F$46,Cronograma!B183,Simulador!$F$50,-Simulador!$F$40),\"\"))","v":""},{"$f":"IF(B182<Simulador!$F$50,(IPMT(Simulador!$F$44+Simulador!$F$46,Tabla1[[#This Row],[Periodo]],Simulador!$F$50,-Simulador!$F$40)-Tabla1[[#This Row],[Seguro Desgravamen]]),\"\")","v":""},{"$f":"IF(B182<Simulador!$F$50,C183*Simulador!$F$46,\"\")","v":""},{"$f":"IF(B182<Simulador!$F$50,Simulador!$F$48*Simulador!$F$12/12,\"\")","v":""},{"$f":"IF(B182<Simulador!$F$50,C183-D183,\"\")","v":""},{"$f":"IF(B182<Simulador!$F$50,PMT(Simulador!$F$44+Simulador!$F$46,Simulador!$F$50,-Simulador!$F$40)+G183,\"\")","v":""}]
[null,{"$f":"IF(B183<Simulador!$F$50,B183+1,\"\")","v":""},{"$f":"IF(B183<Simulador!$F$50,H183,\"\")","v":""},{"$f":"IF(Tabla1[[#This Row],[Periodo]]=\"\",\"\",IF(B184<=Simulador!$F$50,PPMT(Simulador!$F$44+Simulador!$F$46,Cronograma!B184,Simulador!$F$50,-Simulador!$F$40),\"\"))","v":""},{"$f":"IF(B183<Simulador!$F$50,(IPMT(Simulador!$F$44+Simulador!$F$46,Tabla1[[#This Row],[Periodo]],Simulador!$F$50,-Simulador!$F$40)-Tabla1[[#This Row],[Seguro Desgravamen]]),\"\")","v":""},{"$f":"IF(B183<Simulador!$F$50,C184*Simulador!$F$46,\"\")","v":""},{"$f":"IF(B183<Simulador!$F$50,Simulador!$F$48*Simulador!$F$12/12,\"\")","v":""},{"$f":"IF(B183<Simulador!$F$50,C184-D184,\"\")","v":""},{"$f":"IF(B183<Simulador!$F$50,PMT(Simulador!$F$44+Simulador!$F$46,Simulador!$F$50,-Simulador!$F$40)+G184,\"\")","v":""}]
[null,{"$f":"IF(B184<Simulador!$F$50,B184+1,\"\")","v":""},{"$f":"IF(B184<Simulador!$F$50,H184,\"\")","v":""},{"$f":"IF(Tabla1[[#This Row],[Periodo]]=\"\",\"\",IF(B185<=Simulador!$F$50,PPMT(Simulador!$F$44+Simulador!$F$46,Cronograma!B185,Simulador!$F$50,-Simulador!$F$40),\"\"))","v":""},{"$f":"IF(B184<Simulador!$F$50,(IPMT(Simulador!$F$44+Simulador!$F$46,Tabla1[[#This Row],[Periodo]],Simulador!$F$50,-Simulador!$F$40)-Tabla1[[#This Row],[Seguro Desgravamen]]),\"\")","v":""},{"$f":"IF(B184<Simulador!$F$50,C185*Simulador!$F$46,\"\")","v":""},{"$f":"IF(B184<Simulador!$F$50,Simulador!$F$48*Simulador!$F$12/12,\"\")","v":""},{"$f":"IF(B184<Simulador!$F$50,C185-D185,\"\")","v":""},{"$f":"IF(B184<Simulador!$F$50,PMT(Simulador!$F$44+Simulador!$F$46,Simulador!$F$50,-Simulador!$F$40)+G185,\"\")","v":""}]
[null,{"$f":"IF(B185<Simulador!$F$50,B185+1,\"\")","v":""},{"$f":"IF(B185<Simulador!$F$50,H185,\"\")","v":""},{"$f":"IF(Tabla1[[#This Row],[Periodo]]=\"\",\"\",IF(B186<=Simulador!$F$50,PPMT(Simulador!$F$44+Simulador!$F$46,Cronograma!B186,Simulador!$F$50,-Simulador!$F$40),\"\"))","v":""},{"$f":"IF(B185<Simulador!$F$50,(IPMT(Simulador!$F$44+Simulador!$F$46,Tabla1[[#This Row],[Periodo]],Simulador!$F$50,-Simulador!$F$40)-Tabla1[[#This Row],[Seguro Desgravamen]]),\"\")","v":""},{"$f":"IF(B185<Simulador!$F$50,C186*Simulador!$F$46,\"\")","v":""},{"$f":"IF(B185<Simulador!$F$50,Simulador!$F$48*Simulador!$F$12/12,\"\")","v":""},{"$f":"IF(B185<Simulador!$F$50,C186-D186,\"\")","v":""},{"$f":"IF(B185<Simulador!$F$50,PMT(Simulador!$F$44+Simulador!$F$46,Simulador!$F$50,-Simulador!$F$40)+G186,\"\")","v":""}]
[null,{"$f":"IF(B186<Simulador!$F$50,B186+1,\"\")","v":""},{"$f":"IF(B186<Simulador!$F$50,H186,\"\")","v":""},{"$f":"IF(Tabla1[[#This Row],[Periodo]]=\"\",\"\",IF(B187<=Simulador!$F$50,PPMT(Simulador!$F$44+Simulador!$F$46,Cronograma!B187,Simulador!$F$50,-Simulador!$F$40),\"\"))","v":""},{"$f":"IF(B186<Simulador!$F$50,(IPMT(Simulador!$F$44+Simulador!$F$46,Tabla1[[#This Row],[Periodo]],Simulador!$F$50,-Simulador!$F$40)-Tabla1[[#This Row],[Seguro Desgravamen]]),\"\")","v":""},{"$f":"IF(B186<Simulador!$F$50,C187*Simulador!$F$46,\"\")","v":""},{"$f":"IF(B186<Simulador!$F$50,Simulador!$F$48*Simulador!$F$12/12,\"\")","v":""},{"$f":"IF(B186<Simulador!$F$50,C187-D187,\"\")","v":""},{"$f":"IF(B186<Simulador!$F$50,PMT(Simulador!$F$44+Simulador!$F$46,Simulador!$F$50,-Simulador!$F$40)+G187,\"\")","v":""}]
[null,{"$f":"IF(B187<Simulador!$F$50,B187+1,\"\")","v":""},{"$f":"IF(B187<Simulador!$F$50,H187,\"\")","v":""},{"$f":"IF(Tabla1[[#This Row],[Periodo]]=\"\",\"\",IF(B188<=Simulador!$F$50,PPMT(Simulador!$F$44+Simulador!$F$46,Cronograma!B188,Simulador!$F$50,-Simulador!$F$40),\"\"))","v":""},{"$f":"IF(B187<Simulador!$F$50,(IPMT(Simulador!$F$44+Simulador!$F$46,Tabla1[[#This Row],[Periodo]],Simulador!$F$50,-Simulador!$F$40)-Tabla1[[#This Row],[Seguro Desgravamen]]),\"\")","v":""},{"$f":"IF(B187<Simulador!$F$50,C188*Simulador!$F$46,\"\")","v":""},{"$f":"IF(B187<Simulador!$F$50,Simulador!$F$48*Simulador!$F$12/12,\"\")","v":""},{"$f":"IF(B187<Simulador!$F$50,C188-D188,\"\")","v":""},{"$f":"IF(B187<Simulador!$F$50,PMT(Simulador!$F$44+Simulador!$F$46,Simulador!$F$50,-Simulador!$F$40)+G188,\"\")","v":""}]
[null,{"$f":"IF(B188<Simulador!$F$50,B188+1,\"\")","v":""},{"$f":"IF(B188<Simulador!$F$50,H188,\"\")","v":""},{"$f":"IF(Tabla1[[#This Row],[Periodo]]=\"\",\"\",IF(B189<=Simulador!$F$50,PPMT(Simulador!$F$44+Simulador!$F$46,Cronograma!B189,Simulador!$F$50,-Simulador!$F$40),\"\"))","v":""},{"$f":"IF(B188<Simulador!$F$50,(IPMT(Simulador!$F$44+Simulador!$F$46,Tabla1[[#This Row],[Periodo]],Simulador!$F$50,-Simulador!$F$40)-Tabla1[[#This Row],[Seguro Desgravamen]]),\"\")","v":""},{"$f":"IF(B188<Simulador!$F$50,C189*Simulador!$F$46,\"\")","v":""},{"$f":"IF(B188<Simulador!$F$50,Simulador!$F$48*Simulador!$F$12/12,\"\")","v":""},{"$f":"IF(B188<Simulador!$F$50,C189-D189,\"\")","v":""},{"$f":"IF(B188<Simulador!$F$50,PMT(Simulador!$F$44+Simulador!$F$46,Simulador!$F$50,-Simulador!$F$40)+G189,\"\")","v":""}]
[null,{"$f":"IF(B189<Simulador!$F$50,B189+1,\"\")","v":""},{"$f":"IF(B189<Simulador!$F$50,H189,\"\")","v":""},{"$f":"IF(Tabla1[[#This Row],[Periodo]]=\"\",\"\",IF(B190<=Simulador!$F$50,PPMT(Simulador!$F$44+Simulador!$F$46,Cronograma!B190,Simulador!$F$50,-Simulador!$F$40),\"\"))","v":""},{"$f":"IF(B189<Simulador!$F$50,(IPMT(Simulador!$F$44+Simulador!$F$46,Tabla1[[#This Row],[Periodo]],Simulador!$F$50,-Simulador!$F$40)-Tabla1[[#This Row],[Seguro Desgravamen]]),\"\")","v":""},{"$f":"IF(B189<Simulador!$F$50,C190*Simulador!$F$46,\"\")","v":""},{"$f":"IF(B189<Simulador!$F$50,Simulador!$F$48*Simulador!$F$12/12,\"\")","v":""},{"$f":"IF(B189<Simulador!$F$50,C190-D190,\"\")","v":""},{"$f":"IF(B189<Simulador!$F$50,PMT(Simulador!$F$44+Simulador!$F$46,Simulador!$F$50,-Simulador!$F$40)+G190,\"\")","v":""}]
[null,{"$f":"IF(B190<Simulador!$F$50,B190+1,\"\")","v":""},{"$f":"IF(B190<Simulador!$F$50,H190,\"\")","v":""},{"$f":"IF(Tabla1[[#This Row],[Periodo]]=\"\",\"\",IF(B191<=Simulador!$F$50,PPMT(Simulador!$F$44+Simulador!$F$46,Cronograma!B191,Simulador!$F$50,-Simulador!$F$40),\"\"))","v":""},{"$f":"IF(B190<Simulador!$F$50,(IPMT(Simulador!$F$44+Simulador!$F$46,Tabla1[[#This Row],[Periodo]],Simulador!$F$50,-Simulador!$F$40)-Tabla1[[#This Row],[Seguro Desgravamen]]),\"\")","v":""},{"$f":"IF(B190<Simulador!$F$50,C191*Simulador!$F$46,\"\")","v":""},{"$f":"IF(B190<Simulador!$F$50,Simulador!$F$48*Simulador!$F$12/12,\"\")","v":""},{"$f":"IF(B190<Simulador!$F$50,C191-D191,\"\")","v":""},{"$f":"IF(B190<Simulador!$F$50,PMT(Simulador!$F$44+Simulador!$F$46,Simulador!$F$50,-Simulador!$F$40)+G191,\"\")","v":""}]
[null,{"$f":"IF(B191<Simulador!$F$50,B191+1,\"\")","v":""},{"$f":"IF(B191<Simulador!$F$50,H191,\"\")","v":""},{"$f":"IF(Tabla1[[#This Row],[Periodo]]=\"\",\"\",IF(B192<=Simulador!$F$50,PPMT(Simulador!$F$44+Simulador!$F$46,Cronograma!B192,Simulador!$F$50,-Simulador!$F$40),\"\"))","v":""},{"$f":"IF(B191<Simulador!$F$50,(IPMT(Simulador!$F$44+Simulador!$F$46,Tabla1[[#This Row],[Periodo]],Simulador!$F$50,-Simulador!$F$40)-Tabla1[[#This Row],[Seguro Desgravamen]]),\"\")","v":""},{"$f":"IF(B191<Simulador!$F$50,C192*Simulador!$F$46,\"\")","v":""},{"$f":"IF(B191<Simulador!$F$50,Simulador!$F$48*Simulador!$F$12/12,\"\")","v":""},{"$f":"IF(B191<Simulador!$F$50,C192-D192,\"\")","v":""},{"$f":"IF(B191<Simulador!$F$50,PMT(Simulador!$F$44+Simulador!$F$46,Simulador!$F$50,-Simulador!$F$40)+G192,\"\")","v":""}]
[null,{"$f":"IF(B192<Simulador!$F$50,B192+1,\"\")","v":""},{"$f":"IF(B192<Simulador!$F$50,H192,\"\")","v":""},{"$f":"IF(Tabla1[[#This Row],[Periodo]]=\"\",\"\",IF(B193<=Simulador!$F$50,PPMT(Simulador!$F$44+Simulador!$F$46,Cronograma!B193,Simulador!$F$50,-Simulador!$F$40),\"\"))","v":""},{"$f":"IF(B192<Simulador!$F$50,(IPMT(Simulador!$F$44+Simulador!$F$46,Tabla1[[#This Row],[Periodo]],Simulador!$F$50,-Simulador!$F$40)-Tabla1[[#This Row],[Seguro Desgravamen]]),\"\")","v":""},{"$f":"IF(B192<Simulador!$F$50,C193*Simulador!$F$46,\"\")","v":""},{"$f":"IF(B192<Simulador!$F$50,Simulador!$F$48*Simulador!$F$12/12,\"\")","v":""},{"$f":"IF(B192<Simulador!$F$50,C193-D193,\"\")","v":""},{"$f":"IF(B192<Simulador!$F$50,PMT(Simulador!$F$44+Simulador!$F$46,Simulador!$F$50,-Simulador!$F$40)+G193,\"\")","v":""}]
[null,{"$f":"IF(B193<Simulador!$F$50,B193+1,\"\")","v":""},{"$f":"IF(B193<Simulador!$F$50,H193,\"\")","v":""},{"$f":"IF(Tabla1[[#This Row],[Periodo]]=\"\",\"\",IF(B194<=Simulador!$F$50,PPMT(Simulador!$F$44+Simulador!$F$46,Cronograma!B194,Simulador!$F$50,-Simulador!$F$40),\"\"))","v":""},{"$f":"IF(B193<Simulador!$F$50,(IPMT(Simulador!$F$44+Simulador!$F$46,Tabla1[[#This Row],[Periodo]],Simulador!$F$50,-Simulador!$F$40)-Tabla1[[#This Row],[Seguro Desgravamen]]),\"\")","v":""},{"$f":"IF(B193<Simulador!$F$50,C194*Simulador!$F$46,\"\")","v":""},{"$f":"IF(B193<Simulador!$F$50,Simulador!$F$48*Simulador!$F$12/12,\"\")","v":""},{"$f":"IF(B193<Simulador!$F$50,C194-D194,\"\")","v":""},{"$f":"IF(B193<Simulador!$F$50,PMT(Simulador!$F$44+Simulador!$F$46,Simulador!$F$50,-Simulador!$F$40)+G194,\"\")","v":""}]
[null,{"$f":"IF(B194<Simulador!$F$50,B194+1,\"\")","v":""},{"$f":"IF(B194<Simulador!$F$50,H194,\"\")","v":""},{"$f":"IF(Tabla1[[#This Row],[Periodo]]=\"\",\"\",IF(B195<=Simulador!$F$50,PPMT(Simulador!$F$44+Simulador!$F$46,Cronograma!B195,Simulador!$F$50,-Simulador!$F$40),\"\"))","v":""},{"$f":"IF(B194<Simulador!$F$50,(IPMT(Simulador!$F$44+Simulador!$F$46,Tabla1[[#This Row],[Periodo]],Simulador!$F$50,-Simulador!$F$40)-Tabla1[[#This Row],[Seguro Desgravamen]]),\"\")","v":""},{"$f":"IF(B194<Simulador!$F$50,C195*Simulador!$F$46,\"\")","v":""},{"$f":"IF(B194<Simulador!$F$50,Simulador!$F$48*Simulador!$F$12/12,\"\")","v":""},{"$f":"IF(B194<Simulador!$F$50,C195-D195,\"\")","v":""},{"$f":"IF(B194<Simulador!$F$50,PMT(Simulador!$F$44+Simulador!$F$46,Simulador!$F$50,-Simulador!$F$40)+G195,\"\")","v":""}]
[null,{"$f":"IF(B195<Simulador!$F$50,B195+1,\"\")","v":""},{"$f":"IF(B195<Simulador!$F$50,H195,\"\")","v":""},{"$f":"IF(Tabla1[[#This Row],[Periodo]]=\"\",\"\",IF(B196<=Simulador!$F$50,PPMT(Simulador!$F$44+Simulador!$F$46,Cronograma!B196,Simulador!$F$50,-Simulador!$F$40),\"\"))","v":""},{"$f":"IF(B195<Simulador!$F$50,(IPMT(Simulador!$F$44+Simulador!$F$46,Tabla1[[#This Row],[Periodo]],Simulador!$F$50,-Simulador!$F$40)-Tabla1[[#This Row],[Seguro Desgravamen]]),\"\")","v":""},{"$f":"IF(B195<Simulador!$F$50,C196*Simulador!$F$46,\"\")","v":""},{"$f":"IF(B195<Simulador!$F$50,Simulador!$F$48*Simulador!$F$12/12,\"\")","v":""},{"$f":"IF(B195<Simulador!$F$50,C196-D196,\"\")","v":""},{"$f":"IF(B195<Simulador!$F$50,PMT(Simulador!$F$44+Simulador!$F$46,Simulador!$F$50,-Simulador!$F$40)+G196,\"\")","v":""}]
[null,{"$f":"IF(B196<Simulador!$F$50,B196+1,\"\")","v":""},{"$f":"IF(B196<Simulador!$F$50,H196,\"\")","v":""},{"$f":"IF(Tabla1[[#This Row],[Periodo]]=\"\",\"\",IF(B197<=Simulador!$F$50,PPMT(Simulador!$F$44+Simulador!$F$46,Cronograma!B197,Simulador!$F$50,-Simulador!$F$40),\"\"))","v":""},{"$f":"IF(B196<Simulador!$F$50,(IPMT(Simulador!$F$44+Simulador!$F$46,Tabla1[[#This Row],[Periodo]],Simulador!$F$50,-Simulador!$F$40)-Tabla1[[#This Row],[Seguro Desgravamen]]),\"\")","v":""},{"$f":"IF(B196<Simulador!$F$50,C197*Simulador!$F$46,\"\")","v":""},{"$f":"IF(B196<Simulador!$F$50,Simulador!$F$48*Simulador!$F$12/12,\"\")","v":""},{"$f":"IF(B196<Simulador!$F$50,C197-D197,\"\")","v":""},{"$f":"IF(B196<Simulador!$F$50,PMT(Simulador!$F$44+Simulador!$F$46,Simulador!$F$50,-Simulador!$F$40)+G197,\"\")","v":""}]
[null,{"$f":"IF(B197<Simulador!$F$50,B197+1,\"\")","v":""},{"$f":"IF(B197<Simulador!$F$50,H197,\"\")","v":""},{"$f":"IF(Tabla1[[#This Row],[Periodo]]=\"\",\"\",IF(B198<=Simulador!$F$50,PPMT(Simulador!$F$44+Simulador!$F$46,Cronograma!B198,Simulador!$F$50,-Simulador!$F$40),\"\"))","v":""},{"$f":"IF(B197<Simulador!$F$50,(IPMT(Simulador!$F$44+Simulador!$F$46,Tabla1[[#This Row],[Periodo]],Simulador!$F$50,-Simulador!$F$40)-Tabla1[[#This Row],[Seguro Desgravamen]]),\"\")","v":""},{"$f":"IF(B197<Simulador!$F$50,C198*Simulador!$F$46,\"\")","v":""},{"$f":"IF(B197<Simulador!$F$50,Simulador!$F$48*Simulador!$F$12/12,\"\")","v":""},{"$f":"IF(B197<Simulador!$F$50,C198-D198,\"\")","v":""},{"$f":"IF(B197<Simulador!$F$50,PMT(Simulador!$F$44+Simulador!$F$46,Simulador!$F$50,-Simulador!$F$40)+G198,\"\")","v":""}]
[null,{"$f":"IF(B198<Simulador!$F$50,B198+1,\"\")","v":""},{"$f":"IF(B198<Simulador!$F$50,H198,\"\")","v":""},{"$f":"IF(Tabla1[[#This Row],[Periodo]]=\"\",\"\",IF(B199<=Simulador!$F$50,PPMT(Simulador!$F$44+Simulador!$F$46,Cronograma!B199,Simulador!$F$50,-Simulador!$F$40),\"\"))","v":""},{"$f":"IF(B198<Simulador!$F$50,(IPMT(Simulador!$F$44+Simulador!$F$46,Tabla1[[#This Row],[Periodo]],Simulador!$F$50,-Simulador!$F$40)-Tabla1[[#This Row],[Seguro Desgravamen]]),\"\")","v":""},{"$f":"IF(B198<Simulador!$F$50,C199*Simulador!$F$46,\"\")","v":""},{"$f":"IF(B198<Simulador!$F$50,Simulador!$F$48*Simulador!$F$12/12,\"\")","v":""},{"$f":"IF(B198<Simulador!$F$50,C199-D199,\"\")","v":""},{"$f":"IF(B198<Simulador!$F$50,PMT(Simulador!$F$44+Simulador!$F$46,Simulador!$F$50,-Simulador!$F$40)+G199,\"\")","v":""}]
[null,{"$f":"IF(B199<Simulador!$F$50,B199+1,\"\")","v":""},{"$f":"IF(B199<Simulador!$F$50,H199,\"\")","v":""},{"$f":"IF(Tabla1[[#This Row],[Periodo]]=\"\",\"\",IF(B200<=Simulador!$F$50,PPMT(Simulador!$F$44+Simulador!$F$46,Cronograma!B200,Simulador!$F$50,-Simulador!$F$40),\"\"))","v":""},{"$f":"IF(B199<Simulador!$F$50,(IPMT(Simulador!$F$44+Simulador!$F$46,Tabla1[[#This Row],[Periodo]],Simulador!$F$50,-Simulador!$F$40)-Tabla1[[#This Row],[Seguro Desgravamen]]),\"\")","v":""},{"$f":"IF(B199<Simulador!$F$50,C200*Simulador!$F$46,\"\")","v":""},{"$f":"IF(B199<Simulador!$F$50,Simulador!$F$48*Simulador!$F$12/12,\"\")","v":""},{"$f":"IF(B199<Simulador!$F$50,C200-D200,\"\")","v":""},{"$f":"IF(B199<Simulador!$F$50,PMT(Simulador!$F$44+Simulador!$F$46,Simulador!$F$50,-Simulador!$F$40)+G200,\"\")","v":""}]
[null,{"$f":"IF(B200<Simulador!$F$50,B200+1,\"\")","v":""},{"$f":"IF(B200<Simulador!$F$50,H200,\"\")","v":""},{"$f":"IF(Tabla1[[#This Row],[Periodo]]=\"\",\"\",IF(B201<=Simulador!$F$50,PPMT(Simulador!$F$44+Simulador!$F$46,Cronograma!B201,Simulador!$F$50,-Simulador!$F$40),\"\"))","v":""},{"$f":"IF(B200<Simulador!$F$50,(IPMT(Simulador!$F$44+Simulador!$F$46,Tabla1[[#This Row],[Periodo]],Simulador!$F$50,-Simulador!$F$40)-Tabla1[[#This Row],[Seguro Desgravamen]]),\"\")","v":""},{"$f":"IF(B200<Simulador!$F$50,C201*Simulador!$F$46,\"\")","v":""},{"$f":"IF(B200<Simulador!$F$50,Simulador!$F$48*Simulador!$F$12/12,\"\")","v":""},{"$f":"IF(B200<Simulador!$F$50,C201-D201,\"\")","v":""},{"$f":"IF(B200<Simulador!$F$50,PMT(Simulador!$F$44+Simulador!$F$46,Simulador!$F$50,-Simulador!$F$40)+G201,\"\")","v":""}]
[null,{"$f":"IF(B201<Simulador!$F$50,B201+1,\"\")","v":""},{"$f":"IF(B201<Simulador!$F$50,H201,\"\")","v":""},{"$f":"IF(Tabla1[[#This Row],[Periodo]]=\"\",\"\",IF(B202<=Simulador!$F$50,PPMT(Simulador!$F$44+Simulador!$F$46,Cronograma!B202,Simulador!$F$50,-Simulador!$F$40),\"\"))","v":""},{"$f":"IF(B201<Simulador!$F$50,(IPMT(Simulador!$F$44+Simulador!$F$46,Tabla1[[#This Row],[Periodo]],Simulador!$F$50,-Simulador!$F$40)-Tabla1[[#This Row],[Seguro Desgravamen]]),\"\")","v":""},{"$f":"IF(B201<Simulador!$F$50,C202*Simulador!$F$46,\"\")","v":""},{"$f":"IF(B201<Simulador!$F$50,Simulador!$F$48*Simulador!$F$12/12,\"\")","v":""},{"$f":"IF(B201<Simulador!$F$50,C202-D202,\"\")","v":""},{"$f":"IF(B201<Simulador!$F$50,PMT(Simulador!$F$44+Simulador!$F$46,Simulador!$F$50,-Simulador!$F$40)+G202,\"\")","v":""}]
[null,{"$f":"IF(B202<Simulador!$F$50,B202+1,\"\")","v":""},{"$f":"IF(B202<Simulador!$F$50,H202,\"\")","v":""},{"$f":"IF(Tabla1[[#This Row],[Periodo]]=\"\",\"\",IF(B203<=Simulador!$F$50,PPMT(Simulador!$F$44+Simulador!$F$46,Cronograma!B203,Simulador!$F$50,-Simulador!$F$40),\"\"))","v":""},{"$f":"IF(B202<Simulador!$F$50,(IPMT(Simulador!$F$44+Simulador!$F$46,Tabla1[[#This Row],[Periodo]],Simulador!$F$50,-Simulador!$F$40)-Tabla1[[#This Row],[Seguro Desgravamen]]),\"\")","v":""},{"$f":"IF(B202<Simulador!$F$50,C203*Simulador!$F$46,\"\")","v":""},{"$f":"IF(B202<Simulador!$F$50,Simulador!$F$48*Simulador!$F$12/12,\"\")","v":""},{"$f":"IF(B202<Simulador!$F$50,C203-D203,\"\")","v":""},{"$f":"IF(B202<Simulador!$F$50,PMT(Simulador!$F$44+Simulador!$F$46,Simulador!$F$50,-Simulador!$F$40)+G203,\"\")","v":""}]
[null,{"$f":"IF(B203<Simulador!$F$50,B203+1,\"\")","v":""},{"$f":"IF(B203<Simulador!$F$50,H203,\"\")","v":""},{"$f":"IF(Tabla1[[#This Row],[Periodo]]=\"\",\"\",IF(B204<=Simulador!$F$50,PPMT(Simulador!$F$44+Simulador!$F$46,Cronograma!B204,Simulador!$F$50,-Simulador!$F$40),\"\"))","v":""},{"$f":"IF(B203<Simulador!$F$50,(IPMT(Simulador!$F$44+Simulador!$F$46,Tabla1[[#This Row],[Periodo]],Simulador!$F$50,-Simulador!$F$40)-Tabla1[[#This Row],[Seguro Desgravamen]]),\"\")","v":""},{"$f":"IF(B203<Simulador!$F$50,C204*Simulador!$F$46,\"\")","v":""},{"$f":"IF(B203<Simulador!$F$50,Simulador!$F$48*Simulador!$F$12/12,\"\")","v":""},{"$f":"IF(B203<Simulador!$F$50,C204-D204,\"\")","v":""},{"$f":"IF(B203<Simulador!$F$50,PMT(Simulador!$F$44+Simulador!$F$46,Simulador!$F$50,-Simulador!$F$40)+G204,\"\")","v":""}]
[null,{"$f":"IF(B204<Simulador!$F$50,B204+1,\"\")","v":""},{"$f":"IF(B204<Simulador!$F$50,H204,\"\")","v":""},{"$f":"IF(Tabla1[[#This Row],[Periodo]]=\"\",\"\",IF(B205<=Simulador!$F$50,PPMT(Simulador!$F$44+Simulador!$F$46,Cronograma!B205,Simulador!$F$50,-Simulador!$F$40),\"\"))","v":""},{"$f":"IF(B204<Simulador!$F$50,(IPMT(Simulador!$F$44+Simulador!$F$46,Tabla1[[#This Row],[Periodo]],Simulador!$F$50,-Simulador!$F$40)-Tabla1[[#This Row],[Seguro Desgravamen]]),\"\")","v":""},{"$f":"IF(B204<Simulador!$F$50,C205*Simulador!$F$46,\"\")","v":""},{"$f":"IF(B204<Simulador!$F$50,Simulador!$F$48*Simulador!$F$12/12,\"\")","v":""},{"$f":"IF(B204<Simulador!$F$50,C205-D205,\"\")","v":""},{"$f":"IF(B204<Simulador!$F$50,PMT(Simulador!$F$44+Simulador!$F$46,Simulador!$F$50,-Simulador!$F$40)+G205,\"\")","v":""}]
[null,{"$f":"IF(B205<Simulador!$F$50,B205+1,\"\")","v":""},{"$f":"IF(B205<Simulador!$F$50,H205,\"\")","v":""},{"$f":"IF(Tabla1[[#This Row],[Periodo]]=\"\",\"\",IF(B206<=Simulador!$F$50,PPMT(Simulador!$F$44+Simulador!$F$46,Cronograma!B206,Simulador!$F$50,-Simulador!$F$40),\"\"))","v":""},{"$f":"IF(B205<Simulador!$F$50,(IPMT(Simulador!$F$44+Simulador!$F$46,Tabla1[[#This Row],[Periodo]],Simulador!$F$50,-Simulador!$F$40)-Tabla1[[#This Row],[Seguro Desgravamen]]),\"\")","v":""},{"$f":"IF(B205<Simulador!$F$50,C206*Simulador!$F$46,\"\")","v":""},{"$f":"IF(B205<Simulador!$F$50,Simulador!$F$48*Simulador!$F$12/12,\"\")","v":""},{"$f":"IF(B205<Simulador!$F$50,C206-D206,\"\")","v":""},{"$f":"IF(B205<Simulador!$F$50,PMT(Simulador!$F$44+Simulador!$F$46,Simulador!$F$50,-Simulador!$F$40)+G206,\"\")","v":""}]
[null,{"$f":"IF(B206<Simulador!$F$50,B206+1,\"\")","v":""},{"$f":"IF(B206<Simulador!$F$50,H206,\"\")","v":""},{"$f":"IF(Tabla1[[#This Row],[Periodo]]=\"\",\"\",IF(B207<=Simulador!$F$50,PPMT(Simulador!$F$44+Simulador!$F$46,Cronograma!B207,Simulador!$F$50,-Simulador!$F$40),\"\"))","v":""},{"$f":"IF(B206<Simulador!$F$50,(IPMT(Simulador!$F$44+Simulador!$F$46,Tabla1[[#This Row],[Periodo]],Simulador!$F$50,-Simulador!$F$40)-Tabla1[[#This Row],[Seguro Desgravamen]]),\"\")","v":""},{"$f":"IF(B206<Simulador!$F$50,C207*Simulador!$F$46,\"\")","v":""},{"$f":"IF(B206<Simulador!$F$50,Simulador!$F$48*Simulador!$F$12/12,\"\")","v":""},{"$f":"IF(B206<Simulador!$F$50,C207-D207,\"\")","v":""},{"$f":"IF(B206<Simulador!$F$50,PMT(Simulador!$F$44+Simulador!$F$46,Simulador!$F$50,-Simulador!$F$40)+G207,\"\")","v":""}]
[null,{"$f":"IF(B207<Simulador!$F$50,B207+1,\"\")","v":""},{"$f":"IF(B207<Simulador!$F$50,H207,\"\")","v":""},{"$f":"IF(Tabla1[[#This Row],[Periodo]]=\"\",\"\",IF(B208<=Simulador!$F$50,PPMT(Simulador!$F$44+Simulador!$F$46,Cronograma!B208,Simulador!$F$50,-Simulador!$F$40),\"\"))","v":""},{"$f":"IF(B207<Simulador!$F$50,(IPMT(Simulador!$F$44+Simulador!$F$46,Tabla1[[#This Row],[Periodo]],Simulador!$F$50,-Simulador!$F$40)-Tabla1[[#This Row],[Seguro Desgravamen]]),\"\")","v":""},{"$f":"IF(B207<Simulador!$F$50,C208*Simulador!$F$46,\"\")","v":""},{"$f":"IF(B207<Simulador!$F$50,Simulador!$F$48*Simulador!$F$12/12,\"\")","v":""},{"$f":"IF(B207<Simulador!$F$50,C208-D208,\"\")","v":""},{"$f":"IF(B207<Simulador!$F$50,PMT(Simulador!$F$44+Simulador!$F$46,Simulador!$F$50,-Simulador!$F$40)+G208,\"\")","v":""}]
[null,{"$f":"IF(B208<Simulador!$F$50,B208+1,\"\")","v":""},{"$f":"IF(B208<Simulador!$F$50,H208,\"\")","v":""},{"$f":"IF(Tabla1[[#This Row],[Periodo]]=\"\",\"\",IF(B209<=Simulador!$F$50,PPMT(Simulador!$F$44+Simulador!$F$46,Cronograma!B209,Simulador!$F$50,-Simulador!$F$40),\"\"))","v":""},{"$f":"IF(B208<Simulador!$F$50,(IPMT(Simulador!$F$44+Simulador!$F$46,Tabla1[[#This Row],[Periodo]],Simulador!$F$50,-Simulador!$F$40)-Tabla1[[#This Row],[Seguro Desgravamen]]),\"\")","v":""},{"$f":"IF(B208<Simulador!$F$50,C209*Simulador!$F$46,\"\")","v":""},{"$f":"IF(B208<Simulador!$F$50,Simulador!$F$48*Simulador!$F$12/12,\"\")","v":""},{"$f":"IF(B208<Simulador!$F$50,C209-D209,\"\")","v":""},{"$f":"IF(B208<Simulador!$F$50,PMT(Simulador!$F$44+Simulador!$F$46,Simulador!$F$50,-Simulador!$F$40)+G209,\"\")","v":""}]
[null,{"$f":"IF(B209<Simulador!$F$50,B209+1,\"\")","v":""},{"$f":"IF(B209<Simulador!$F$50,H209,\"\")","v":""},{"$f":"IF(Tabla1[[#This Row],[Periodo]]=\"\",\"\",IF(B210<=Simulador!$F$50,PPMT(Simulador!$F$44+Simulador!$F$46,Cronograma!B210,Simulador!$F$50,-Simulador!$F$40),\"\"))","v":""},{"$f":"IF(B209<Simulador!$F$50,(IPMT(Simulador!$F$44+Simulador!$F$46,Tabla1[[#This Row],[Periodo]],Simulador!$F$50,-Simulador!$F$40)-Tabla1[[#This Row],[Seguro Desgravamen]]),\"\")","v":""},{"$f":"IF(B209<Simulador!$F$50,C210*Simulador!$F$46,\"\")","v":""},{"$f":"IF(B209<Simulador!$F$50,Simulador!$F$48*Simulador!$F$12/12,\"\")","v":""},{"$f":"IF(B209<Simulador!$F$50,C210-D210,\"\")","v":""},{"$f":"IF(B209<Simulador!$F$50,PMT(Simulador!$F$44+Simulador!$F$46,Simulador!$F$50,-Simulador!$F$40)+G210,\"\")","v":""}]
[null,{"$f":"IF(B210<Simulador!$F$50,B210+1,\"\")","v":""},{"$f":"IF(B210<Simulador!$F$50,H210,\"\")","v":""},{"$f":"IF(Tabla1[[#This Row],[Periodo]]=\"\",\"\",IF(B211<=Simulador!$F$50,PPMT(Simulador!$F$44+Simulador!$F$46,Cronograma!B211,Simulador!$F$50,-Simulador!$F$40),\"\"))","v":""},{"$f":"IF(B210<Simulador!$F$50,(IPMT(Simulador!$F$44+Simulador!$F$46,Tabla1[[#This Row],[Periodo]],Simulador!$F$50,-Simulador!$F$40)-Tabla1[[#This Row],[Seguro Desgravamen]]),\"\")","v":""},{"$f":"IF(B210<Simulador!$F$50,C211*Simulador!$F$46,\"\")","v":""},{"$f":"IF(B210<Simulador!$F$50,Simulador!$F$48*Simulador!$F$12/12,\"\")","v":""},{"$f":"IF(B210<Simulador!$F$50,C211-D211,\"\")","v":""},{"$f":"IF(B210<Simulador!$F$50,PMT(Simulador!$F$44+Simulador!$F$46,Simulador!$F$50,-Simulador!$F$40)+G211,\"\")","v":""}]
[null,{"$f":"IF(B211<Simulador!$F$50,B211+1,\"\")","v":""},{"$f":"IF(B211<Simulador!$F$50,H211,\"\")","v":""},{"$f":"IF(Tabla1[[#This Row],[Periodo]]=\"\",\"\",IF(B212<=Simulador!$F$50,PPMT(Simulador!$F$44+Simulador!$F$46,Cronograma!B212,Simulador!$F$50,-Simulador!$F$40),\"\"))","v":""},{"$f":"IF(B211<Simulador!$F$50,(IPMT(Simulador!$F$44+Simulador!$F$46,Tabla1[[#This Row],[Periodo]],Simulador!$F$50,-Simulador!$F$40)-Tabla1[[#This Row],[Seguro Desgravamen]]),\"\")","v":""},{"$f":"IF(B211<Simulador!$F$50,C212*Simulador!$F$46,\"\")","v":""},{"$f":"IF(B211<Simulador!$F$50,Simulador!$F$48*Simulador!$F$12/12,\"\")","v":""},{"$f":"IF(B211<Simulador!$F$50,C212-D212,\"\")","v":""},{"$f":"IF(B211<Simulador!$F$50,PMT(Simulador!$F$44+Simulador!$F$46,Simulador!$F$50,-Simulador!$F$40)+G212,\"\")","v":""}]
[null,{"$f":"IF(B212<Simulador!$F$50,B212+1,\"\")","v":""},{"$f":"IF(B212<Simulador!$F$50,H212,\"\")","v":""},{"$f":"IF(Tabla1[[#This Row],[Periodo]]=\"\",\"\",IF(B213<=Simulador!$F$50,PPMT(Simulador!$F$44+Simulador!$F$46,Cronograma!B213,Simulador!$F$50,-Simulador!$F$40),\"\"))","v":""},{"$f":"IF(B212<Simulador!$F$50,(IPMT(Simulador!$F$44+Simulador!$F$46,Tabla1[[#This Row],[Periodo]],Simulador!$F$50,-Simulador!$F$40)-Tabla1[[#This Row],[Seguro Desgravamen]]),\"\")","v":""},{"$f":"IF(B212<Simulador!$F$50,C213*Simulador!$F$46,\"\")","v":""},{"$f":"IF(B212<Simulador!$F$50,Simulador!$F$48*Simulador!$F$12/12,\"\")","v":""},{"$f":"IF(B212<Simulador!$F$50,C213-D213,\"\")","v":""},{"$f":"IF(B212<Simulador!$F$50,PMT(Simulador!$F$44+Simulador!$F$46,Simulador!$F$50,-Simulador!$F$40)+G213,\"\")","v":""}]
[null,{"$f":"IF(B213<Simulador!$F$50,B213+1,\"\")","v":""},{"$f":"IF(B213<Simulador!$F$50,H213,\"\")","v":""},{"$f":"IF(Tabla1[[#This Row],[Periodo]]=\"\",\"\",IF(B214<=Simulador!$F$50,PPMT(Simulador!$F$44+Simulador!$F$46,Cronograma!B214,Simulador!$F$50,-Simulador!$F$40),\"\"))","v":""},{"$f":"IF(B213<Simulador!$F$50,(IPMT(Simulador!$F$44+Simulador!$F$46,Tabla1[[#This Row],[Periodo]],Simulador!$F$50,-Simulador!$F$40)-Tabla1[[#This Row],[Seguro Desgravamen]]),\"\")","v":""},{"$f":"IF(B213<Simulador!$F$50,C214*Simulador!$F$46,\"\")","v":""},{"$f":"IF(B213<Simulador!$F$50,Simulador!$F$48*Simulador!$F$12/12,\"\")","v":""},{"$f":"IF(B213<Simulador!$F$50,C214-D214,\"\")","v":""},{"$f":"IF(B213<Simulador!$F$50,PMT(Simulador!$F$44+Simulador!$F$46,Simulador!$F$50,-Simulador!$F$40)+G214,\"\")","v":""}]
[null,{"$f":"IF(B214<Simulador!$F$50,B214+1,\"\")","v":""},{"$f":"IF(B214<Simulador!$F$50,H214,\"\")","v":""},{"$f":"IF(Tabla1[[#This Row],[Periodo]]=\"\",\"\",IF(B215<=Simulador!$F$50,PPMT(Simulador!$F$44+Simulador!$F$46,Cronograma!B215,Simulador!$F$50,-Simulador!$F$40),\"\"))","v":""},{"$f":"IF(B214<Simulador!$F$50,(IPMT(Simulador!$F$44+Simulador!$F$46,Tabla1[[#This Row],[Periodo]],Simulador!$F$50,-Simulador!$F$40)-Tabla1[[#This Row],[Seguro Desgravamen]]),\"\")","v":""},{"$f":"IF(B214<Simulador!$F$50,C215*Simulador!$F$46,\"\")","v":""},{"$f":"IF(B214<Simulador!$F$50,Simulador!$F$48*Simulador!$F$12/12,\"\")","v":""},{"$f":"IF(B214<Simulador!$F$50,C215-D215,\"\")","v":""},{"$f":"IF(B214<Simulador!$F$50,PMT(Simulador!$F$44+Simulador!$F$46,Simulador!$F$50,-Simulador!$F$40)+G215,\"\")","v":""}]
[null,{"$f":"IF(B215<Simulador!$F$50,B215+1,\"\")","v":""},{"$f":"IF(B215<Simulador!$F$50,H215,\"\")","v":""},{"$f":"IF(Tabla1[[#This Row],[Periodo]]=\"\",\"\",IF(B216<=Simulador!$F$50,PPMT(Simulador!$F$44+Simulador!$F$46,Cronograma!B216,Simulador!$F$50,-Simulador!$F$40),\"\"))","v":""},{"$f":"IF(B215<Simulador!$F$50,(IPMT(Simulador!$F$44+Simulador!$F$46,Tabla1[[#This Row],[Periodo]],Simulador!$F$50,-Simulador!$F$40)-Tabla1[[#This Row],[Seguro Desgravamen]]),\"\")","v":""},{"$f":"IF(B215<Simulador!$F$50,C216*Simulador!$F$46,\"\")","v":""},{"$f":"IF(B215<Simulador!$F$50,Simulador!$F$48*Simulador!$F$12/12,\"\")","v":""},{"$f":"IF(B215<Simulador!$F$50,C216-D216,\"\")","v":""},{"$f":"IF(B215<Simulador!$F$50,PMT(Simulador!$F$44+Simulador!$F$46,Simulador!$F$50,-Simulador!$F$40)+G216,\"\")","v":""}]
[null,{"$f":"IF(B216<Simulador!$F$50,B216+1,\"\")","v":""},{"$f":"IF(B216<Simulador!$F$50,H216,\"\")","v":""},{"$f":"IF(Tabla1[[#This Row],[Periodo]]=\"\",\"\",IF(B217<=Simulador!$F$50,PPMT(Simulador!$F$44+Simulador!$F$46,Cronograma!B217,Simulador!$F$50,-Simulador!$F$40),\"\"))","v":""},{"$f":"IF(B216<Simulador!$F$50,(IPMT(Simulador!$F$44+Simulador!$F$46,Tabla1[[#This Row],[Periodo]],Simulador!$F$50,-Simulador!$F$40)-Tabla1[[#This Row],[Seguro Desgravamen]]),\"\")","v":""},{"$f":"IF(B216<Simulador!$F$50,C217*Simulador!$F$46,\"\")","v":""},{"$f":"IF(B216<Simulador!$F$50,Simulador!$F$48*Simulador!$F$12/12,\"\")","v":""},{"$f":"IF(B216<Simulador!$F$50,C217-D217,\"\")","v":""},{"$f":"IF(B216<Simulador!$F$50,PMT(Simulador!$F$44+Simulador!$F$46,Simulador!$F$50,-Simulador!$F$40)+G217,\"\")","v":""}]
[null,{"$f":"IF(B217<Simulador!$F$50,B217+1,\"\")","v":""},{"$f":"IF(B217<Simulador!$F$50,H217,\"\")","v":""},{"$f":"IF(Tabla1[[#This Row],[Periodo]]=\"\",\"\",IF(B218<=Simulador!$F$50,PPMT(Simulador!$F$44+Simulador!$F$46,Cronograma!B218,Simulador!$F$50,-Simulador!$F$40),\"\"))","v":""},{"$f":"IF(B217<Simulador!$F$50,(IPMT(Simulador!$F$44+Simulador!$F$46,Tabla1[[#This Row],[Periodo]],Simulador!$F$50,-Simulador!$F$40)-Tabla1[[#This Row],[Seguro Desgravamen]]),\"\")","v":""},{"$f":"IF(B217<Simulador!$F$50,C218*Simulador!$F$46,\"\")","v":""},{"$f":"IF(B217<Simulador!$F$50,Simulador!$F$48*Simulador!$F$12/12,\"\")","v":""},{"$f":"IF(B217<Simulador!$F$50,C218-D218,\"\")","v":""},{"$f":"IF(B217<Simulador!$F$50,PMT(Simulador!$F$44+Simulador!$F$46,Simulador!$F$50,-Simulador!$F$40)+G218,\"\")","v":""}]
[null,{"$f":"IF(B218<Simulador!$F$50,B218+1,\"\")","v":""},{"$f":"IF(B218<Simulador!$F$50,H218,\"\")","v":""},{"$f":"IF(Tabla1[[#This Row],[Periodo]]=\"\",\"\",IF(B219<=Simulador!$F$50,PPMT(Simulador!$F$44+Simulador!$F$46,Cronograma!B219,Simulador!$F$50,-Simulador!$F$40),\"\"))","v":""},{"$f":"IF(B218<Simulador!$F$50,(IPMT(Simulador!$F$44+Simulador!$F$46,Tabla1[[#This Row],[Periodo]],Simulador!$F$50,-Simulador!$F$40)-Tabla1[[#This Row],[Seguro Desgravamen]]),\"\")","v":""},{"$f":"IF(B218<Simulador!$F$50,C219*Simulador!$F$46,\"\")","v":""},{"$f":"IF(B218<Simulador!$F$50,Simulador!$F$48*Simulador!$F$12/12,\"\")","v":""},{"$f":"IF(B218<Simulador!$F$50,C219-D219,\"\")","v":""},{"$f":"IF(B218<Simulador!$F$50,PMT(Simulador!$F$44+Simulador!$F$46,Simulador!$F$50,-Simulador!$F$40)+G219,\"\")","v":""}]
[null,{"$f":"IF(B219<Simulador!$F$50,B219+1,\"\")","v":""},{"$f":"IF(B219<Simulador!$F$50,H219,\"\")","v":""},{"$f":"IF(Tabla1[[#This Row],[Periodo]]=\"\",\"\",IF(B220<=Simulador!$F$50,PPMT(Simulador!$F$44+Simulador!$F$46,Cronograma!B220,Simulador!$F$50,-Simulador!$F$40),\"\"))","v":""},{"$f":"IF(B219<Simulador!$F$50,(IPMT(Simulador!$F$44+Simulador!$F$46,Tabla1[[#This Row],[Periodo]],Simulador!$F$50,-Simulador!$F$40)-Tabla1[[#This Row],[Seguro Desgravamen]]),\"\")","v":""},{"$f":"IF(B219<Simulador!$F$50,C220*Simulador!$F$46,\"\")","v":""},{"$f":"IF(B219<Simulador!$F$50,Simulador!$F$48*Simulador!$F$12/12,\"\")","v":""},{"$f":"IF(B219<Simulador!$F$50,C220-D220,\"\")","v":""},{"$f":"IF(B219<Simulador!$F$50,PMT(Simulador!$F$44+Simulador!$F$46,Simulador!$F$50,-Simulador!$F$40)+G220,\"\")","v":""}]
[null,{"$f":"IF(B220<Simulador!$F$50,B220+1,\"\")","v":""},{"$f":"IF(B220<Simulador!$F$50,H220,\"\")","v":""},{"$f":"IF(Tabla1[[#This Row],[Periodo]]=\"\",\"\",IF(B221<=Simulador!$F$50,PPMT(Simulador!$F$44+Simulador!$F$46,Cronograma!B221,Simulador!$F$50,-Simulador!$F$40),\"\"))","v":""},{"$f":"IF(B220<Simulador!$F$50,(IPMT(Simulador!$F$44+Simulador!$F$46,Tabla1[[#This Row],[Periodo]],Simulador!$F$50,-Simulador!$F$40)-Tabla1[[#This Row],[Seguro Desgravamen]]),\"\")","v":""},{"$f":"IF(B220<Simulador!$F$50,C221*Simulador!$F$46,\"\")","v":""},{"$f":"IF(B220<Simulador!$F$50,Simulador!$F$48*Simulador!$F$12/12,\"\")","v":""},{"$f":"IF(B220<Simulador!$F$50,C221-D221,\"\")","v":""},{"$f":"IF(B220<Simulador!$F$50,PMT(Simulador!$F$44+Simulador!$F$46,Simulador!$F$50,-Simulador!$F$40)+G221,\"\")","v":""}]
[null,{"$f":"IF(B221<Simulador!$F$50,B221+1,\"\")","v":""},{"$f":"IF(B221<Simulador!$F$50,H221,\"\")","v":""},{"$f":"IF(Tabla1[[#This Row],[Periodo]]=\"\",\"\",IF(B222<=Simulador!$F$50,PPMT(Simulador!$F$44+Simulador!$F$46,Cronograma!B222,Simulador!$F$50,-Simulador!$F$40),\"\"))","v":""},{"$f":"IF(B221<Simulador!$F$50,(IPMT(Simulador!$F$44+Simulador!$F$46,Tabla1[[#This Row],[Periodo]],Simulador!$F$50,-Simulador!$F$40)-Tabla1[[#This Row],[Seguro Desgravamen]]),\"\")","v":""},{"$f":"IF(B221<Simulador!$F$50,C222*Simulador!$F$46,\"\")","v":""},{"$f":"IF(B221<Simulador!$F$50,Simulador!$F$48*Simulador!$F$12/12,\"\")","v":""},{"$f":"IF(B221<Simulador!$F$50,C222-D222,\"\")","v":""},{"$f":"IF(B221<Simulador!$F$50,PMT(Simulador!$F$44+Simulador!$F$46,Simulador!$F$50,-Simulador!$F$40)+G222,\"\")","v":""}]
[null,{"$f":"IF(B222<Simulador!$F$50,B222+1,\"\")","v":""},{"$f":"IF(B222<Simulador!$F$50,H222,\"\")","v":""},{"$f":"IF(Tabla1[[#This Row],[Periodo]]=\"\",\"\",IF(B223<=Simulador!$F$50,PPMT(Simulador!$F$44+Simulador!$F$46,Cronograma!B223,Simulador!$F$50,-Simulador!$F$40),\"\"))","v":""},{"$f":"IF(B222<Simulador!$F$50,(IPMT(Simulador!$F$44+Simulador!$F$46,Tabla1[[#This Row],[Periodo]],Simulador!$F$50,-Simulador!$F$40)-Tabla1[[#This Row],[Seguro Desgravamen]]),\"\")","v":""},{"$f":"IF(B222<Simulador!$F$50,C223*Simulador!$F$46,\"\")","v":""},{"$f":"IF(B222<Simulador!$F$50,Simulador!$F$48*Simulador!$F$12/12,\"\")","v":""},{"$f":"IF(B222<Simulador!$F$50,C223-D223,\"\")","v":""},{"$f":"IF(B222<Simulador!$F$50,PMT(Simulador!$F$44+Simulador!$F$46,Simulador!$F$50,-Simulador!$F$40)+G223,\"\")","v":""}]
[null,{"$f":"IF(B223<Simulador!$F$50,B223+1,\"\")","v":""},{"$f":"IF(B223<Simulador!$F$50,H223,\"\")","v":""},{"$f":"IF(Tabla1[[#This Row],[Periodo]]=\"\",\"\",IF(B224<=Simulador!$F$50,PPMT(Simulador!$F$44+Simulador!$F$46,Cronograma!B224,Simulador!$F$50,-Simulador!$F$40),\"\"))","v":""},{"$f":"IF(B223<Simulador!$F$50,(IPMT(Simulador!$F$44+Simulador!$F$46,Tabla1[[#This Row],[Periodo]],Simulador!$F$50,-Simulador!$F$40)-Tabla1[[#This Row],[Seguro Desgravamen]]),\"\")","v":""},{"$f":"IF(B223<Simulador!$F$50,C224*Simulador!$F$46,\"\")","v":""},{"$f":"IF(B223<Simulador!$F$50,Simulador!$F$48*Simulador!$F$12/12,\"\")","v":""},{"$f":"IF(B223<Simulador!$F$50,C224-D224,\"\")","v":""},{"$f":"IF(B223<Simulador!$F$50,PMT(Simulador!$F$44+Simulador!$F$46,Simulador!$F$50,-Simulador!$F$40)+G224,\"\")","v":""}]
[null,{"$f":"IF(B224<Simulador!$F$50,B224+1,\"\")","v":""},{"$f":"IF(B224<Simulador!$F$50,H224,\"\")","v":""},{"$f":"IF(Tabla1[[#This Row],[Periodo]]=\"\",\"\",IF(B225<=Simulador!$F$50,PPMT(Simulador!$F$44+Simulador!$F$46,Cronograma!B225,Simulador!$F$50,-Simulador!$F$40),\"\"))","v":""},{"$f":"IF(B224<Simulador!$F$50,(IPMT(Simulador!$F$44+Simulador!$F$46,Tabla1[[#This Row],[Periodo]],Simulador!$F$50,-Simulador!$F$40)-Tabla1[[#This Row],[Seguro Desgravamen]]),\"\")","v":""},{"$f":"IF(B224<Simulador!$F$50,C225*Simulador!$F$46,\"\")","v":""},{"$f":"IF(B224<Simulador!$F$50,Simulador!$F$48*Simulador!$F$12/12,\"\")","v":""},{"$f":"IF(B224<Simulador!$F$50,C225-D225,\"\")","v":""},{"$f":"IF(B224<Simulador!$F$50,PMT(Simulador!$F$44+Simulador!$F$46,Simulador!$F$50,-Simulador!$F$40)+G225,\"\")","v":""}]
[null,{"$f":"IF(B225<Simulador!$F$50,B225+1,\"\")","v":""},{"$f":"IF(B225<Simulador!$F$50,H225,\"\")","v":""},{"$f":"IF(Tabla1[[#This Row],[Periodo]]=\"\",\"\",IF(B226<=Simulador!$F$50,PPMT(Simulador!$F$44+Simulador!$F$46,Cronograma!B226,Simulador!$F$50,-Simulador!$F$40),\"\"))","v":""},{"$f":"IF(B225<Simulador!$F$50,(IPMT(Simulador!$F$44+Simulador!$F$46,Tabla1[[#This Row],[Periodo]],Simulador!$F$50,-Simulador!$F$40)-Tabla1[[#This Row],[Seguro Desgravamen]]),\"\")","v":""},{"$f":"IF(B225<Simulador!$F$50,C226*Simulador!$F$46,\"\")","v":""},{"$f":"IF(B225<Simulador!$F$50,Simulador!$F$48*Simulador!$F$12/12,\"\")","v":""},{"$f":"IF(B225<Simulador!$F$50,C226-D226,\"\")","v":""},{"$f":"IF(B225<Simulador!$F$50,PMT(Simulador!$F$44+Simulador!$F$46,Simulador!$F$50,-Simulador!$F$40)+G226,\"\")","v":""}]
[null,{"$f":"IF(B226<Simulador!$F$50,B226+1,\"\")","v":""},{"$f":"IF(B226<Simulador!$F$50,H226,\"\")","v":""},{"$f":"IF(Tabla1[[#This Row],[Periodo]]=\"\",\"\",IF(B227<=Simulador!$F$50,PPMT(Simulador!$F$44+Simulador!$F$46,Cronograma!B227,Simulador!$F$50,-Simulador!$F$40),\"\"))","v":""},{"$f":"IF(B226<Simulador!$F$50,(IPMT(Simulador!$F$44+Simulador!$F$46,Tabla1[[#This Row],[Periodo]],Simulador!$F$50,-Simulador!$F$40)-Tabla1[[#This Row],[Seguro Desgravamen]]),\"\")","v":""},{"$f":"IF(B226<Simulador!$F$50,C227*Simulador!$F$46,\"\")","v":""},{"$f":"IF(B226<Simulador!$F$50,Simulador!$F$48*Simulador!$F$12/12,\"\")","v":""},{"$f":"IF(B226<Simulador!$F$50,C227-D227,\"\")","v":""},{"$f":"IF(B226<Simulador!$F$50,PMT(Simulador!$F$44+Simulador!$F$46,Simulador!$F$50,-Simulador!$F$40)+G227,\"\")","v":""}]
[null,{"$f":"IF(B227<Simulador!$F$50,B227+1,\"\")","v":""},{"$f":"IF(B227<Simulador!$F$50,H227,\"\")","v":""},{"$f":"IF(Tabla1[[#This Row],[Periodo]]=\"\",\"\",IF(B228<=Simulador!$F$50,PPMT(Simulador!$F$44+Simulador!$F$46,Cronograma!B228,Simulador!$F$50,-Simulador!$F$40),\"\"))","v":""},{"$f":"IF(B227<Simulador!$F$50,(IPMT(Simulador!$F$44+Simulador!$F$46,Tabla1[[#This Row],[Periodo]],Simulador!$F$50,-Simulador!$F$40)-Tabla1[[#This Row],[Seguro Desgravamen]]),\"\")","v":""},{"$f":"IF(B227<Simulador!$F$50,C228*Simulador!$F$46,\"\")","v":""},{"$f":"IF(B227<Simulador!$F$50,Simulador!$F$48*Simulador!$F$12/12,\"\")","v":""},{"$f":"IF(B227<Simulador!$F$50,C228-D228,\"\")","v":""},{"$f":"IF(B227<Simulador!$F$50,PMT(Simulador!$F$44+Simulador!$F$46,Simulador!$F$50,-Simulador!$F$40)+G228,\"\")","v":""}]
[null,{"$f":"IF(B228<Simulador!$F$50,B228+1,\"\")","v":""},{"$f":"IF(B228<Simulador!$F$50,H228,\"\")","v":""},{"$f":"IF(Tabla1[[#This Row],[Periodo]]=\"\",\"\",IF(B229<=Simulador!$F$50,PPMT(Simulador!$F$44+Simulador!$F$46,Cronograma!B229,Simulador!$F$50,-Simulador!$F$40),\"\"))","v":""},{"$f":"IF(B228<Simulador!$F$50,(IPMT(Simulador!$F$44+Simulador!$F$46,Tabla1[[#This Row],[Periodo]],Simulador!$F$50,-Simulador!$F$40)-Tabla1[[#This Row],[Seguro Desgravamen]]),\"\")","v":""},{"$f":"IF(B228<Simulador!$F$50,C229*Simulador!$F$46,\"\")","v":""},{"$f":"IF(B228<Simulador!$F$50,Simulador!$F$48*Simulador!$F$12/12,\"\")","v":""},{"$f":"IF(B228<Simulador!$F$50,C229-D229,\"\")","v":""},{"$f":"IF(B228<Simulador!$F$50,PMT(Simulador!$F$44+Simulador!$F$46,Simulador!$F$50,-Simulador!$F$40)+G229,\"\")","v":""}]
[null,{"$f":"IF(B229<Simulador!$F$50,B229+1,\"\")","v":""},{"$f":"IF(B229<Simulador!$F$50,H229,\"\")","v":""},{"$f":"IF(Tabla1[[#This Row],[Periodo]]=\"\",\"\",IF(B230<=Simulador!$F$50,PPMT(Simulador!$F$44+Simulador!$F$46,Cronograma!B230,Simulador!$F$50,-Simulador!$F$40),\"\"))","v":""},{"$f":"IF(B229<Simulador!$F$50,(IPMT(Simulador!$F$44+Simulador!$F$46,Tabla1[[#This Row],[Periodo]],Simulador!$F$50,-Simulador!$F$40)-Tabla1[[#This Row],[Seguro Desgravamen]]),\"\")","v":""},{"$f":"IF(B229<Simulador!$F$50,C230*Simulador!$F$46,\"\")","v":""},{"$f":"IF(B229<Simulador!$F$50,Simulador!$F$48*Simulador!$F$12/12,\"\")","v":""},{"$f":"IF(B229<Simulador!$F$50,C230-D230,\"\")","v":""},{"$f":"IF(B229<Simulador!$F$50,PMT(Simulador!$F$44+Simulador!$F$46,Simulador!$F$50,-Simulador!$F$40)+G230,\"\")","v":""}]
[null,{"$f":"IF(B230<Simulador!$F$50,B230+1,\"\")","v":""},{"$f":"IF(B230<Simulador!$F$50,H230,\"\")","v":""},{"$f":"IF(Tabla1[[#This Row],[Periodo]]=\"\",\"\",IF(B231<=Simulador!$F$50,PPMT(Simulador!$F$44+Simulador!$F$46,Cronograma!B231,Simulador!$F$50,-Simulador!$F$40),\"\"))","v":""},{"$f":"IF(B230<Simulador!$F$50,(IPMT(Simulador!$F$44+Simulador!$F$46,Tabla1[[#This Row],[Periodo]],Simulador!$F$50,-Simulador!$F$40)-Tabla1[[#This Row],[Seguro Desgravamen]]),\"\")","v":""},{"$f":"IF(B230<Simulador!$F$50,C231*Simulador!$F$46,\"\")","v":""},{"$f":"IF(B230<Simulador!$F$50,Simulador!$F$48*Simulador!$F$12/12,\"\")","v":""},{"$f":"IF(B230<Simulador!$F$50,C231-D231,\"\")","v":""},{"$f":"IF(B230<Simulador!$F$50,PMT(Simulador!$F$44+Simulador!$F$46,Simulador!$F$50,-Simulador!$F$40)+G231,\"\")","v":""}]
[null,{"$f":"IF(B231<Simulador!$F$50,B231+1,\"\")","v":""},{"$f":"IF(B231<Simulador!$F$50,H231,\"\")","v":""},{"$f":"IF(Tabla1[[#This Row],[Periodo]]=\"\",\"\",IF(B232<=Simulador!$F$50,PPMT(Simulador!$F$44+Simulador!$F$46,Cronograma!B232,Simulador!$F$50,-Simulador!$F$40),\"\"))","v":""},{"$f":"IF(B231<Simulador!$F$50,(IPMT(Simulador!$F$44+Simulador!$F$46,Tabla1[[#This Row],[Periodo]],Simulador!$F$50,-Simulador!$F$40)-Tabla1[[#This Row],[Seguro Desgravamen]]),\"\")","v":""},{"$f":"IF(B231<Simulador!$F$50,C232*Simulador!$F$46,\"\")","v":""},{"$f":"IF(B231<Simulador!$F$50,Simulador!$F$48*Simulador!$F$12/12,\"\")","v":""},{"$f":"IF(B231<Simulador!$F$50,C232-D232,\"\")","v":""},{"$f":"IF(B231<Simulador!$F$50,PMT(Simulador!$F$44+Simulador!$F$46,Simulador!$F$50,-Simulador!$F$40)+G232,\"\")","v":""}]
[null,{"$f":"IF(B232<Simulador!$F$50,B232+1,\"\")","v":""},{"$f":"IF(B232<Simulador!$F$50,H232,\"\")","v":""},{"$f":"IF(Tabla1[[#This Row],[Periodo]]=\"\",\"\",IF(B233<=Simulador!$F$50,PPMT(Simulador!$F$44+Simulador!$F$46,Cronograma!B233,Simulador!$F$50,-Simulador!$F$40),\"\"))","v":""},{"$f":"IF(B232<Simulador!$F$50,(IPMT(Simulador!$F$44+Simulador!$F$46,Tabla1[[#This Row],[Periodo]],Simulador!$F$50,-Simulador!$F$40)-Tabla1[[#This Row],[Seguro Desgravamen]]),\"\")","v":""},{"$f":"IF(B232<Simulador!$F$50,C233*Simulador!$F$46,\"\")","v":""},{"$f":"IF(B232<Simulador!$F$50,Simulador!$F$48*Simulador!$F$12/12,\"\")","v":""},{"$f":"IF(B232<Simulador!$F$50,C233-D233,\"\")","v":""},{"$f":"IF(B232<Simulador!$F$50,PMT(Simulador!$F$44+Simulador!$F$46,Simulador!$F$50,-Simulador!$F$40)+G233,\"\")","v":""}]
[null,{"$f":"IF(B233<Simulador!$F$50,B233+1,\"\")","v":""},{"$f":"IF(B233<Simulador!$F$50,H233,\"\")","v":""},{"$f":"IF(Tabla1[[#This Row],[Periodo]]=\"\",\"\",IF(B234<=Simulador!$F$50,PPMT(Simulador!$F$44+Simulador!$F$46,Cronograma!B234,Simulador!$F$50,-Simulador!$F$40),\"\"))","v":""},{"$f":"IF(B233<Simulador!$F$50,(IPMT(Simulador!$F$44+Simulador!$F$46,Tabla1[[#This Row],[Periodo]],Simulador!$F$50,-Simulador!$F$40)-Tabla1[[#This Row],[Seguro Desgravamen]]),\"\")","v":""},{"$f":"IF(B233<Simulador!$F$50,C234*Simulador!$F$46,\"\")","v":""},{"$f":"IF(B233<Simulador!$F$50,Simulador!$F$48*Simulador!$F$12/12,\"\")","v":""},{"$f":"IF(B233<Simulador!$F$50,C234-D234,\"\")","v":""},{"$f":"IF(B233<Simulador!$F$50,PMT(Simulador!$F$44+Simulador!$F$46,Simulador!$F$50,-Simulador!$F$40)+G234,\"\")","v":""}]
[null,{"$f":"IF(B234<Simulador!$F$50,B234+1,\"\")","v":""},{"$f":"IF(B234<Simulador!$F$50,H234,\"\")","v":""},{"$f":"IF(Tabla1[[#This Row],[Periodo]]=\"\",\"\",IF(B235<=Simulador!$F$50,PPMT(Simulador!$F$44+Simulador!$F$46,Cronograma!B235,Simulador!$F$50,-Simulador!$F$40),\"\"))","v":""},{"$f":"IF(B234<Simulador!$F$50,(IPMT(Simulador!$F$44+Simulador!$F$46,Tabla1[[#This Row],[Periodo]],Simulador!$F$50,-Simulador!$F$40)-Tabla1[[#This Row],[Seguro Desgravamen]]),\"\")","v":""},{"$f":"IF(B234<Simulador!$F$50,C235*Simulador!$F$46,\"\")","v":""},{"$f":"IF(B234<Simulador!$F$50,Simulador!$F$48*Simulador!$F$12/12,\"\")","v":""},{"$f":"IF(B234<Simulador!$F$50,C235-D235,\"\")","v":""},{"$f":"IF(B234<Simulador!$F$50,PMT(Simulador!$F$44+Simulador!$F$46,Simulador!$F$50,-Simulador!$F$40)+G235,\"\")","v":""}]
[null,{"$f":"IF(B235<Simulador!$F$50,B235+1,\"\")","v":""},{"$f":"IF(B235<Simulador!$F$50,H235,\"\")","v":""},{"$f":"IF(Tabla1[[#This Row],[Periodo]]=\"\",\"\",IF(B236<=Simulador!$F$50,PPMT(Simulador!$F$44+Simulador!$F$46,Cronograma!B236,Simulador!$F$50,-Simulador!$F$40),\"\"))","v":""},{"$f":"IF(B235<Simulador!$F$50,(IPMT(Simulador!$F$44+Simulador!$F$46,Tabla1[[#This Row],[Periodo]],Simulador!$F$50,-Simulador!$F$40)-Tabla1[[#This Row],[Seguro Desgravamen]]),\"\")","v":""},{"$f":"IF(B235<Simulador!$F$50,C236*Simulador!$F$46,\"\")","v":""},{"$f":"IF(B235<Simulador!$F$50,Simulador!$F$48*Simulador!$F$12/12,\"\")","v":""},{"$f":"IF(B235<Simulador!$F$50,C236-D236,\"\")","v":""},{"$f":"IF(B235<Simulador!$F$50,PMT(Simulador!$F$44+Simulador!$F$46,Simulador!$F$50,-Simulador!$F$40)+G236,\"\")","v":""}]
[null,{"$f":"IF(B236<Simulador!$F$50,B236+1,\"\")","v":""},{"$f":"IF(B236<Simulador!$F$50,H236,\"\")","v":""},{"$f":"IF(Tabla1[[#This Row],[Periodo]]=\"\",\"\",IF(B237<=Simulador!$F$50,PPMT(Simulador!$F$44+Simulador!$F$46,Cronograma!B237,Simulador!$F$50,-Simulador!$F$40),\"\"))","v":""},{"$f":"IF(B236<Simulador!$F$50,(IPMT(Simulador!$F$44+Simulador!$F$46,Tabla1[[#This Row],[Periodo]],Simulador!$F$50,-Simulador!$F$40)-Tabla1[[#This Row],[Seguro Desgravamen]]),\"\")","v":""},{"$f":"IF(B236<Simulador!$F$50,C237*Simulador!$F$46,\"\")","v":""},{"$f":"IF(B236<Simulador!$F$50,Simulador!$F$48*Simulador!$F$12/12,\"\")","v":""},{"$f":"IF(B236<Simulador!$F$50,C237-D237,\"\")","v":""},{"$f":"IF(B236<Simulador!$F$50,PMT(Simulador!$F$44+Simulador!$F$46,Simulador!$F$50,-Simulador!$F$40)+G237,\"\")","v":""}]
[null,{"$f":"IF(B237<Simulador!$F$50,B237+1,\"\")","v":""},{"$f":"IF(B237<Simulador!$F$50,H237,\"\")","v":""},{"$f":"IF(Tabla1[[#This Row],[Periodo]]=\"\",\"\",IF(B238<=Simulador!$F$50,PPMT(Simulador!$F$44+Simulador!$F$46,Cronograma!B238,Simulador!$F$50,-Simulador!$F$40),\"\"))","v":""},{"$f":"IF(B237<Simulador!$F$50,(IPMT(Simulador!$F$44+Simulador!$F$46,Tabla1[[#This Row],[Periodo]],Simulador!$F$50,-Simulador!$F$40)-Tabla1[[#This Row],[Seguro Desgravamen]]),\"\")","v":""},{"$f":"IF(B237<Simulador!$F$50,C238*Simulador!$F$46,\"\")","v":""},{"$f":"IF(B237<Simulador!$F$50,Simulador!$F$48*Simulador!$F$12/12,\"\")","v":""},{"$f":"IF(B237<Simulador!$F$50,C238-D238,\"\")","v":""},{"$f":"IF(B237<Simulador!$F$50,PMT(Simulador!$F$44+Simulador!$F$46,Simulador!$F$50,-Simulador!$F$40)+G238,\"\")","v":""}]
[null,{"$f":"IF(B238<Simulador!$F$50,B238+1,\"\")","v":""},{"$f":"IF(B238<Simulador!$F$50,H238,\"\")","v":""},{"$f":"IF(Tabla1[[#This Row],[Periodo]]=\"\",\"\",IF(B239<=Simulador!$F$50,PPMT(Simulador!$F$44+Simulador!$F$46,Cronograma!B239,Simulador!$F$50,-Simulador!$F$40),\"\"))","v":""},{"$f":"IF(B238<Simulador!$F$50,(IPMT(Simulador!$F$44+Simulador!$F$46,Tabla1[[#This Row],[Periodo]],Simulador!$F$50,-Simulador!$F$40)-Tabla1[[#This Row],[Seguro Desgravamen]]),\"\")","v":""},{"$f":"IF(B238<Simulador!$F$50,C239*Simulador!$F$46,\"\")","v":""},{"$f":"IF(B238<Simulador!$F$50,Simulador!$F$48*Simulador!$F$12/12,\"\")","v":""},{"$f":"IF(B238<Simulador!$F$50,C239-D239,\"\")","v":""},{"$f":"IF(B238<Simulador!$F$50,PMT(Simulador!$F$44+Simulador!$F$46,Simulador!$F$50,-Simulador!$F$40)+G239,\"\")","v":""}]
[null,{"$f":"IF(B239<Simulador!$F$50,B239+1,\"\")","v":""},{"$f":"IF(B239<Simulador!$F$50,H239,\"\")","v":""},{"$f":"IF(Tabla1[[#This Row],[Periodo]]=\"\",\"\",IF(B240<=Simulador!$F$50,PPMT(Simulador!$F$44+Simulador!$F$46,Cronograma!B240,Simulador!$F$50,-Simulador!$F$40),\"\"))","v":""},{"$f":"IF(B239<Simulador!$F$50,(IPMT(Simulador!$F$44+Simulador!$F$46,Tabla1[[#This Row],[Periodo]],Simulador!$F$50,-Simulador!$F$40)-Tabla1[[#This Row],[Seguro Desgravamen]]),\"\")","v":""},{"$f":"IF(B239<Simulador!$F$50,C240*Simulador!$F$46,\"\")","v":""},{"$f":"IF(B239<Simulador!$F$50,Simulador!$F$48*Simulador!$F$12/12,\"\")","v":""},{"$f":"IF(B239<Simulador!$F$50,C240-D240,\"\")","v":""},{"$f":"IF(B239<Simulador!$F$50,PMT(Simulador!$F$44+Simulador!$F$46,Simulador!$F$50,-Simulador!$F$40)+G240,\"\")","v":""}]
[null,{"$f":"IF(B240<Simulador!$F$50,B240+1,\"\")","v":""},{"$f":"IF(B240<Simulador!$F$50,H240,\"\")","v":""},{"$f":"IF(Tabla1[[#This Row],[Periodo]]=\"\",\"\",IF(B241<=Simulador!$F$50,PPMT(Simulador!$F$44+Simulador!$F$46,Cronograma!B241,Simulador!$F$50,-Simulador!$F$40),\"\"))","v":""},{"$f":"IF(B240<Simulador!$F$50,(IPMT(Simulador!$F$44+Simulador!$F$46,Tabla1[[#This Row],[Periodo]],Simulador!$F$50,-Simulador!$F$40)-Tabla1[[#This Row],[Seguro Desgravamen]]),\"\")","v":""},{"$f":"IF(B240<Simulador!$F$50,C241*Simulador!$F$46,\"\")","v":""},{"$f":"IF(B240<Simulador!$F$50,Simulador!$F$48*Simulador!$F$12/12,\"\")","v":""},{"$f":"IF(B240<Simulador!$F$50,C241-D241,\"\")","v":""},{"$f":"IF(B240<Simulador!$F$50,PMT(Simulador!$F$44+Simulador!$F$46,Simulador!$F$50,-Simulador!$F$40)+G241,\"\")","v":""}]
[null,{"$f":"IF(B241<Simulador!$F$50,B241+1,\"\")","v":""},{"$f":"IF(B241<Simulador!$F$50,H241,\"\")","v":""},{"$f":"IF(Tabla1[[#This Row],[Periodo]]=\"\",\"\",IF(B242<=Simulador!$F$50,PPMT(Simulador!$F$44+Simulador!$F$46,Cronograma!B242,Simulador!$F$50,-Simulador!$F$40),\"\"))","v":""},{"$f":"IF(B241<Simulador!$F$50,(IPMT(Simulador!$F$44+Simulador!$F$46,Tabla1[[#This Row],[Periodo]],Simulador!$F$50,-Simulador!$F$40)-Tabla1[[#This Row],[Seguro Desgravamen]]),\"\")","v":""},{"$f":"IF(B241<Simulador!$F$50,C242*Simulador!$F$46,\"\")","v":""},{"$f":"IF(B241<Simulador!$F$50,Simulador!$F$48*Simulador!$F$12/12,\"\")","v":""},{"$f":"IF(B241<Simulador!$F$50,C242-D242,\"\")","v":""},{"$f":"IF(B241<Simulador!$F$50,PMT(Simulador!$F$44+Simulador!$F$46,Simulador!$F$50,-Simulador!$F$40)+G242,\"\")","v":""}]
[null,{"$f":"IF(B242<Simulador!$F$50,B242+1,\"\")","v":""},{"$f":"IF(B242<Simulador!$F$50,H242,\"\")","v":""},{"$f":"IF(Tabla1[[#This Row],[Periodo]]=\"\",\"\",IF(B243<=Simulador!$F$50,PPMT(Simulador!$F$44+Simulador!$F$46,Cronograma!B243,Simulador!$F$50,-Simulador!$F$40),\"\"))","v":""},{"$f":"IF(B242<Simulador!$F$50,(IPMT(Simulador!$F$44+Simulador!$F$46,Tabla1[[#This Row],[Periodo]],Simulador!$F$50,-Simulador!$F$40)-Tabla1[[#This Row],[Seguro Desgravamen]]),\"\")","v":""},{"$f":"IF(B242<Simulador!$F$50,C243*Simulador!$F$46,\"\")","v":""},{"$f":"IF(B242<Simulador!$F$50,Simulador!$F$48*Simulador!$F$12/12,\"\")","v":""},{"$f":"IF(B242<Simulador!$F$50,C243-D243,\"\")","v":""},{"$f":"IF(B242<Simulador!$F$50,PMT(Simulador!$F$44+Simulador!$F$46,Simulador!$F$50,-Simulador!$F$40)+G243,\"\")","v":""}]
[null,{"$f":"IF(B243<Simulador!$F$50,B243+1,\"\")","v":""},{"$f":"IF(B243<Simulador!$F$50,H243,\"\")","v":""},{"$f":"IF(Tabla1[[#This Row],[Periodo]]=\"\",\"\",IF(B244<=Simulador!$F$50,PPMT(Simulador!$F$44+Simulador!$F$46,Cronograma!B244,Simulador!$F$50,-Simulador!$F$40),\"\"))","v":""},{"$f":"IF(B243<Simulador!$F$50,(IPMT(Simulador!$F$44+Simulador!$F$46,Tabla1[[#This Row],[Periodo]],Simulador!$F$50,-Simulador!$F$40)-Tabla1[[#This Row],[Seguro Desgravamen]]),\"\")","v":""},{"$f":"IF(B243<Simulador!$F$50,C244*Simulador!$F$46,\"\")","v":""},{"$f":"IF(B243<Simulador!$F$50,Simulador!$F$48*Simulador!$F$12/12,\"\")","v":""},{"$f":"IF(B243<Simulador!$F$50,C244-D244,\"\")","v":""},{"$f":"IF(B243<Simulador!$F$50,PMT(Simulador!$F$44+Simulador!$F$46,Simulador!$F$50,-Simulador!$F$40)+G244,\"\")","v":""}]
[null,{"$f":"IF(B244<Simulador!$F$50,B244+1,\"\")","v":""},{"$f":"IF(B244<Simulador!$F$50,H244,\"\")","v":""},{"$f":"IF(Tabla1[[#This Row],[Periodo]]=\"\",\"\",IF(B245<=Simulador!$F$50,PPMT(Simulador!$F$44+Simulador!$F$46,Cronograma!B245,Simulador!$F$50,-Simulador!$F$40),\"\"))","v":""},{"$f":"IF(B244<Simulador!$F$50,(IPMT(Simulador!$F$44+Simulador!$F$46,Tabla1[[#This Row],[Periodo]],Simulador!$F$50,-Simulador!$F$40)-Tabla1[[#This Row],[Seguro Desgravamen]]),\"\")","v":""},{"$f":"IF(B244<Simulador!$F$50,C245*Simulador!$F$46,\"\")","v":""},{"$f":"IF(B244<Simulador!$F$50,Simulador!$F$48*Simulador!$F$12/12,\"\")","v":""},{"$f":"IF(B244<Simulador!$F$50,C245-D245,\"\")","v":""},{"$f":"IF(B244<Simulador!$F$50,PMT(Simulador!$F$44+Simulador!$F$46,Simulador!$F$50,-Simulador!$F$40)+G245,\"\")","v":""}]
[null,{"$f":"IF(B245<Simulador!$F$50,B245+1,\"\")","v":""},{"$f":"IF(B245<Simulador!$F$50,H245,\"\")","v":""},{"$f":"IF(Tabla1[[#This Row],[Periodo]]=\"\",\"\",IF(B246<=Simulador!$F$50,PPMT(Simulador!$F$44+Simulador!$F$46,Cronograma!B246,Simulador!$F$50,-Simulador!$F$40),\"\"))","v":""},{"$f":"IF(B245<Simulador!$F$50,(IPMT(Simulador!$F$44+Simulador!$F$46,Tabla1[[#This Row],[Periodo]],Simulador!$F$50,-Simulador!$F$40)-Tabla1[[#This Row],[Seguro Desgravamen]]),\"\")","v":""},{"$f":"IF(B245<Simulador!$F$50,C246*Simulador!$F$46,\"\")","v":""},{"$f":"IF(B245<Simulador!$F$50,Simulador!$F$48*Simulador!$F$12/12,\"\")","v":""},{"$f":"IF(B245<Simulador!$F$50,C246-D246,\"\")","v":""},{"$f":"IF(B245<Simulador!$F$50,PMT(Simulador!$F$44+Simulador!$F$46,Simulador!$F$50,-Simulador!$F$40)+G246,\"\")","v":""}]
[null,{"$f":"IF(B246<Simulador!$F$50,B246+1,\"\")","v":""},{"$f":"IF(B246<Simulador!$F$50,H246,\"\")","v":""},{"$f":"IF(Tabla1[[#This Row],[Periodo]]=\"\",\"\",IF(B247<=Simulador!$F$50,PPMT(Simulador!$F$44+Simulador!$F$46,Cronograma!B247,Simulador!$F$50,-Simulador!$F$40),\"\"))","v":""},{"$f":"IF(B246<Simulador!$F$50,(IPMT(Simulador!$F$44+Simulador!$F$46,Tabla1[[#This Row],[Periodo]],Simulador!$F$50,-Simulador!$F$40)-Tabla1[[#This Row],[Seguro Desgravamen]]),\"\")","v":""},{"$f":"IF(B246<Simulador!$F$50,C247*Simulador!$F$46,\"\")","v":""},{"$f":"IF(B246<Simulador!$F$50,Simulador!$F$48*Simulador!$F$12/12,\"\")","v":""},{"$f":"IF(B246<Simulador!$F$50,C247-D247,\"\")","v":""},{"$f":"IF(B246<Simulador!$F$50,PMT(Simulador!$F$44+Simulador!$F$46,Simulador!$F$50,-Simulador!$F$40)+G247,\"\")","v":""}]
[null,{"$f":"IF(B247<Simulador!$F$50,B247+1,\"\")","v":""},{"$f":"IF(B247<Simulador!$F$50,H247,\"\")","v":""},{"$f":"IF(Tabla1[[#This Row],[Periodo]]=\"\",\"\",IF(B248<=Simulador!$F$50,PPMT(Simulador!$F$44+Simulador!$F$46,Cronograma!B248,Simulador!$F$50,-Simulador!$F$40),\"\"))","v":""},{"$f":"IF(B247<Simulador!$F$50,(IPMT(Simulador!$F$44+Simulador!$F$46,Tabla1[[#This Row],[Periodo]],Simulador!$F$50,-Simulador!$F$40)-Tabla1[[#This Row],[Seguro Desgravamen]]),\"\")","v":""},{"$f":"IF(B247<Simulador!$F$50,C248*Simulador!$F$46,\"\")","v":""},{"$f":"IF(B247<Simulador!$F$50,Simulador!$F$48*Simulador!$F$12/12,\"\")","v":""},{"$f":"IF(B247<Simulador!$F$50,C248-D248,\"\")","v":""},{"$f":"IF(B247<Simulador!$F$50,PMT(Simulador!$F$44+Simulador!$F$46,Simulador!$F$50,-Simulador!$F$40)+G248,\"\")","v":""}]
[null,{"$f":"IF(B248<Simulador!$F$50,B248+1,\"\")","v":""},{"$f":"IF(B248<Simulador!$F$50,H248,\"\")","v":""},{"$f":"IF(Tabla1[[#This Row],[Periodo]]=\"\",\"\",IF(B249<=Simulador!$F$50,PPMT(Simulador!$F$44+Simulador!$F$46,Cronograma!B249,Simulador!$F$50,-Simulador!$F$40),\"\"))","v":""},{"$f":"IF(B248<Simulador!$F$50,(IPMT(Simulador!$F$44+Simulador!$F$46,Tabla1[[#This Row],[Periodo]],Simulador!$F$50,-Simulador!$F$40)-Tabla1[[#This Row],[Seguro Desgravamen]]),\"\")","v":""},{"$f":"IF(B248<Simulador!$F$50,C249*Simulador!$F$46,\"\")","v":""},{"$f":"IF(B248<Simulador!$F$50,Simulador!$F$48*Simulador!$F$12/12,\"\")","v":""},{"$f":"IF(B248<Simulador!$F$50,C249-D249,\"\")","v":""},{"$f":"IF(B248<Simulador!$F$50,PMT(Simulador!$F$44+Simulador!$F$46,Simulador!$F$50,-Simulador!$F$40)+G249,\"\")","v":""}]
[null,{"$f":"IF(B249<Simulador!$F$50,B249+1,\"\")","v":""},{"$f":"IF(B249<Simulador!$F$50,H249,\"\")","v":""},{"$f":"IF(Tabla1[[#This Row],[Periodo]]=\"\",\"\",IF(B250<=Simulador!$F$50,PPMT(Simulador!$F$44+Simulador!$F$46,Cronograma!B250,Simulador!$F$50,-Simulador!$F$40),\"\"))","v":""},{"$f":"IF(B249<Simulador!$F$50,(IPMT(Simulador!$F$44+Simulador!$F$46,Tabla1[[#This Row],[Periodo]],Simulador!$F$50,-Simulador!$F$40)-Tabla1[[#This Row],[Seguro Desgravamen]]),\"\")","v":""},{"$f":"IF(B249<Simulador!$F$50,C250*Simulador!$F$46,\"\")","v":""},{"$f":"IF(B249<Simulador!$F$50,Simulador!$F$48*Simulador!$F$12/12,\"\")","v":""},{"$f":"IF(B249<Simulador!$F$50,C250-D250,\"\")","v":""},{"$f":"IF(B249<Simulador!$F$50,PMT(Simulador!$F$44+Simulador!$F$46,Simulador!$F$50,-Simulador!$F$40)+G250,\"\")","v":""}]
[null,{"$f":"IF(B250<Simulador!$F$50,B250+1,\"\")","v":""},{"$f":"IF(B250<Simulador!$F$50,H250,\"\")","v":""},{"$f":"IF(Tabla1[[#This Row],[Periodo]]=\"\",\"\",IF(B251<=Simulador!$F$50,PPMT(Simulador!$F$44+Simulador!$F$46,Cronograma!B251,Simulador!$F$50,-Simulador!$F$40),\"\"))","v":""},{"$f":"IF(B250<Simulador!$F$50,(IPMT(Simulador!$F$44+Simulador!$F$46,Tabla1[[#This Row],[Periodo]],Simulador!$F$50,-Simulador!$F$40)-Tabla1[[#This Row],[Seguro Desgravamen]]),\"\")","v":""},{"$f":"IF(B250<Simulador!$F$50,C251*Simulador!$F$46,\"\")","v":""},{"$f":"IF(B250<Simulador!$F$50,Simulador!$F$48*Simulador!$F$12/12,\"\")","v":""},{"$f":"IF(B250<Simulador!$F$50,C251-D251,\"\")","v":""},{"$f":"IF(B250<Simulador!$F$50,PMT(Simulador!$F$44+Simulador!$F$46,Simulador!$F$50,-Simulador!$F$40)+G251,\"\")","v":""}]
[null,{"$f":"IF(B251<Simulador!$F$50,B251+1,\"\")","v":""},{"$f":"IF(B251<Simulador!$F$50,H251,\"\")","v":""},{"$f":"IF(Tabla1[[#This Row],[Periodo]]=\"\",\"\",IF(B252<=Simulador!$F$50,PPMT(Simulador!$F$44+Simulador!$F$46,Cronograma!B252,Simulador!$F$50,-Simulador!$F$40),\"\"))","v":""},{"$f":"IF(B251<Simulador!$F$50,(IPMT(Simulador!$F$44+Simulador!$F$46,Tabla1[[#This Row],[Periodo]],Simulador!$F$50,-Simulador!$F$40)-Tabla1[[#This Row],[Seguro Desgravamen]]),\"\")","v":""},{"$f":"IF(B251<Simulador!$F$50,C252*Simulador!$F$46,\"\")","v":""},{"$f":"IF(B251<Simulador!$F$50,Simulador!$F$48*Simulador!$F$12/12,\"\")","v":""},{"$f":"IF(B251<Simulador!$F$50,C252-D252,\"\")","v":""},{"$f":"IF(B251<Simulador!$F$50,PMT(Simulador!$F$44+Simulador!$F$46,Simulador!$F$50,-Simulador!$F$40)+G252,\"\")","v":""}]
[null,{"$f":"IF(B252<Simulador!$F$50,B252+1,\"\")","v":""},{"$f":"IF(B252<Simulador!$F$50,H252,\"\")","v":""},{"$f":"IF(Tabla1[[#This Row],[Periodo]]=\"\",\"\",IF(B253<=Simulador!$F$50,PPMT(Simulador!$F$44+Simulador!$F$46,Cronograma!B253,Simulador!$F$50,-Simulador!$F$40),\"\"))","v":""},{"$f":"IF(B252<Simulador!$F$50,(IPMT(Simulador!$F$44+Simulador!$F$46,Tabla1[[#This Row],[Periodo]],Simulador!$F$50,-Simulador!$F$40)-Tabla1[[#This Row],[Seguro Desgravamen]]),\"\")","v":""},{"$f":"IF(B252<Simulador!$F$50,C253*Simulador!$F$46,\"\")","v":""},{"$f":"IF(B252<Simulador!$F$50,Simulador!$F$48*Simulador!$F$12/12,\"\")","v":""},{"$f":"IF(B252<Simulador!$F$50,C253-D253,\"\")","v":""},{"$f":"IF(B252<Simulador!$F$50,PMT(Simulador!$F$44+Simulador!$F$46,Simulador!$F$50,-Simulador!$F$40)+G253,\"\")","v":""}]
[null,{"$f":"IF(B253<Simulador!$F$50,B253+1,\"\")","v":""},{"$f":"IF(B253<Simulador!$F$50,H253,\"\")","v":""},{"$f":"IF(Tabla1[[#This Row],[Periodo]]=\"\",\"\",IF(B254<=Simulador!$F$50,PPMT(Simulador!$F$44+Simulador!$F$46,Cronograma!B254,Simulador!$F$50,-Simulador!$F$40),\"\"))","v":""},{"$f":"IF(B253<Simulador!$F$50,(IPMT(Simulador!$F$44+Simulador!$F$46,Tabla1[[#This Row],[Periodo]],Simulador!$F$50,-Simulador!$F$40)-Tabla1[[#This Row],[Seguro Desgravamen]]),\"\")","v":""},{"$f":"IF(B253<Simulador!$F$50,C254*Simulador!$F$46,\"\")","v":""},{"$f":"IF(B253<Simulador!$F$50,Simulador!$F$48*Simulador!$F$12/12,\"\")","v":""},{"$f":"IF(B253<Simulador!$F$50,C254-D254,\"\")","v":""},{"$f":"IF(B253<Simulador!$F$50,PMT(Simulador!$F$44+Simulador!$F$46,Simulador!$F$50,-Simulador!$F$40)+G254,\"\")","v":""}]
[null,{"$f":"IF(B254<Simulador!$F$50,B254+1,\"\")","v":""},{"$f":"IF(B254<Simulador!$F$50,H254,\"\")","v":""},{"$f":"IF(Tabla1[[#This Row],[Periodo]]=\"\",\"\",IF(B255<=Simulador!$F$50,PPMT(Simulador!$F$44+Simulador!$F$46,Cronograma!B255,Simulador!$F$50,-Simulador!$F$40),\"\"))","v":""},{"$f":"IF(B254<Simulador!$F$50,(IPMT(Simulador!$F$44+Simulador!$F$46,Tabla1[[#This Row],[Periodo]],Simulador!$F$50,-Simulador!$F$40)-Tabla1[[#This Row],[Seguro Desgravamen]]),\"\")","v":""},{"$f":"IF(B254<Simulador!$F$50,C255*Simulador!$F$46,\"\")","v":""},{"$f":"IF(B254<Simulador!$F$50,Simulador!$F$48*Simulador!$F$12/12,\"\")","v":""},{"$f":"IF(B254<Simulador!$F$50,C255-D255,\"\")","v":""},{"$f":"IF(B254<Simulador!$F$50,PMT(Simulador!$F$44+Simulador!$F$46,Simulador!$F$50,-Simulador!$F$40)+G255,\"\")","v":""}]
[null,{"$f":"IF(B255<Simulador!$F$50,B255+1,\"\")","v":""},{"$f":"IF(B255<Simulador!$F$50,H255,\"\")","v":""},{"$f":"IF(Tabla1[[#This Row],[Periodo]]=\"\",\"\",IF(B256<=Simulador!$F$50,PPMT(Simulador!$F$44+Simulador!$F$46,Cronograma!B256,Simulador!$F$50,-Simulador!$F$40),\"\"))","v":""},{"$f":"IF(B255<Simulador!$F$50,(IPMT(Simulador!$F$44+Simulador!$F$46,Tabla1[[#This Row],[Periodo]],Simulador!$F$50,-Simulador!$F$40)-Tabla1[[#This Row],[Seguro Desgravamen]]),\"\")","v":""},{"$f":"IF(B255<Simulador!$F$50,C256*Simulador!$F$46,\"\")","v":""},{"$f":"IF(B255<Simulador!$F$50,Simulador!$F$48*Simulador!$F$12/12,\"\")","v":""},{"$f":"IF(B255<Simulador!$F$50,C256-D256,\"\")","v":""},{"$f":"IF(B255<Simulador!$F$50,PMT(Simulador!$F$44+Simulador!$F$46,Simulador!$F$50,-Simulador!$F$40)+G256,\"\")","v":""}]
[null,{"$f":"IF(B256<Simulador!$F$50,B256+1,\"\")","v":""},{"$f":"IF(B256<Simulador!$F$50,H256,\"\")","v":""},{"$f":"IF(Tabla1[[#This Row],[Periodo]]=\"\",\"\",IF(B257<=Simulador!$F$50,PPMT(Simulador!$F$44+Simulador!$F$46,Cronograma!B257,Simulador!$F$50,-Simulador!$F$40),\"\"))","v":""},{"$f":"IF(B256<Simulador!$F$50,(IPMT(Simulador!$F$44+Simulador!$F$46,Tabla1[[#This Row],[Periodo]],Simulador!$F$50,-Simulador!$F$40)-Tabla1[[#This Row],[Seguro Desgravamen]]),\"\")","v":""},{"$f":"IF(B256<Simulador!$F$50,C257*Simulador!$F$46,\"\")","v":""},{"$f":"IF(B256<Simulador!$F$50,Simulador!$F$48*Simulador!$F$12/12,\"\")","v":""},{"$f":"IF(B256<Simulador!$F$50,C257-D257,\"\")","v":""},{"$f":"IF(B256<Simulador!$F$50,PMT(Simulador!$F$44+Simulador!$F$46,Simulador!$F$50,-Simulador!$F$40)+G257,\"\")","v":""}]
[null,{"$f":"IF(B257<Simulador!$F$50,B257+1,\"\")","v":""},{"$f":"IF(B257<Simulador!$F$50,H257,\"\")","v":""},{"$f":"IF(Tabla1[[#This Row],[Periodo]]=\"\",\"\",IF(B258<=Simulador!$F$50,PPMT(Simulador!$F$44+Simulador!$F$46,Cronograma!B258,Simulador!$F$50,-Simulador!$F$40),\"\"))","v":""},{"$f":"IF(B257<Simulador!$F$50,(IPMT(Simulador!$F$44+Simulador!$F$46,Tabla1[[#This Row],[Periodo]],Simulador!$F$50,-Simulador!$F$40)-Tabla1[[#This Row],[Seguro Desgravamen]]),\"\")","v":""},{"$f":"IF(B257<Simulador!$F$50,C258*Simulador!$F$46,\"\")","v":""},{"$f":"IF(B257<Simulador!$F$50,Simulador!$F$48*Simulador!$F$12/12,\"\")","v":""},{"$f":"IF(B257<Simulador!$F$50,C258-D258,\"\")","v":""},{"$f":"IF(B257<Simulador!$F$50,PMT(Simulador!$F$44+Simulador!$F$46,Simulador!$F$50,-Simulador!$F$40)+G258,\"\")","v":""}]
[null,{"$f":"IF(B258<Simulador!$F$50,B258+1,\"\")","v":""},{"$f":"IF(B258<Simulador!$F$50,H258,\"\")","v":""},{"$f":"IF(Tabla1[[#This Row],[Periodo]]=\"\",\"\",IF(B259<=Simulador!$F$50,PPMT(Simulador!$F$44+Simulador!$F$46,Cronograma!B259,Simulador!$F$50,-Simulador!$F$40),\"\"))","v":""},{"$f":"IF(B258<Simulador!$F$50,(IPMT(Simulador!$F$44+Simulador!$F$46,Tabla1[[#This Row],[Periodo]],Simulador!$F$50,-Simulador!$F$40)-Tabla1[[#This Row],[Seguro Desgravamen]]),\"\")","v":""},{"$f":"IF(B258<Simulador!$F$50,C259*Simulador!$F$46,\"\")","v":""},{"$f":"IF(B258<Simulador!$F$50,Simulador!$F$48*Simulador!$F$12/12,\"\")","v":""},{"$f":"IF(B258<Simulador!$F$50,C259-D259,\"\")","v":""},{"$f":"IF(B258<Simulador!$F$50,PMT(Simulador!$F$44+Simulador!$F$46,Simulador!$F$50,-Simulador!$F$40)+G259,\"\")","v":""}]
[null,{"$f":"IF(B259<Simulador!$F$50,B259+1,\"\")","v":""},{"$f":"IF(B259<Simulador!$F$50,H259,\"\")","v":""},{"$f":"IF(Tabla1[[#This Row],[Periodo]]=\"\",\"\",IF(B260<=Simulador!$F$50,PPMT(Simulador!$F$44+Simulador!$F$46,Cronograma!B260,Simulador!$F$50,-Simulador!$F$40),\"\"))","v":""},{"$f":"IF(B259<Simulador!$F$50,(IPMT(Simulador!$F$44+Simulador!$F$46,Tabla1[[#This Row],[Periodo]],Simulador!$F$50,-Simulador!$F$40)-Tabla1[[#This Row],[Seguro Desgravamen]]),\"\")","v":""},{"$f":"IF(B259<Simulador!$F$50,C260*Simulador!$F$46,\"\")","v":""},{"$f":"IF(B259<Simulador!$F$50,Simulador!$F$48*Simulador!$F$12/12,\"\")","v":""},{"$f":"IF(B259<Simulador!$F$50,C260-D260,\"\")","v":""},{"$f":"IF(B259<Simulador!$F$50,PMT(Simulador!$F$44+Simulador!$F$46,Simulador!$F$50,-Simulador!$F$40)+G260,\"\")","v":""}]
[null,{"$f":"IF(B260<Simulador!$F$50,B260+1,\"\")","v":""},{"$f":"IF(B260<Simulador!$F$50,H260,\"\")","v":""},{"$f":"IF(Tabla1[[#This Row],[Periodo]]=\"\",\"\",IF(B261<=Simulador!$F$50,PPMT(Simulador!$F$44+Simulador!$F$46,Cronograma!B261,Simulador!$F$50,-Simulador!$F$40),\"\"))","v":""},{"$f":"IF(B260<Simulador!$F$50,(IPMT(Simulador!$F$44+Simulador!$F$46,Tabla1[[#This Row],[Periodo]],Simulador!$F$50,-Simulador!$F$40)-Tabla1[[#This Row],[Seguro Desgravamen]]),\"\")","v":""},{"$f":"IF(B260<Simulador!$F$50,C261*Simulador!$F$46,\"\")","v":""},{"$f":"IF(B260<Simulador!$F$50,Simulador!$F$48*Simulador!$F$12/12,\"\")","v":""},{"$f":"IF(B260<Simulador!$F$50,C261-D261,\"\")","v":""},{"$f":"IF(B260<Simulador!$F$50,PMT(Simulador!$F$44+Simulador!$F$46,Simulador!$F$50,-Simulador!$F$40)+G261,\"\")","v":""}]
[null,{"$f":"IF(B261<Simulador!$F$50,B261+1,\"\")","v":""},{"$f":"IF(B261<Simulador!$F$50,H261,\"\")","v":""},{"$f":"IF(Tabla1[[#This Row],[Periodo]]=\"\",\"\",IF(B262<=Simulador!$F$50,PPMT(Simulador!$F$44+Simulador!$F$46,Cronograma!B262,Simulador!$F$50,-Simulador!$F$40),\"\"))","v":""},{"$f":"IF(B261<Simulador!$F$50,(IPMT(Simulador!$F$44+Simulador!$F$46,Tabla1[[#This Row],[Periodo]],Simulador!$F$50,-Simulador!$F$40)-Tabla1[[#This Row],[Seguro Desgravamen]]),\"\")","v":""},{"$f":"IF(B261<Simulador!$F$50,C262*Simulador!$F$46,\"\")","v":""},{"$f":"IF(B261<Simulador!$F$50,Simulador!$F$48*Simulador!$F$12/12,\"\")","v":""},{"$f":"IF(B261<Simulador!$F$50,C262-D262,\"\")","v":""},{"$f":"IF(B261<Simulador!$F$50,PMT(Simulador!$F$44+Simulador!$F$46,Simulador!$F$50,-Simulador!$F$40)+G262,\"\")","v":""}]
[null,{"$f":"IF(B262<Simulador!$F$50,B262+1,\"\")","v":""},{"$f":"IF(B262<Simulador!$F$50,H262,\"\")","v":""},{"$f":"IF(Tabla1[[#This Row],[Periodo]]=\"\",\"\",IF(B263<=Simulador!$F$50,PPMT(Simulador!$F$44+Simulador!$F$46,Cronograma!B263,Simulador!$F$50,-Simulador!$F$40),\"\"))","v":""},{"$f":"IF(B262<Simulador!$F$50,(IPMT(Simulador!$F$44+Simulador!$F$46,Tabla1[[#This Row],[Periodo]],Simulador!$F$50,-Simulador!$F$40)-Tabla1[[#This Row],[Seguro Desgravamen]]),\"\")","v":""},{"$f":"IF(B262<Simulador!$F$50,C263*Simulador!$F$46,\"\")","v":""},{"$f":"IF(B262<Simulador!$F$50,Simulador!$F$48*Simulador!$F$12/12,\"\")","v":""},{"$f":"IF(B262<Simulador!$F$50,C263-D263,\"\")","v":""},{"$f":"IF(B262<Simulador!$F$50,PMT(Simulador!$F$44+Simulador!$F$46,Simulador!$F$50,-Simulador!$F$40)+G263,\"\")","v":""}]
[null,{"$f":"IF(B263<Simulador!$F$50,B263+1,\"\")","v":""},{"$f":"IF(B263<Simulador!$F$50,H263,\"\")","v":""},{"$f":"IF(Tabla1[[#This Row],[Periodo]]=\"\",\"\",IF(B264<=Simulador!$F$50,PPMT(Simulador!$F$44+Simulador!$F$46,Cronograma!B264,Simulador!$F$50,-Simulador!$F$40),\"\"))","v":""},{"$f":"IF(B263<Simulador!$F$50,(IPMT(Simulador!$F$44+Simulador!$F$46,Tabla1[[#This Row],[Periodo]],Simulador!$F$50,-Simulador!$F$40)-Tabla1[[#This Row],[Seguro Desgravamen]]),\"\")","v":""},{"$f":"IF(B263<Simulador!$F$50,C264*Simulador!$F$46,\"\")","v":""},{"$f":"IF(B263<Simulador!$F$50,Simulador!$F$48*Simulador!$F$12/12,\"\")","v":""},{"$f":"IF(B263<Simulador!$F$50,C264-D264,\"\")","v":""},{"$f":"IF(B263<Simulador!$F$50,PMT(Simulador!$F$44+Simulador!$F$46,Simulador!$F$50,-Simulador!$F$40)+G264,\"\")","v":""}]
[null,{"$f":"IF(B264<Simulador!$F$50,B264+1,\"\")","v":""},{"$f":"IF(B264<Simulador!$F$50,H264,\"\")","v":""},{"$f":"IF(Tabla1[[#This Row],[Periodo]]=\"\",\"\",IF(B265<=Simulador!$F$50,PPMT(Simulador!$F$44+Simulador!$F$46,Cronograma!B265,Simulador!$F$50,-Simulador!$F$40),\"\"))","v":""},{"$f":"IF(B264<Simulador!$F$50,(IPMT(Simulador!$F$44+Simulador!$F$46,Tabla1[[#This Row],[Periodo]],Simulador!$F$50,-Simulador!$F$40)-Tabla1[[#This Row],[Seguro Desgravamen]]),\"\")","v":""},{"$f":"IF(B264<Simulador!$F$50,C265*Simulador!$F$46,\"\")","v":""},{"$f":"IF(B264<Simulador!$F$50,Simulador!$F$48*Simulador!$F$12/12,\"\")","v":""},{"$f":"IF(B264<Simulador!$F$50,C265-D265,\"\")","v":""},{"$f":"IF(B264<Simulador!$F$50,PMT(Simulador!$F$44+Simulador!$F$46,Simulador!$F$50,-Simulador!$F$40)+G265,\"\")","v":""}]
[null,{"$f":"IF(B265<Simulador!$F$50,B265+1,\"\")","v":""},{"$f":"IF(B265<Simulador!$F$50,H265,\"\")","v":""},{"$f":"IF(Tabla1[[#This Row],[Periodo]]=\"\",\"\",IF(B266<=Simulador!$F$50,PPMT(Simulador!$F$44+Simulador!$F$46,Cronograma!B266,Simulador!$F$50,-Simulador!$F$40),\"\"))","v":""},{"$f":"IF(B265<Simulador!$F$50,(IPMT(Simulador!$F$44+Simulador!$F$46,Tabla1[[#This Row],[Periodo]],Simulador!$F$50,-Simulador!$F$40)-Tabla1[[#This Row],[Seguro Desgravamen]]),\"\")","v":""},{"$f":"IF(B265<Simulador!$F$50,C266*Simulador!$F$46,\"\")","v":""},{"$f":"IF(B265<Simulador!$F$50,Simulador!$F$48*Simulador!$F$12/12,\"\")","v":""},{"$f":"IF(B265<Simulador!$F$50,C266-D266,\"\")","v":""},{"$f":"IF(B265<Simulador!$F$50,PMT(Simulador!$F$44+Simulador!$F$46,Simulador!$F$50,-Simulador!$F$40)+G266,\"\")","v":""}]
[null,{"$f":"IF(B266<Simulador!$F$50,B266+1,\"\")","v":""},{"$f":"IF(B266<Simulador!$F$50,H266,\"\")","v":""},{"$f":"IF(Tabla1[[#This Row],[Periodo]]=\"\",\"\",IF(B267<=Simulador!$F$50,PPMT(Simulador!$F$44+Simulador!$F$46,Cronograma!B267,Simulador!$F$50,-Simulador!$F$40),\"\"))","v":""},{"$f":"IF(B266<Simulador!$F$50,(IPMT(Simulador!$F$44+Simulador!$F$46,Tabla1[[#This Row],[Periodo]],Simulador!$F$50,-Simulador!$F$40)-Tabla1[[#This Row],[Seguro Desgravamen]]),\"\")","v":""},{"$f":"IF(B266<Simulador!$F$50,C267*Simulador!$F$46,\"\")","v":""},{"$f":"IF(B266<Simulador!$F$50,Simulador!$F$48*Simulador!$F$12/12,\"\")","v":""},{"$f":"IF(B266<Simulador!$F$50,C267-D267,\"\")","v":""},{"$f":"IF(B266<Simulador!$F$50,PMT(Simulador!$F$44+Simulador!$F$46,Simulador!$F$50,-Simulador!$F$40)+G267,\"\")","v":""}]
[null,{"$f":"IF(B267<Simulador!$F$50,B267+1,\"\")","v":""},{"$f":"IF(B267<Simulador!$F$50,H267,\"\")","v":""},{"$f":"IF(Tabla1[[#This Row],[Periodo]]=\"\",\"\",IF(B268<=Simulador!$F$50,PPMT(Simulador!$F$44+Simulador!$F$46,Cronograma!B268,Simulador!$F$50,-Simulador!$F$40),\"\"))","v":""},{"$f":"IF(B267<Simulador!$F$50,(IPMT(Simulador!$F$44+Simulador!$F$46,Tabla1[[#This Row],[Periodo]],Simulador!$F$50,-Simulador!$F$40)-Tabla1[[#This Row],[Seguro Desgravamen]]),\"\")","v":""},{"$f":"IF(B267<Simulador!$F$50,C268*Simulador!$F$46,\"\")","v":""},{"$f":"IF(B267<Simulador!$F$50,Simulador!$F$48*Simulador!$F$12/12,\"\")","v":""},{"$f":"IF(B267<Simulador!$F$50,C268-D268,\"\")","v":""},{"$f":"IF(B267<Simulador!$F$50,PMT(Simulador!$F$44+Simulador!$F$46,Simulador!$F$50,-Simulador!$F$40)+G268,\"\")","v":""}]
[null,{"$f":"IF(B268<Simulador!$F$50,B268+1,\"\")","v":""},{"$f":"IF(B268<Simulador!$F$50,H268,\"\")","v":""},{"$f":"IF(Tabla1[[#This Row],[Periodo]]=\"\",\"\",IF(B269<=Simulador!$F$50,PPMT(Simulador!$F$44+Simulador!$F$46,Cronograma!B269,Simulador!$F$50,-Simulador!$F$40),\"\"))","v":""},{"$f":"IF(B268<Simulador!$F$50,(IPMT(Simulador!$F$44+Simulador!$F$46,Tabla1[[#This Row],[Periodo]],Simulador!$F$50,-Simulador!$F$40)-Tabla1[[#This Row],[Seguro Desgravamen]]),\"\")","v":""},{"$f":"IF(B268<Simulador!$F$50,C269*Simulador!$F$46,\"\")","v":""},{"$f":"IF(B268<Simulador!$F$50,Simulador!$F$48*Simulador!$F$12/12,\"\")","v":""},{"$f":"IF(B268<Simulador!$F$50,C269-D269,\"\")","v":""},{"$f":"IF(B268<Simulador!$F$50,PMT(Simulador!$F$44+Simulador!$F$46,Simulador!$F$50,-Simulador!$F$40)+G269,\"\")","v":""}]
[null,{"$f":"IF(B269<Simulador!$F$50,B269+1,\"\")","v":""},{"$f":"IF(B269<Simulador!$F$50,H269,\"\")","v":""},{"$f":"IF(Tabla1[[#This Row],[Periodo]]=\"\",\"\",IF(B270<=Simulador!$F$50,PPMT(Simulador!$F$44+Simulador!$F$46,Cronograma!B270,Simulador!$F$50,-Simulador!$F$40),\"\"))","v":""},{"$f":"IF(B269<Simulador!$F$50,(IPMT(Simulador!$F$44+Simulador!$F$46,Tabla1[[#This Row],[Periodo]],Simulador!$F$50,-Simulador!$F$40)-Tabla1[[#This Row],[Seguro Desgravamen]]),\"\")","v":""},{"$f":"IF(B269<Simulador!$F$50,C270*Simulador!$F$46,\"\")","v":""},{"$f":"IF(B269<Simulador!$F$50,Simulador!$F$48*Simulador!$F$12/12,\"\")","v":""},{"$f":"IF(B269<Simulador!$F$50,C270-D270,\"\")","v":""},{"$f":"IF(B269<Simulador!$F$50,PMT(Simulador!$F$44+Simulador!$F$46,Simulador!$F$50,-Simulador!$F$40)+G270,\"\")","v":""}]
[null,{"$f":"IF(B270<Simulador!$F$50,B270+1,\"\")","v":""},{"$f":"IF(B270<Simulador!$F$50,H270,\"\")","v":""},{"$f":"IF(Tabla1[[#This Row],[Periodo]]=\"\",\"\",IF(B271<=Simulador!$F$50,PPMT(Simulador!$F$44+Simulador!$F$46,Cronograma!B271,Simulador!$F$50,-Simulador!$F$40),\"\"))","v":""},{"$f":"IF(B270<Simulador!$F$50,(IPMT(Simulador!$F$44+Simulador!$F$46,Tabla1[[#This Row],[Periodo]],Simulador!$F$50,-Simulador!$F$40)-Tabla1[[#This Row],[Seguro Desgravamen]]),\"\")","v":""},{"$f":"IF(B270<Simulador!$F$50,C271*Simulador!$F$46,\"\")","v":""},{"$f":"IF(B270<Simulador!$F$50,Simulador!$F$48*Simulador!$F$12/12,\"\")","v":""},{"$f":"IF(B270<Simulador!$F$50,C271-D271,\"\")","v":""},{"$f":"IF(B270<Simulador!$F$50,PMT(Simulador!$F$44+Simulador!$F$46,Simulador!$F$50,-Simulador!$F$40)+G271,\"\")","v":""}]
[null,{"$f":"IF(B271<Simulador!$F$50,B271+1,\"\")","v":""},{"$f":"IF(B271<Simulador!$F$50,H271,\"\")","v":""},{"$f":"IF(Tabla1[[#This Row],[Periodo]]=\"\",\"\",IF(B272<=Simulador!$F$50,PPMT(Simulador!$F$44+Simulador!$F$46,Cronograma!B272,Simulador!$F$50,-Simulador!$F$40),\"\"))","v":""},{"$f":"IF(B271<Simulador!$F$50,(IPMT(Simulador!$F$44+Simulador!$F$46,Tabla1[[#This Row],[Periodo]],Simulador!$F$50,-Simulador!$F$40)-Tabla1[[#This Row],[Seguro Desgravamen]]),\"\")","v":""},{"$f":"IF(B271<Simulador!$F$50,C272*Simulador!$F$46,\"\")","v":""},{"$f":"IF(B271<Simulador!$F$50,Simulador!$F$48*Simulador!$F$12/12,\"\")","v":""},{"$f":"IF(B271<Simulador!$F$50,C272-D272,\"\")","v":""},{"$f":"IF(B271<Simulador!$F$50,PMT(Simulador!$F$44+Simulador!$F$46,Simulador!$F$50,-Simulador!$F$40)+G272,\"\")","v":""}]
[null,{"$f":"IF(B272<Simulador!$F$50,B272+1,\"\")","v":""},{"$f":"IF(B272<Simulador!$F$50,H272,\"\")","v":""},{"$f":"IF(Tabla1[[#This Row],[Periodo]]=\"\",\"\",IF(B273<=Simulador!$F$50,PPMT(Simulador!$F$44+Simulador!$F$46,Cronograma!B273,Simulador!$F$50,-Simulador!$F$40),\"\"))","v":""},{"$f":"IF(B272<Simulador!$F$50,(IPMT(Simulador!$F$44+Simulador!$F$46,Tabla1[[#This Row],[Periodo]],Simulador!$F$50,-Simulador!$F$40)-Tabla1[[#This Row],[Seguro Desgravamen]]),\"\")","v":""},{"$f":"IF(B272<Simulador!$F$50,C273*Simulador!$F$46,\"\")","v":""},{"$f":"IF(B272<Simulador!$F$50,Simulador!$F$48*Simulador!$F$12/12,\"\")","v":""},{"$f":"IF(B272<Simulador!$F$50,C273-D273,\"\")","v":""},{"$f":"IF(B272<Simulador!$F$50,PMT(Simulador!$F$44+Simulador!$F$46,Simulador!$F$50,-Simulador!$F$40)+G273,\"\")","v":""}]
[null,{"$f":"IF(B273<Simulador!$F$50,B273+1,\"\")","v":""},{"$f":"IF(B273<Simulador!$F$50,H273,\"\")","v":""},{"$f":"IF(Tabla1[[#This Row],[Periodo]]=\"\",\"\",IF(B274<=Simulador!$F$50,PPMT(Simulador!$F$44+Simulador!$F$46,Cronograma!B274,Simulador!$F$50,-Simulador!$F$40),\"\"))","v":""},{"$f":"IF(B273<Simulador!$F$50,(IPMT(Simulador!$F$44+Simulador!$F$46,Tabla1[[#This Row],[Periodo]],Simulador!$F$50,-Simulador!$F$40)-Tabla1[[#This Row],[Seguro Desgravamen]]),\"\")","v":""},{"$f":"IF(B273<Simulador!$F$50,C274*Simulador!$F$46,\"\")","v":""},{"$f":"IF(B273<Simulador!$F$50,Simulador!$F$48*Simulador!$F$12/12,\"\")","v":""},{"$f":"IF(B273<Simulador!$F$50,C274-D274,\"\")","v":""},{"$f":"IF(B273<Simulador!$F$50,PMT(Simulador!$F$44+Simulador!$F$46,Simulador!$F$50,-Simulador!$F$40)+G274,\"\")","v":""}]
[null,{"$f":"IF(B274<Simulador!$F$50,B274+1,\"\")","v":""},{"$f":"IF(B274<Simulador!$F$50,H274,\"\")","v":""},{"$f":"IF(Tabla1[[#This Row],[Periodo]]=\"\",\"\",IF(B275<=Simulador!$F$50,PPMT(Simulador!$F$44+Simulador!$F$46,Cronograma!B275,Simulador!$F$50,-Simulador!$F$40),\"\"))","v":""},{"$f":"IF(B274<Simulador!$F$50,(IPMT(Simulador!$F$44+Simulador!$F$46,Tabla1[[#This Row],[Periodo]],Simulador!$F$50,-Simulador!$F$40)-Tabla1[[#This Row],[Seguro Desgravamen]]),\"\")","v":""},{"$f":"IF(B274<Simulador!$F$50,C275*Simulador!$F$46,\"\")","v":""},{"$f":"IF(B274<Simulador!$F$50,Simulador!$F$48*Simulador!$F$12/12,\"\")","v":""},{"$f":"IF(B274<Simulador!$F$50,C275-D275,\"\")","v":""},{"$f":"IF(B274<Simulador!$F$50,PMT(Simulador!$F$44+Simulador!$F$46,Simulador!$F$50,-Simulador!$F$40)+G275,\"\")","v":""}]
[null,{"$f":"IF(B275<Simulador!$F$50,B275+1,\"\")","v":""},{"$f":"IF(B275<Simulador!$F$50,H275,\"\")","v":""},{"$f":"IF(Tabla1[[#This Row],[Periodo]]=\"\",\"\",IF(B276<=Simulador!$F$50,PPMT(Simulador!$F$44+Simulador!$F$46,Cronograma!B276,Simulador!$F$50,-Simulador!$F$40),\"\"))","v":""},{"$f":"IF(B275<Simulador!$F$50,(IPMT(Simulador!$F$44+Simulador!$F$46,Tabla1[[#This Row],[Periodo]],Simulador!$F$50,-Simulador!$F$40)-Tabla1[[#This Row],[Seguro Desgravamen]]),\"\")","v":""},{"$f":"IF(B275<Simulador!$F$50,C276*Simulador!$F$46,\"\")","v":""},{"$f":"IF(B275<Simulador!$F$50,Simulador!$F$48*Simulador!$F$12/12,\"\")","v":""},{"$f":"IF(B275<Simulador!$F$50,C276-D276,\"\")","v":""},{"$f":"IF(B275<Simulador!$F$50,PMT(Simulador!$F$44+Simulador!$F$46,Simulador!$F$50,-Simulador!$F$40)+G276,\"\")","v":""}]
[null,{"$f":"IF(B276<Simulador!$F$50,B276+1,\"\")","v":""},{"$f":"IF(B276<Simulador!$F$50,H276,\"\")","v":""},{"$f":"IF(Tabla1[[#This Row],[Periodo]]=\"\",\"\",IF(B277<=Simulador!$F$50,PPMT(Simulador!$F$44+Simulador!$F$46,Cronograma!B277,Simulador!$F$50,-Simulador!$F$40),\"\"))","v":""},{"$f":"IF(B276<Simulador!$F$50,(IPMT(Simulador!$F$44+Simulador!$F$46,Tabla1[[#This Row],[Periodo]],Simulador!$F$50,-Simulador!$F$40)-Tabla1[[#This Row],[Seguro Desgravamen]]),\"\")","v":""},{"$f":"IF(B276<Simulador!$F$50,C277*Simulador!$F$46,\"\")","v":""},{"$f":"IF(B276<Simulador!$F$50,Simulador!$F$48*Simulador!$F$12/12,\"\")","v":""},{"$f":"IF(B276<Simulador!$F$50,C277-D277,\"\")","v":""},{"$f":"IF(B276<Simulador!$F$50,PMT(Simulador!$F$44+Simulador!$F$46,Simulador!$F$50,-Simulador!$F$40)+G277,\"\")","v":""}]
[null,{"$f":"IF(B277<Simulador!$F$50,B277+1,\"\")","v":""},{"$f":"IF(B277<Simulador!$F$50,H277,\"\")","v":""},{"$f":"IF(Tabla1[[#This Row],[Periodo]]=\"\",\"\",IF(B278<=Simulador!$F$50,PPMT(Simulador!$F$44+Simulador!$F$46,Cronograma!B278,Simulador!$F$50,-Simulador!$F$40),\"\"))","v":""},{"$f":"IF(B277<Simulador!$F$50,(IPMT(Simulador!$F$44+Simulador!$F$46,Tabla1[[#This Row],[Periodo]],Simulador!$F$50,-Simulador!$F$40)-Tabla1[[#This Row],[Seguro Desgravamen]]),\"\")","v":""},{"$f":"IF(B277<Simulador!$F$50,C278*Simulador!$F$46,\"\")","v":""},{"$f":"IF(B277<Simulador!$F$50,Simulador!$F$48*Simulador!$F$12/12,\"\")","v":""},{"$f":"IF(B277<Simulador!$F$50,C278-D278,\"\")","v":""},{"$f":"IF(B277<Simulador!$F$50,PMT(Simulador!$F$44+Simulador!$F$46,Simulador!$F$50,-Simulador!$F$40)+G278,\"\")","v":""}]
[null,{"$f":"IF(B278<Simulador!$F$50,B278+1,\"\")","v":""},{"$f":"IF(B278<Simulador!$F$50,H278,\"\")","v":""},{"$f":"IF(Tabla1[[#This Row],[Periodo]]=\"\",\"\",IF(B279<=Simulador!$F$50,PPMT(Simulador!$F$44+Simulador!$F$46,Cronograma!B279,Simulador!$F$50,-Simulador!$F$40),\"\"))","v":""},{"$f":"IF(B278<Simulador!$F$50,(IPMT(Simulador!$F$44+Simulador!$F$46,Tabla1[[#This Row],[Periodo]],Simulador!$F$50,-Simulador!$F$40)-Tabla1[[#This Row],[Seguro Desgravamen]]),\"\")","v":""},{"$f":"IF(B278<Simulador!$F$50,C279*Simulador!$F$46,\"\")","v":""},{"$f":"IF(B278<Simulador!$F$50,Simulador!$F$48*Simulador!$F$12/12,\"\")","v":""},{"$f":"IF(B278<Simulador!$F$50,C279-D279,\"\")","v":""},{"$f":"IF(B278<Simulador!$F$50,PMT(Simulador!$F$44+Simulador!$F$46,Simulador!$F$50,-Simulador!$F$40)+G279,\"\")","v":""}]
[null,{"$f":"IF(B279<Simulador!$F$50,B279+1,\"\")","v":""},{"$f":"IF(B279<Simulador!$F$50,H279,\"\")","v":""},{"$f":"IF(Tabla1[[#This Row],[Periodo]]=\"\",\"\",IF(B280<=Simulador!$F$50,PPMT(Simulador!$F$44+Simulador!$F$46,Cronograma!B280,Simulador!$F$50,-Simulador!$F$40),\"\"))","v":""},{"$f":"IF(B279<Simulador!$F$50,(IPMT(Simulador!$F$44+Simulador!$F$46,Tabla1[[#This Row],[Periodo]],Simulador!$F$50,-Simulador!$F$40)-Tabla1[[#This Row],[Seguro Desgravamen]]),\"\")","v":""},{"$f":"IF(B279<Simulador!$F$50,C280*Simulador!$F$46,\"\")","v":""},{"$f":"IF(B279<Simulador!$F$50,Simulador!$F$48*Simulador!$F$12/12,\"\")","v":""},{"$f":"IF(B279<Simulador!$F$50,C280-D280,\"\")","v":""},{"$f":"IF(B279<Simulador!$F$50,PMT(Simulador!$F$44+Simulador!$F$46,Simulador!$F$50,-Simulador!$F$40)+G280,\"\")","v":""}]
[null,{"$f":"IF(B280<Simulador!$F$50,B280+1,\"\")","v":""},{"$f":"IF(B280<Simulador!$F$50,H280,\"\")","v":""},{"$f":"IF(Tabla1[[#This Row],[Periodo]]=\"\",\"\",IF(B281<=Simulador!$F$50,PPMT(Simulador!$F$44+Simulador!$F$46,Cronograma!B281,Simulador!$F$50,-Simulador!$F$40),\"\"))","v":""},{"$f":"IF(B280<Simulador!$F$50,(IPMT(Simulador!$F$44+Simulador!$F$46,Tabla1[[#This Row],[Periodo]],Simulador!$F$50,-Simulador!$F$40)-Tabla1[[#This Row],[Seguro Desgravamen]]),\"\")","v":""},{"$f":"IF(B280<Simulador!$F$50,C281*Simulador!$F$46,\"\")","v":""},{"$f":"IF(B280<Simulador!$F$50,Simulador!$F$48*Simulador!$F$12/12,\"\")","v":""},{"$f":"IF(B280<Simulador!$F$50,C281-D281,\"\")","v":""},{"$f":"IF(B280<Simulador!$F$50,PMT(Simulador!$F$44+Simulador!$F$46,Simulador!$F$50,-Simulador!$F$40)+G281,\"\")","v":""}]
[null,{"$f":"IF(B281<Simulador!$F$50,B281+1,\"\")","v":""},{"$f":"IF(B281<Simulador!$F$50,H281,\"\")","v":""},{"$f":"IF(Tabla1[[#This Row],[Periodo]]=\"\",\"\",IF(B282<=Simulador!$F$50,PPMT(Simulador!$F$44+Simulador!$F$46,Cronograma!B282,Simulador!$F$50,-Simulador!$F$40),\"\"))","v":""},{"$f":"IF(B281<Simulador!$F$50,(IPMT(Simulador!$F$44+Simulador!$F$46,Tabla1[[#This Row],[Periodo]],Simulador!$F$50,-Simulador!$F$40)-Tabla1[[#This Row],[Seguro Desgravamen]]),\"\")","v":""},{"$f":"IF(B281<Simulador!$F$50,C282*Simulador!$F$46,\"\")","v":""},{"$f":"IF(B281<Simulador!$F$50,Simulador!$F$48*Simulador!$F$12/12,\"\")","v":""},{"$f":"IF(B281<Simulador!$F$50,C282-D282,\"\")","v":""},{"$f":"IF(B281<Simulador!$F$50,PMT(Simulador!$F$44+Simulador!$F$46,Simulador!$F$50,-Simulador!$F$40)+G282,\"\")","v":""}]
[null,{"$f":"IF(B282<Simulador!$F$50,B282+1,\"\")","v":""},{"$f":"IF(B282<Simulador!$F$50,H282,\"\")","v":""},{"$f":"IF(Tabla1[[#This Row],[Periodo]]=\"\",\"\",IF(B283<=Simulador!$F$50,PPMT(Simulador!$F$44+Simulador!$F$46,Cronograma!B283,Simulador!$F$50,-Simulador!$F$40),\"\"))","v":""},{"$f":"IF(B282<Simulador!$F$50,(IPMT(Simulador!$F$44+Simulador!$F$46,Tabla1[[#This Row],[Periodo]],Simulador!$F$50,-Simulador!$F$40)-Tabla1[[#This Row],[Seguro Desgravamen]]),\"\")","v":""},{"$f":"IF(B282<Simulador!$F$50,C283*Simulador!$F$46,\"\")","v":""},{"$f":"IF(B282<Simulador!$F$50,Simulador!$F$48*Simulador!$F$12/12,\"\")","v":""},{"$f":"IF(B282<Simulador!$F$50,C283-D283,\"\")","v":""},{"$f":"IF(B282<Simulador!$F$50,PMT(Simulador!$F$44+Simulador!$F$46,Simulador!$F$50,-Simulador!$F$40)+G283,\"\")","v":""}]
[null,{"$f":"IF(B283<Simulador!$F$50,B283+1,\"\")","v":""},{"$f":"IF(B283<Simulador!$F$50,H283,\"\")","v":""},{"$f":"IF(Tabla1[[#This Row],[Periodo]]=\"\",\"\",IF(B284<=Simulador!$F$50,PPMT(Simulador!$F$44+Simulador!$F$46,Cronograma!B284,Simulador!$F$50,-Simulador!$F$40),\"\"))","v":""},{"$f":"IF(B283<Simulador!$F$50,(IPMT(Simulador!$F$44+Simulador!$F$46,Tabla1[[#This Row],[Periodo]],Simulador!$F$50,-Simulador!$F$40)-Tabla1[[#This Row],[Seguro Desgravamen]]),\"\")","v":""},{"$f":"IF(B283<Simulador!$F$50,C284*Simulador!$F$46,\"\")","v":""},{"$f":"IF(B283<Simulador!$F$50,Simulador!$F$48*Simulador!$F$12/12,\"\")","v":""},{"$f":"IF(B283<Simulador!$F$50,C284-D284,\"\")","v":""},{"$f":"IF(B283<Simulador!$F$50,PMT(Simulador!$F$44+Simulador!$F$46,Simulador!$F$50,-Simulador!$F$40)+G284,\"\")","v":""}]
[null,{"$f":"IF(B284<Simulador!$F$50,B284+1,\"\")","v":""},{"$f":"IF(B284<Simulador!$F$50,H284,\"\")","v":""},{"$f":"IF(Tabla1[[#This Row],[Periodo]]=\"\",\"\",IF(B285<=Simulador!$F$50,PPMT(Simulador!$F$44+Simulador!$F$46,Cronograma!B285,Simulador!$F$50,-Simulador!$F$40),\"\"))","v":""},{"$f":"IF(B284<Simulador!$F$50,(IPMT(Simulador!$F$44+Simulador!$F$46,Tabla1[[#This Row],[Periodo]],Simulador!$F$50,-Simulador!$F$40)-Tabla1[[#This Row],[Seguro Desgravamen]]),\"\")","v":""},{"$f":"IF(B284<Simulador!$F$50,C285*Simulador!$F$46,\"\")","v":""},{"$f":"IF(B284<Simulador!$F$50,Simulador!$F$48*Simulador!$F$12/12,\"\")","v":""},{"$f":"IF(B284<Simulador!$F$50,C285-D285,\"\")","v":""},{"$f":"IF(B284<Simulador!$F$50,PMT(Simulador!$F$44+Simulador!$F$46,Simulador!$F$50,-Simulador!$F$40)+G285,\"\")","v":""}]
[null,{"$f":"IF(B285<Simulador!$F$50,B285+1,\"\")","v":""},{"$f":"IF(B285<Simulador!$F$50,H285,\"\")","v":""},{"$f":"IF(Tabla1[[#This Row],[Periodo]]=\"\",\"\",IF(B286<=Simulador!$F$50,PPMT(Simulador!$F$44+Simulador!$F$46,Cronograma!B286,Simulador!$F$50,-Simulador!$F$40),\"\"))","v":""},{"$f":"IF(B285<Simulador!$F$50,(IPMT(Simulador!$F$44+Simulador!$F$46,Tabla1[[#This Row],[Periodo]],Simulador!$F$50,-Simulador!$F$40)-Tabla1[[#This Row],[Seguro Desgravamen]]),\"\")","v":""},{"$f":"IF(B285<Simulador!$F$50,C286*Simulador!$F$46,\"\")","v":""},{"$f":"IF(B285<Simulador!$F$50,Simulador!$F$48*Simulador!$F$12/12,\"\")","v":""},{"$f":"IF(B285<Simulador!$F$50,C286-D286,\"\")","v":""},{"$f":"IF(B285<Simulador!$F$50,PMT(Simulador!$F$44+Simulador!$F$46,Simulador!$F$50,-Simulador!$F$40)+G286,\"\")","v":""}]
[null,{"$f":"IF(B286<Simulador!$F$50,B286+1,\"\")","v":""},{"$f":"IF(B286<Simulador!$F$50,H286,\"\")","v":""},{"$f":"IF(Tabla1[[#This Row],[Periodo]]=\"\",\"\",IF(B287<=Simulador!$F$50,PPMT(Simulador!$F$44+Simulador!$F$46,Cronograma!B287,Simulador!$F$50,-Simulador!$F$40),\"\"))","v":""},{"$f":"IF(B286<Simulador!$F$50,(IPMT(Simulador!$F$44+Simulador!$F$46,Tabla1[[#This Row],[Periodo]],Simulador!$F$50,-Simulador!$F$40)-Tabla1[[#This Row],[Seguro Desgravamen]]),\"\")","v":""},{"$f":"IF(B286<Simulador!$F$50,C287*Simulador!$F$46,\"\")","v":""},{"$f":"IF(B286<Simulador!$F$50,Simulador!$F$48*Simulador!$F$12/12,\"\")","v":""},{"$f":"IF(B286<Simulador!$F$50,C287-D287,\"\")","v":""},{"$f":"IF(B286<Simulador!$F$50,PMT(Simulador!$F$44+Simulador!$F$46,Simulador!$F$50,-Simulador!$F$40)+G287,\"\")","v":""}]
[null,{"$f":"IF(B287<Simulador!$F$50,B287+1,\"\")","v":""},{"$f":"IF(B287<Simulador!$F$50,H287,\"\")","v":""},{"$f":"IF(Tabla1[[#This Row],[Periodo]]=\"\",\"\",IF(B288<=Simulador!$F$50,PPMT(Simulador!$F$44+Simulador!$F$46,Cronograma!B288,Simulador!$F$50,-Simulador!$F$40),\"\"))","v":""},{"$f":"IF(B287<Simulador!$F$50,(IPMT(Simulador!$F$44+Simulador!$F$46,Tabla1[[#This Row],[Periodo]],Simulador!$F$50,-Simulador!$F$40)-Tabla1[[#This Row],[Seguro Desgravamen]]),\"\")","v":""},{"$f":"IF(B287<Simulador!$F$50,C288*Simulador!$F$46,\"\")","v":""},{"$f":"IF(B287<Simulador!$F$50,Simulador!$F$48*Simulador!$F$12/12,\"\")","v":""},{"$f":"IF(B287<Simulador!$F$50,C288-D288,\"\")","v":""},{"$f":"IF(B287<Simulador!$F$50,PMT(Simulador!$F$44+Simulador!$F$46,Simulador!$F$50,-Simulador!$F$40)+G288,\"\")","v":""}]
[null,{"$f":"IF(B288<Simulador!$F$50,B288+1,\"\")","v":""},{"$f":"IF(B288<Simulador!$F$50,H288,\"\")","v":""},{"$f":"IF(Tabla1[[#This Row],[Periodo]]=\"\",\"\",IF(B289<=Simulador!$F$50,PPMT(Simulador!$F$44+Simulador!$F$46,Cronograma!B289,Simulador!$F$50,-Simulador!$F$40),\"\"))","v":""},{"$f":"IF(B288<Simulador!$F$50,(IPMT(Simulador!$F$44+Simulador!$F$46,Tabla1[[#This Row],[Periodo]],Simulador!$F$50,-Simulador!$F$40)-Tabla1[[#This Row],[Seguro Desgravamen]]),\"\")","v":""},{"$f":"IF(B288<Simulador!$F$50,C289*Simulador!$F$46,\"\")","v":""},{"$f":"IF(B288<Simulador!$F$50,Simulador!$F$48*Simulador!$F$12/12,\"\")","v":""},{"$f":"IF(B288<Simulador!$F$50,C289-D289,\"\")","v":""},{"$f":"IF(B288<Simulador!$F$50,PMT(Simulador!$F$44+Simulador!$F$46,Simulador!$F$50,-Simulador!$F$40)+G289,\"\")","v":""}]
[null,{"$f":"IF(B289<Simulador!$F$50,B289+1,\"\")","v":""},{"$f":"IF(B289<Simulador!$F$50,H289,\"\")","v":""},{"$f":"IF(Tabla1[[#This Row],[Periodo]]=\"\",\"\",IF(B290<=Simulador!$F$50,PPMT(Simulador!$F$44+Simulador!$F$46,Cronograma!B290,Simulador!$F$50,-Simulador!$F$40),\"\"))","v":""},{"$f":"IF(B289<Simulador!$F$50,(IPMT(Simulador!$F$44+Simulador!$F$46,Tabla1[[#This Row],[Periodo]],Simulador!$F$50,-Simulador!$F$40)-Tabla1[[#This Row],[Seguro Desgravamen]]),\"\")","v":""},{"$f":"IF(B289<Simulador!$F$50,C290*Simulador!$F$46,\"\")","v":""},{"$f":"IF(B289<Simulador!$F$50,Simulador!$F$48*Simulador!$F$12/12,\"\")","v":""},{"$f":"IF(B289<Simulador!$F$50,C290-D290,\"\")","v":""},{"$f":"IF(B289<Simulador!$F$50,PMT(Simulador!$F$44+Simulador!$F$46,Simulador!$F$50,-Simulador!$F$40)+G290,\"\")","v":""}]
[null,{"$f":"IF(B290<Simulador!$F$50,B290+1,\"\")","v":""},{"$f":"IF(B290<Simulador!$F$50,H290,\"\")","v":""},{"$f":"IF(Tabla1[[#This Row],[Periodo]]=\"\",\"\",IF(B291<=Simulador!$F$50,PPMT(Simulador!$F$44+Simulador!$F$46,Cronograma!B291,Simulador!$F$50,-Simulador!$F$40),\"\"))","v":""},{"$f":"IF(B290<Simulador!$F$50,(IPMT(Simulador!$F$44+Simulador!$F$46,Tabla1[[#This Row],[Periodo]],Simulador!$F$50,-Simulador!$F$40)-Tabla1[[#This Row],[Seguro Desgravamen]]),\"\")","v":""},{"$f":"IF(B290<Simulador!$F$50,C291*Simulador!$F$46,\"\")","v":""},{"$f":"IF(B290<Simulador!$F$50,Simulador!$F$48*Simulador!$F$12/12,\"\")","v":""},{"$f":"IF(B290<Simulador!$F$50,C291-D291,\"\")","v":""},{"$f":"IF(B290<Simulador!$F$50,PMT(Simulador!$F$44+Simulador!$F$46,Simulador!$F$50,-Simulador!$F$40)+G291,\"\")","v":""}]
[null,{"$f":"IF(B291<Simulador!$F$50,B291+1,\"\")","v":""},{"$f":"IF(B291<Simulador!$F$50,H291,\"\")","v":""},{"$f":"IF(Tabla1[[#This Row],[Periodo]]=\"\",\"\",IF(B292<=Simulador!$F$50,PPMT(Simulador!$F$44+Simulador!$F$46,Cronograma!B292,Simulador!$F$50,-Simulador!$F$40),\"\"))","v":""},{"$f":"IF(B291<Simulador!$F$50,(IPMT(Simulador!$F$44+Simulador!$F$46,Tabla1[[#This Row],[Periodo]],Simulador!$F$50,-Simulador!$F$40)-Tabla1[[#This Row],[Seguro Desgravamen]]),\"\")","v":""},{"$f":"IF(B291<Simulador!$F$50,C292*Simulador!$F$46,\"\")","v":""},{"$f":"IF(B291<Simulador!$F$50,Simulador!$F$48*Simulador!$F$12/12,\"\")","v":""},{"$f":"IF(B291<Simulador!$F$50,C292-D292,\"\")","v":""},{"$f":"IF(B291<Simulador!$F$50,PMT(Simulador!$F$44+Simulador!$F$46,Simulador!$F$50,-Simulador!$F$40)+G292,\"\")","v":""}]
[null,{"$f":"IF(B292<Simulador!$F$50,B292+1,\"\")","v":""},{"$f":"IF(B292<Simulador!$F$50,H292,\"\")","v":""},{"$f":"IF(Tabla1[[#This Row],[Periodo]]=\"\",\"\",IF(B293<=Simulador!$F$50,PPMT(Simulador!$F$44+Simulador!$F$46,Cronograma!B293,Simulador!$F$50,-Simulador!$F$40),\"\"))","v":""},{"$f":"IF(B292<Simulador!$F$50,(IPMT(Simulador!$F$44+Simulador!$F$46,Tabla1[[#This Row],[Periodo]],Simulador!$F$50,-Simulador!$F$40)-Tabla1[[#This Row],[Seguro Desgravamen]]),\"\")","v":""},{"$f":"IF(B292<Simulador!$F$50,C293*Simulador!$F$46,\"\")","v":""},{"$f":"IF(B292<Simulador!$F$50,Simulador!$F$48*Simulador!$F$12/12,\"\")","v":""},{"$f":"IF(B292<Simulador!$F$50,C293-D293,\"\")","v":""},{"$f":"IF(B292<Simulador!$F$50,PMT(Simulador!$F$44+Simulador!$F$46,Simulador!$F$50,-Simulador!$F$40)+G293,\"\")","v":""}]
[null,{"$f":"IF(B293<Simulador!$F$50,B293+1,\"\")","v":""},{"$f":"IF(B293<Simulador!$F$50,H293,\"\")","v":""},{"$f":"IF(Tabla1[[#This Row],[Periodo]]=\"\",\"\",IF(B294<=Simulador!$F$50,PPMT(Simulador!$F$44+Simulador!$F$46,Cronograma!B294,Simulador!$F$50,-Simulador!$F$40),\"\"))","v":""},{"$f":"IF(B293<Simulador!$F$50,(IPMT(Simulador!$F$44+Simulador!$F$46,Tabla1[[#This Row],[Periodo]],Simulador!$F$50,-Simulador!$F$40)-Tabla1[[#This Row],[Seguro Desgravamen]]),\"\")","v":""},{"$f":"IF(B293<Simulador!$F$50,C294*Simulador!$F$46,\"\")","v":""},{"$f":"IF(B293<Simulador!$F$50,Simulador!$F$48*Simulador!$F$12/12,\"\")","v":""},{"$f":"IF(B293<Simulador!$F$50,C294-D294,\"\")","v":""},{"$f":"IF(B293<Simulador!$F$50,PMT(Simulador!$F$44+Simulador!$F$46,Simulador!$F$50,-Simulador!$F$40)+G294,\"\")","v":""}]
[null,{"$f":"IF(B294<Simulador!$F$50,B294+1,\"\")","v":""},{"$f":"IF(B294<Simulador!$F$50,H294,\"\")","v":""},{"$f":"IF(Tabla1[[#This Row],[Periodo]]=\"\",\"\",IF(B295<=Simulador!$F$50,PPMT(Simulador!$F$44+Simulador!$F$46,Cronograma!B295,Simulador!$F$50,-Simulador!$F$40),\"\"))","v":""},{"$f":"IF(B294<Simulador!$F$50,(IPMT(Simulador!$F$44+Simulador!$F$46,Tabla1[[#This Row],[Periodo]],Simulador!$F$50,-Simulador!$F$40)-Tabla1[[#This Row],[Seguro Desgravamen]]),\"\")","v":""},{"$f":"IF(B294<Simulador!$F$50,C295*Simulador!$F$46,\"\")","v":""},{"$f":"IF(B294<Simulador!$F$50,Simulador!$F$48*Simulador!$F$12/12,\"\")","v":""},{"$f":"IF(B294<Simulador!$F$50,C295-D295,\"\")","v":""},{"$f":"IF(B294<Simulador!$F$50,PMT(Simulador!$F$44+Simulador!$F$46,Simulador!$F$50,-Simulador!$F$40)+G295,\"\")","v":""}]
[null,{"$f":"IF(B295<Simulador!$F$50,B295+1,\"\")","v":""},{"$f":"IF(B295<Simulador!$F$50,H295,\"\")","v":""},{"$f":"IF(Tabla1[[#This Row],[Periodo]]=\"\",\"\",IF(B296<=Simulador!$F$50,PPMT(Simulador!$F$44+Simulador!$F$46,Cronograma!B296,Simulador!$F$50,-Simulador!$F$40),\"\"))","v":""},{"$f":"IF(B295<Simulador!$F$50,(IPMT(Simulador!$F$44+Simulador!$F$46,Tabla1[[#This Row],[Periodo]],Simulador!$F$50,-Simulador!$F$40)-Tabla1[[#This Row],[Seguro Desgravamen]]),\"\")","v":""},{"$f":"IF(B295<Simulador!$F$50,C296*Simulador!$F$46,\"\")","v":""},{"$f":"IF(B295<Simulador!$F$50,Simulador!$F$48*Simulador!$F$12/12,\"\")","v":""},{"$f":"IF(B295<Simulador!$F$50,C296-D296,\"\")","v":""},{"$f":"IF(B295<Simulador!$F$50,PMT(Simulador!$F$44+Simulador!$F$46,Simulador!$F$50,-Simulador!$F$40)+G296,\"\")","v":""}]
[null,{"$f":"IF(B296<Simulador!$F$50,B296+1,\"\")","v":""},{"$f":"IF(B296<Simulador!$F$50,H296,\"\")","v":""},{"$f":"IF(Tabla1[[#This Row],[Periodo]]=\"\",\"\",IF(B297<=Simulador!$F$50,PPMT(Simulador!$F$44+Simulador!$F$46,Cronograma!B297,Simulador!$F$50,-Simulador!$F$40),\"\"))","v":""},{"$f":"IF(B296<Simulador!$F$50,(IPMT(Simulador!$F$44+Simulador!$F$46,Tabla1[[#This Row],[Periodo]],Simulador!$F$50,-Simulador!$F$40)-Tabla1[[#This Row],[Seguro Desgravamen]]),\"\")","v":""},{"$f":"IF(B296<Simulador!$F$50,C297*Simulador!$F$46,\"\")","v":""},{"$f":"IF(B296<Simulador!$F$50,Simulador!$F$48*Simulador!$F$12/12,\"\")","v":""},{"$f":"IF(B296<Simulador!$F$50,C297-D297,\"\")","v":""},{"$f":"IF(B296<Simulador!$F$50,PMT(Simulador!$F$44+Simulador!$F$46,Simulador!$F$50,-Simulador!$F$40)+G297,\"\")","v":""}]
[null,{"$f":"IF(B297<Simulador!$F$50,B297+1,\"\")","v":""},{"$f":"IF(B297<Simulador!$F$50,H297,\"\")","v":""},{"$f":"IF(Tabla1[[#This Row],[Periodo]]=\"\",\"\",IF(B298<=Simulador!$F$50,PPMT(Simulador!$F$44+Simulador!$F$46,Cronograma!B298,Simulador!$F$50,-Simulador!$F$40),\"\"))","v":""},{"$f":"IF(B297<Simulador!$F$50,(IPMT(Simulador!$F$44+Simulador!$F$46,Tabla1[[#This Row],[Periodo]],Simulador!$F$50,-Simulador!$F$40)-Tabla1[[#This Row],[Seguro Desgravamen]]),\"\")","v":""},{"$f":"IF(B297<Simulador!$F$50,C298*Simulador!$F$46,\"\")","v":""},{"$f":"IF(B297<Simulador!$F$50,Simulador!$F$48*Simulador!$F$12/12,\"\")","v":""},{"$f":"IF(B297<Simulador!$F$50,C298-D298,\"\")","v":""},{"$f":"IF(B297<Simulador!$F$50,PMT(Simulador!$F$44+Simulador!$F$46,Simulador!$F$50,-Simulador!$F$40)+G298,\"\")","v":""}]
[null,{"$f":"IF(B298<Simulador!$F$50,B298+1,\"\")","v":""},{"$f":"IF(B298<Simulador!$F$50,H298,\"\")","v":""},{"$f":"IF(Tabla1[[#This Row],[Periodo]]=\"\",\"\",IF(B299<=Simulador!$F$50,PPMT(Simulador!$F$44+Simulador!$F$46,Cronograma!B299,Simulador!$F$50,-Simulador!$F$40),\"\"))","v":""},{"$f":"IF(B298<Simulador!$F$50,(IPMT(Simulador!$F$44+Simulador!$F$46,Tabla1[[#This Row],[Periodo]],Simulador!$F$50,-Simulador!$F$40)-Tabla1[[#This Row],[Seguro Desgravamen]]),\"\")","v":""},{"$f":"IF(B298<Simulador!$F$50,C299*Simulador!$F$46,\"\")","v":""},{"$f":"IF(B298<Simulador!$F$50,Simulador!$F$48*Simulador!$F$12/12,\"\")","v":""},{"$f":"IF(B298<Simulador!$F$50,C299-D299,\"\")","v":""},{"$f":"IF(B298<Simulador!$F$50,PMT(Simulador!$F$44+Simulador!$F$46,Simulador!$F$50,-Simulador!$F$40)+G299,\"\")","v":""}]
[null,{"$f":"IF(B299<Simulador!$F$50,B299+1,\"\")","v":""},{"$f":"IF(B299<Simulador!$F$50,H299,\"\")","v":""},{"$f":"IF(Tabla1[[#This Row],[Periodo]]=\"\",\"\",IF(B300<=Simulador!$F$50,PPMT(Simulador!$F$44+Simulador!$F$46,Cronograma!B300,Simulador!$F$50,-Simulador!$F$40),\"\"))","v":""},{"$f":"IF(B299<Simulador!$F$50,(IPMT(Simulador!$F$44+Simulador!$F$46,Tabla1[[#This Row],[Periodo]],Simulador!$F$50,-Simulador!$F$40)-Tabla1[[#This Row],[Seguro Desgravamen]]),\"\")","v":""},{"$f":"IF(B299<Simulador!$F$50,C300*Simulador!$F$46,\"\")","v":""},{"$f":"IF(B299<Simulador!$F$50,Simulador!$F$48*Simulador!$F$12/12,\"\")","v":""},{"$f":"IF(B299<Simulador!$F$50,C300-D300,\"\")","v":""},{"$f":"IF(B299<Simulador!$F$50,PMT(Simulador!$F$44+Simulador!$F$46,Simulador!$F$50,-Simulador!$F$40)+G300,\"\")","v":""}]
[null,{"$f":"IF(B300<Simulador!$F$50,B300+1,\"\")","v":""},{"$f":"IF(B300<Simulador!$F$50,H300,\"\")","v":""},{"$f":"IF(Tabla1[[#This Row],[Periodo]]=\"\",\"\",IF(B301<=Simulador!$F$50,PPMT(Simulador!$F$44+Simulador!$F$46,Cronograma!B301,Simulador!$F$50,-Simulador!$F$40),\"\"))","v":""},{"$f":"IF(B300<Simulador!$F$50,(IPMT(Simulador!$F$44+Simulador!$F$46,Tabla1[[#This Row],[Periodo]],Simulador!$F$50,-Simulador!$F$40)-Tabla1[[#This Row],[Seguro Desgravamen]]),\"\")","v":""},{"$f":"IF(B300<Simulador!$F$50,C301*Simulador!$F$46,\"\")","v":""},{"$f":"IF(B300<Simulador!$F$50,Simulador!$F$48*Simulador!$F$12/12,\"\")","v":""},{"$f":"IF(B300<Simulador!$F$50,C301-D301,\"\")","v":""},{"$f":"IF(B300<Simulador!$F$50,PMT(Simulador!$F$44+Simulador!$F$46,Simulador!$F$50,-Simulador!$F$40)+G301,\"\")","v":""}]
[null,{"$f":"IF(B301<Simulador!$F$50,B301+1,\"\")","v":""},{"$f":"IF(B301<Simulador!$F$50,H301,\"\")","v":""},{"$f":"IF(Tabla1[[#This Row],[Periodo]]=\"\",\"\",IF(B302<=Simulador!$F$50,PPMT(Simulador!$F$44+Simulador!$F$46,Cronograma!B302,Simulador!$F$50,-Simulador!$F$40),\"\"))","v":""},{"$f":"IF(B301<Simulador!$F$50,(IPMT(Simulador!$F$44+Simulador!$F$46,Tabla1[[#This Row],[Periodo]],Simulador!$F$50,-Simulador!$F$40)-Tabla1[[#This Row],[Seguro Desgravamen]]),\"\")","v":""},{"$f":"IF(B301<Simulador!$F$50,C302*Simulador!$F$46,\"\")","v":""},{"$f":"IF(B301<Simulador!$F$50,Simulador!$F$48*Simulador!$F$12/12,\"\")","v":""},{"$f":"IF(B301<Simulador!$F$50,C302-D302,\"\")","v":""},{"$f":"IF(B301<Simulador!$F$50,PMT(Simulador!$F$44+Simulador!$F$46,Simulador!$F$50,-Simulador!$F$40)+G302,\"\")","v":""}]
[null,{"$f":"IF(B302<Simulador!$F$50,B302+1,\"\")","v":""},{"$f":"IF(B302<Simulador!$F$50,H302,\"\")","v":""},{"$f":"IF(Tabla1[[#This Row],[Periodo]]=\"\",\"\",IF(B303<=Simulador!$F$50,PPMT(Simulador!$F$44+Simulador!$F$46,Cronograma!B303,Simulador!$F$50,-Simulador!$F$40),\"\"))","v":""},{"$f":"IF(B302<Simulador!$F$50,(IPMT(Simulador!$F$44+Simulador!$F$46,Tabla1[[#This Row],[Periodo]],Simulador!$F$50,-Simulador!$F$40)-Tabla1[[#This Row],[Seguro Desgravamen]]),\"\")","v":""},{"$f":"IF(B302<Simulador!$F$50,C303*Simulador!$F$46,\"\")","v":""},{"$f":"IF(B302<Simulador!$F$50,Simulador!$F$48*Simulador!$F$12/12,\"\")","v":""},{"$f":"IF(B302<Simulador!$F$50,C303-D303,\"\")","v":""},{"$f":"IF(B302<Simulador!$F$50,PMT(Simulador!$F$44+Simulador!$F$46,Simulador!$F$50,-Simulador!$F$40)+G303,\"\")","v":""}]
[null,{"$f":"IF(B303<Simulador!$F$50,B303+1,\"\")","v":""},{"$f":"IF(B303<Simulador!$F$50,H303,\"\")","v":""},{"$f":"IF(Tabla1[[#This Row],[Periodo]]=\"\",\"\",IF(B304<=Simulador!$F$50,PPMT(Simulador!$F$44+Simulador!$F$46,Cronograma!B304,Simulador!$F$50,-Simulador!$F$40),\"\"))","v":""},{"$f":"IF(B303<Simulador!$F$50,(IPMT(Simulador!$F$44+Simulador!$F$46,Tabla1[[#This Row],[Periodo]],Simulador!$F$50,-Simulador!$F$40)-Tabla1[[#This Row],[Seguro Desgravamen]]),\"\")","v":""},{"$f":"IF(B303<Simulador!$F$50,C304*Simulador!$F$46,\"\")","v":""},{"$f":"IF(B303<Simulador!$F$50,Simulador!$F$48*Simulador!$F$12/12,\"\")","v":""},{"$f":"IF(B303<Simulador!$F$50,C304-D304,\"\")","v":""},{"$f":"IF(B303<Simulador!$F$50,PMT(Simulador!$F$44+Simulador!$F$46,Simulador!$F$50,-Simulador!$F$40)+G304,\"\")","v":""}]
[null,{"$f":"IF(B304<Simulador!$F$50,B304+1,\"\")","v":""},{"$f":"IF(B304<Simulador!$F$50,H304,\"\")","v":""},{"$f":"IF(Tabla1[[#This Row],[Periodo]]=\"\",\"\",IF(B305<=Simulador!$F$50,PPMT(Simulador!$F$44+Simulador!$F$46,Cronograma!B305,Simulador!$F$50,-Simulador!$F$40),\"\"))","v":""},{"$f":"IF(B304<Simulador!$F$50,(IPMT(Simulador!$F$44+Simulador!$F$46,Tabla1[[#This Row],[Periodo]],Simulador!$F$50,-Simulador!$F$40)-Tabla1[[#This Row],[Seguro Desgravamen]]),\"\")","v":""},{"$f":"IF(B304<Simulador!$F$50,C305*Simulador!$F$46,\"\")","v":""},{"$f":"IF(B304<Simulador!$F$50,Simulador!$F$48*Simulador!$F$12/12,\"\")","v":""},{"$f":"IF(B304<Simulador!$F$50,C305-D305,\"\")","v":""},{"$f":"IF(B304<Simulador!$F$50,PMT(Simulador!$F$44+Simulador!$F$46,Simulador!$F$50,-Simulador!$F$40)+G305,\"\")","v":""}]
[null,{"$f":"IF(B305<Simulador!$F$50,B305+1,\"\")","v":""},{"$f":"IF(B305<Simulador!$F$50,H305,\"\")","v":""},{"$f":"IF(Tabla1[[#This Row],[Periodo]]=\"\",\"\",IF(B306<=Simulador!$F$50,PPMT(Simulador!$F$44+Simulador!$F$46,Cronograma!B306,Simulador!$F$50,-Simulador!$F$40),\"\"))","v":""},{"$f":"IF(B305<Simulador!$F$50,(IPMT(Simulador!$F$44+Simulador!$F$46,Tabla1[[#This Row],[Periodo]],Simulador!$F$50,-Simulador!$F$40)-Tabla1[[#This Row],[Seguro Desgravamen]]),\"\")","v":""},{"$f":"IF(B305<Simulador!$F$50,C306*Simulador!$F$46,\"\")","v":""},{"$f":"IF(B305<Simulador!$F$50,Simulador!$F$48*Simulador!$F$12/12,\"\")","v":""},{"$f":"IF(B305<Simulador!$F$50,C306-D306,\"\")","v":""},{"$f":"IF(B305<Simulador!$F$50,PMT(Simulador!$F$44+Simulador!$F$46,Simulador!$F$50,-Simulador!$F$40)+G306,\"\")","v":""}]
[null,{"$f":"IF(B306<Simulador!$F$50,B306+1,\"\")","v":""},{"$f":"IF(B306<Simulador!$F$50,H306,\"\")","v":""},{"$f":"IF(Tabla1[[#This Row],[Periodo]]=\"\",\"\",IF(B307<=Simulador!$F$50,PPMT(Simulador!$F$44+Simulador!$F$46,Cronograma!B307,Simulador!$F$50,-Simulador!$F$40),\"\"))","v":""},{"$f":"IF(B306<Simulador!$F$50,(IPMT(Simulador!$F$44+Simulador!$F$46,Tabla1[[#This Row],[Periodo]],Simulador!$F$50,-Simulador!$F$40)-Tabla1[[#This Row],[Seguro Desgravamen]]),\"\")","v":""},{"$f":"IF(B306<Simulador!$F$50,C307*Simulador!$F$46,\"\")","v":""},{"$f":"IF(B306<Simulador!$F$50,Simulador!$F$48*Simulador!$F$12/12,\"\")","v":""},{"$f":"IF(B306<Simulador!$F$50,C307-D307,\"\")","v":""},{"$f":"IF(B306<Simulador!$F$50,PMT(Simulador!$F$44+Simulador!$F$46,Simulador!$F$50,-Simulador!$F$40)+G307,\"\")","v":""}]
[null,{"$f":"IF(B307<Simulador!$F$50,B307+1,\"\")","v":""},{"$f":"IF(B307<Simulador!$F$50,H307,\"\")","v":""},{"$f":"IF(Tabla1[[#This Row],[Periodo]]=\"\",\"\",IF(B308<=Simulador!$F$50,PPMT(Simulador!$F$44+Simulador!$F$46,Cronograma!B308,Simulador!$F$50,-Simulador!$F$40),\"\"))","v":""},{"$f":"IF(B307<Simulador!$F$50,(IPMT(Simulador!$F$44+Simulador!$F$46,Tabla1[[#This Row],[Periodo]],Simulador!$F$50,-Simulador!$F$40)-Tabla1[[#This Row],[Seguro Desgravamen]]),\"\")","v":""},{"$f":"IF(B307<Simulador!$F$50,C308*Simulador!$F$46,\"\")","v":""},{"$f":"IF(B307<Simulador!$F$50,Simulador!$F$48*Simulador!$F$12/12,\"\")","v":""},{"$f":"IF(B307<Simulador!$F$50,C308-D308,\"\")","v":""},{"$f":"IF(B307<Simulador!$F$50,PMT(Simulador!$F$44+Simulador!$F$46,Simulador!$F$50,-Simulador!$F$40)+G308,\"\")","v":""}]
[null,{"$f":"IF(B308<Simulador!$F$50,B308+1,\"\")","v":""},{"$f":"IF(B308<Simulador!$F$50,H308,\"\")","v":""},{"$f":"IF(Tabla1[[#This Row],[Periodo]]=\"\",\"\",IF(B309<=Simulador!$F$50,PPMT(Simulador!$F$44+Simulador!$F$46,Cronograma!B309,Simulador!$F$50,-Simulador!$F$40),\"\"))","v":""},{"$f":"IF(B308<Simulador!$F$50,(IPMT(Simulador!$F$44+Simulador!$F$46,Tabla1[[#This Row],[Periodo]],Simulador!$F$50,-Simulador!$F$40)-Tabla1[[#This Row],[Seguro Desgravamen]]),\"\")","v":""},{"$f":"IF(B308<Simulador!$F$50,C309*Simulador!$F$46,\"\")","v":""},{"$f":"IF(B308<Simulador!$F$50,Simulador!$F$48*Simulador!$F$12/12,\"\")","v":""},{"$f":"IF(B308<Simulador!$F$50,C309-D309,\"\")","v":""},{"$f":"IF(B308<Simulador!$F$50,PMT(Simulador!$F$44+Simulador!$F$46,Simulador!$F$50,-Simulador!$F$40)+G309,\"\")","v":""}]